| Back to Multiple platform build/check report for BioC 3.9 | 
 | 
This page was generated on 2019-10-16 12:36:29 -0400 (Wed, 16 Oct 2019).
| Package 1621/1741 | Hostname | OS / Arch | INSTALL | BUILD | CHECK | BUILD BIN | ||||||
| switchde 1.10.0 Kieran Campbell 
 | malbec2 | Linux (Ubuntu 18.04.2 LTS) / x86_64 | OK | OK | OK |  | ||||||
| tokay2 | Windows Server 2012 R2 Standard / x64 | OK | [ OK ] | OK | OK |  | ||||||
| celaya2 | OS X 10.11.6 El Capitan / x86_64 | OK | OK | OK | OK |  | 
| Package: switchde | 
| Version: 1.10.0 | 
| Command: chmod a+r switchde -R && C:\Users\biocbuild\bbs-3.9-bioc\R\bin\R.exe CMD build --keep-empty-dirs --no-resave-data switchde | 
| StartedAt: 2019-10-16 00:09:10 -0400 (Wed, 16 Oct 2019) | 
| EndedAt: 2019-10-16 00:10:44 -0400 (Wed, 16 Oct 2019) | 
| EllapsedTime: 94.4 seconds | 
| RetCode: 0 | 
| Status: OK | 
| PackageFile: switchde_1.10.0.tar.gz | 
| PackageFileSize: 485.8 KiB | 
############################################################################## ############################################################################## ### ### Running command: ### ### chmod a+r switchde -R && C:\Users\biocbuild\bbs-3.9-bioc\R\bin\R.exe CMD build --keep-empty-dirs --no-resave-data switchde ### ############################################################################## ############################################################################## * checking for file 'switchde/DESCRIPTION' ... OK * preparing 'switchde': * checking DESCRIPTION meta-information ... OK * installing the package to build vignettes * creating vignettes ... OK * checking for LF line-endings in source and make files and shell scripts * checking for empty or unneeded directories * looking to see if a 'data/datalist' file should be added * building 'switchde_1.10.0.tar.gz'