| Back to Multiple platform build/check report for BioC 3.9 |
|
This page was generated on 2019-10-16 12:36:55 -0400 (Wed, 16 Oct 2019).
| Package 1597/1741 | Hostname | OS / Arch | INSTALL | BUILD | CHECK | BUILD BIN | ||||||
| statTarget 1.14.0 Hemi Luan
| malbec2 | Linux (Ubuntu 18.04.2 LTS) / x86_64 | OK | OK | OK | |||||||
| tokay2 | Windows Server 2012 R2 Standard / x64 | OK | OK | OK | [ OK ] | |||||||
| celaya2 | OS X 10.11.6 El Capitan / x86_64 | OK | OK | OK | OK |
| Package: statTarget |
| Version: 1.14.0 |
| Command: rm -rf statTarget.buildbin-libdir && mkdir statTarget.buildbin-libdir && C:\Users\biocbuild\bbs-3.9-bioc\R\bin\R.exe CMD INSTALL --merge-multiarch --build --library=statTarget.buildbin-libdir statTarget_1.14.0.tar.gz |
| StartedAt: 2019-10-16 10:18:31 -0400 (Wed, 16 Oct 2019) |
| EndedAt: 2019-10-16 10:19:21 -0400 (Wed, 16 Oct 2019) |
| EllapsedTime: 49.7 seconds |
| RetCode: 0 |
| Status: OK |
| PackageFile: statTarget_1.14.0.zip |
| PackageFileSize: 2.128 MiB |
##############################################################################
##############################################################################
###
### Running command:
###
### rm -rf statTarget.buildbin-libdir && mkdir statTarget.buildbin-libdir && C:\Users\biocbuild\bbs-3.9-bioc\R\bin\R.exe CMD INSTALL --merge-multiarch --build --library=statTarget.buildbin-libdir statTarget_1.14.0.tar.gz
###
##############################################################################
##############################################################################
install for i386
* installing *source* package 'statTarget' ...
** using staged installation
** R
** inst
** byte-compile and prepare package for lazy loading
** help
*** installing help indices
converting help for package 'statTarget'
finding HTML links ... done
mdsPlot html
predict_RF html
pvimPlot html
rForest html
shiftCor html
shiftCor_dQC html
statAnalysis html
statTarget-package html
statTargetGUI html
transX html
** building package indices
** installing vignettes
** testing if installed package can be loaded from temporary location
** testing if installed package can be loaded from final location
** testing if installed package keeps a record of temporary installation path
install for x64
* installing *source* package 'statTarget' ...
** testing if installed package can be loaded
* MD5 sums
packaged installation of 'statTarget' as statTarget_1.14.0.zip
* DONE (statTarget)