| Back to Multiple platform build/check report for BioC 3.9 |
|
This page was generated on 2019-10-16 12:28:46 -0400 (Wed, 16 Oct 2019).
| Package 1508/1741 | Hostname | OS / Arch | INSTALL | BUILD | CHECK | BUILD BIN | ||||||
| shinyTANDEM 1.22.0 Frederic Fournier
| malbec2 | Linux (Ubuntu 18.04.2 LTS) / x86_64 | OK | OK | OK | |||||||
| tokay2 | Windows Server 2012 R2 Standard / x64 | OK | [ OK ] | OK | OK | |||||||
| celaya2 | OS X 10.11.6 El Capitan / x86_64 | OK | OK | OK | OK |
| Package: shinyTANDEM |
| Version: 1.22.0 |
| Command: chmod a+r shinyTANDEM -R && C:\Users\biocbuild\bbs-3.9-bioc\R\bin\R.exe CMD build --keep-empty-dirs --no-resave-data shinyTANDEM |
| StartedAt: 2019-10-15 22:40:40 -0400 (Tue, 15 Oct 2019) |
| EndedAt: 2019-10-15 22:40:59 -0400 (Tue, 15 Oct 2019) |
| EllapsedTime: 19.5 seconds |
| RetCode: 0 |
| Status: OK |
| PackageFile: shinyTANDEM_1.22.0.tar.gz |
| PackageFileSize: 594 KiB |
##############################################################################
##############################################################################
###
### Running command:
###
### chmod a+r shinyTANDEM -R && C:\Users\biocbuild\bbs-3.9-bioc\R\bin\R.exe CMD build --keep-empty-dirs --no-resave-data shinyTANDEM
###
##############################################################################
##############################################################################
* checking for file 'shinyTANDEM/DESCRIPTION' ... OK
* preparing 'shinyTANDEM':
* checking DESCRIPTION meta-information ... OK
* installing the package to build vignettes
* creating vignettes ... OK
Warning: 'inst/doc' file
'shinyTANDEM.Rnw'
ignored as vignettes have been rebuilt.
Run R CMD build with --no-build-vignettes to prevent rebuilding.
* checking for LF line-endings in source and make files and shell scripts
* checking for empty or unneeded directories
* building 'shinyTANDEM_1.22.0.tar.gz'