| Back to Multiple platform build/check report for BioC 3.9 |
|
This page was generated on 2019-10-16 12:57:44 -0400 (Wed, 16 Oct 2019).
| Package 1477/1741 | Hostname | OS / Arch | INSTALL | BUILD | CHECK | BUILD BIN | ||||||
| scran 1.12.1 Aaron Lun
| malbec2 | Linux (Ubuntu 18.04.2 LTS) / x86_64 | OK | OK | OK | |||||||
| tokay2 | Windows Server 2012 R2 Standard / x64 | OK | OK | OK | OK | |||||||
| celaya2 | OS X 10.11.6 El Capitan / x86_64 | OK | OK | [ OK ] | OK |
| Package: scran |
| Version: 1.12.1 |
| Command: /Library/Frameworks/R.framework/Versions/Current/Resources/bin/R CMD check --install=check:scran.install-out.txt --library=/Library/Frameworks/R.framework/Versions/Current/Resources/library --no-vignettes --timings scran_1.12.1.tar.gz |
| StartedAt: 2019-10-16 06:39:51 -0400 (Wed, 16 Oct 2019) |
| EndedAt: 2019-10-16 06:54:39 -0400 (Wed, 16 Oct 2019) |
| EllapsedTime: 888.5 seconds |
| RetCode: 0 |
| Status: OK |
| CheckDir: scran.Rcheck |
| Warnings: 0 |
##############################################################################
##############################################################################
###
### Running command:
###
### /Library/Frameworks/R.framework/Versions/Current/Resources/bin/R CMD check --install=check:scran.install-out.txt --library=/Library/Frameworks/R.framework/Versions/Current/Resources/library --no-vignettes --timings scran_1.12.1.tar.gz
###
##############################################################################
##############################################################################
* using log directory ‘/Users/biocbuild/bbs-3.9-bioc/meat/scran.Rcheck’
* using R version 3.6.1 (2019-07-05)
* using platform: x86_64-apple-darwin15.6.0 (64-bit)
* using session charset: UTF-8
* using option ‘--no-vignettes’
* checking for file ‘scran/DESCRIPTION’ ... OK
* this is package ‘scran’ version ‘1.12.1’
* checking package namespace information ... OK
* checking package dependencies ... OK
* checking if this is a source package ... OK
* checking if there is a namespace ... OK
* checking for hidden files and directories ... OK
* checking for portable file names ... OK
* checking for sufficient/correct file permissions ... OK
* checking whether package ‘scran’ can be installed ... OK
* checking installed package size ... OK
* checking package directory ... OK
* checking ‘build’ directory ... OK
* checking DESCRIPTION meta-information ... OK
* checking top-level files ... OK
* checking for left-over files ... OK
* checking index information ... OK
* checking package subdirectories ... OK
* checking R files for non-ASCII characters ... OK
* checking R files for syntax errors ... OK
* checking whether the package can be loaded ... OK
* checking whether the package can be loaded with stated dependencies ... OK
* checking whether the package can be unloaded cleanly ... OK
* checking whether the namespace can be loaded with stated dependencies ... OK
* checking whether the namespace can be unloaded cleanly ... OK
* checking dependencies in R code ... OK
* checking S3 generic/method consistency ... OK
* checking replacement functions ... OK
* checking foreign function calls ... OK
* checking R code for possible problems ... OK
* checking Rd files ... OK
* checking Rd metadata ... OK
* checking Rd cross-references ... OK
* checking for missing documentation entries ... OK
* checking for code/documentation mismatches ... OK
* checking Rd \usage sections ... OK
* checking Rd contents ... OK
* checking for unstated dependencies in examples ... OK
* checking line endings in C/C++/Fortran sources/headers ... OK
* checking line endings in Makefiles ... OK
* checking compilation flags in Makevars ... OK
* checking for GNU extensions in Makefiles ... OK
* checking for portable use of $(BLAS_LIBS) and $(LAPACK_LIBS) ... OK
* checking compiled code ... NOTE
Note: information on .o files is not available
* checking files in ‘vignettes’ ... OK
* checking examples ... OK
Examples with CPU or elapsed time > 5s
user system elapsed
convertTo 6.613 0.347 6.965
* checking for unstated dependencies in ‘tests’ ... OK
* checking tests ...
Running ‘testthat.R’
OK
* checking for unstated dependencies in vignettes ... OK
* checking package vignettes in ‘inst/doc’ ... OK
* checking running R code from vignettes ... SKIPPED
* checking re-building of vignette outputs ... SKIPPED
* checking PDF version of manual ... OK
* DONE
Status: 1 NOTE
See
‘/Users/biocbuild/bbs-3.9-bioc/meat/scran.Rcheck/00check.log’
for details.
scran.Rcheck/00install.out
############################################################################## ############################################################################## ### ### Running command: ### ### /Library/Frameworks/R.framework/Versions/Current/Resources/bin/R CMD INSTALL scran ### ############################################################################## ############################################################################## * installing to library ‘/Library/Frameworks/R.framework/Versions/3.6/Resources/library’ * installing *source* package ‘scran’ ... ** using staged installation ** libs clang++ -std=gnu++11 -I"/Library/Frameworks/R.framework/Resources/include" -DNDEBUG -I"/Library/Frameworks/R.framework/Versions/3.6/Resources/library/Rcpp/include" -I"/Library/Frameworks/R.framework/Versions/3.6/Resources/library/beachmat/include" -I"/Library/Frameworks/R.framework/Versions/3.6/Resources/library/BH/include" -I"/Library/Frameworks/R.framework/Versions/3.6/Resources/library/dqrng/include" -isysroot /Library/Developer/CommandLineTools/SDKs/MacOSX.sdk -I/usr/local/include -fPIC -Wall -g -O2 -c build_snn.cpp -o build_snn.o clang++ -std=gnu++11 -I"/Library/Frameworks/R.framework/Resources/include" -DNDEBUG -I"/Library/Frameworks/R.framework/Versions/3.6/Resources/library/Rcpp/include" -I"/Library/Frameworks/R.framework/Versions/3.6/Resources/library/beachmat/include" -I"/Library/Frameworks/R.framework/Versions/3.6/Resources/library/BH/include" -I"/Library/Frameworks/R.framework/Versions/3.6/Resources/library/dqrng/include" -isysroot /Library/Developer/CommandLineTools/SDKs/MacOSX.sdk -I/usr/local/include -fPIC -Wall -g -O2 -c calc_log_count_stats.cpp -o calc_log_count_stats.o clang++ -std=gnu++11 -I"/Library/Frameworks/R.framework/Resources/include" -DNDEBUG -I"/Library/Frameworks/R.framework/Versions/3.6/Resources/library/Rcpp/include" -I"/Library/Frameworks/R.framework/Versions/3.6/Resources/library/beachmat/include" -I"/Library/Frameworks/R.framework/Versions/3.6/Resources/library/BH/include" -I"/Library/Frameworks/R.framework/Versions/3.6/Resources/library/dqrng/include" -isysroot /Library/Developer/CommandLineTools/SDKs/MacOSX.sdk -I/usr/local/include -fPIC -Wall -g -O2 -c combine_rho.cpp -o combine_rho.o clang++ -std=gnu++11 -I"/Library/Frameworks/R.framework/Resources/include" -DNDEBUG -I"/Library/Frameworks/R.framework/Versions/3.6/Resources/library/Rcpp/include" -I"/Library/Frameworks/R.framework/Versions/3.6/Resources/library/beachmat/include" -I"/Library/Frameworks/R.framework/Versions/3.6/Resources/library/BH/include" -I"/Library/Frameworks/R.framework/Versions/3.6/Resources/library/dqrng/include" -isysroot /Library/Developer/CommandLineTools/SDKs/MacOSX.sdk -I/usr/local/include -fPIC -Wall -g -O2 -c combine_simes.cpp -o combine_simes.o clang++ -std=gnu++11 -I"/Library/Frameworks/R.framework/Resources/include" -DNDEBUG -I"/Library/Frameworks/R.framework/Versions/3.6/Resources/library/Rcpp/include" -I"/Library/Frameworks/R.framework/Versions/3.6/Resources/library/beachmat/include" -I"/Library/Frameworks/R.framework/Versions/3.6/Resources/library/BH/include" -I"/Library/Frameworks/R.framework/Versions/3.6/Resources/library/dqrng/include" -isysroot /Library/Developer/CommandLineTools/SDKs/MacOSX.sdk -I/usr/local/include -fPIC -Wall -g -O2 -c compute_CV2.cpp -o compute_CV2.o clang++ -std=gnu++11 -I"/Library/Frameworks/R.framework/Resources/include" -DNDEBUG -I"/Library/Frameworks/R.framework/Versions/3.6/Resources/library/Rcpp/include" -I"/Library/Frameworks/R.framework/Versions/3.6/Resources/library/beachmat/include" -I"/Library/Frameworks/R.framework/Versions/3.6/Resources/library/BH/include" -I"/Library/Frameworks/R.framework/Versions/3.6/Resources/library/dqrng/include" -isysroot /Library/Developer/CommandLineTools/SDKs/MacOSX.sdk -I/usr/local/include -fPIC -Wall -g -O2 -c compute_rho_null.cpp -o compute_rho_null.o In file included from compute_rho_null.cpp:4: In file included from ./rand_custom.h:6: In file included from /Library/Frameworks/R.framework/Versions/3.6/Resources/library/BH/include/boost/random.hpp:36: In file included from /Library/Frameworks/R.framework/Versions/3.6/Resources/library/BH/include/boost/random/additive_combine.hpp:27: In file included from /Library/Frameworks/R.framework/Versions/3.6/Resources/library/BH/include/boost/random/linear_congruential.hpp:30: In file included from /Library/Frameworks/R.framework/Versions/3.6/Resources/library/BH/include/boost/random/detail/const_mod.hpp:23: In file included from /Library/Frameworks/R.framework/Versions/3.6/Resources/library/BH/include/boost/random/detail/large_arithmetic.hpp:19: In file included from /Library/Frameworks/R.framework/Versions/3.6/Resources/library/BH/include/boost/random/detail/integer_log2.hpp:19: /Library/Frameworks/R.framework/Versions/3.6/Resources/library/BH/include/boost/pending/integer_log2.hpp:7:1: warning: This header is deprecated. Useinstead. [-W#pragma-messages] BOOST_HEADER_DEPRECATED(" "); ^ /Library/Frameworks/R.framework/Versions/3.6/Resources/library/BH/include/boost/config/header_deprecated.hpp:23:37: note: expanded from macro 'BOOST_HEADER_DEPRECATED' # define BOOST_HEADER_DEPRECATED(a) BOOST_PRAGMA_MESSAGE("This header is deprecated. Use " a " instead.") ^ /Library/Frameworks/R.framework/Versions/3.6/Resources/library/BH/include/boost/config/pragma_message.hpp:24:34: note: expanded from macro 'BOOST_PRAGMA_MESSAGE' # define BOOST_PRAGMA_MESSAGE(x) _Pragma(BOOST_STRINGIZE(message(x))) ^ :178:2: note: expanded from here message("This header is deprecated. Use " " " " instead.") ^ 1 warning generated. clang++ -std=gnu++11 -I"/Library/Frameworks/R.framework/Resources/include" -DNDEBUG -I"/Library/Frameworks/R.framework/Versions/3.6/Resources/library/Rcpp/include" -I"/Library/Frameworks/R.framework/Versions/3.6/Resources/library/beachmat/include" -I"/Library/Frameworks/R.framework/Versions/3.6/Resources/library/BH/include" -I"/Library/Frameworks/R.framework/Versions/3.6/Resources/library/dqrng/include" -isysroot /Library/Developer/CommandLineTools/SDKs/MacOSX.sdk -I/usr/local/include -fPIC -Wall -g -O2 -c compute_rho_pairs.cpp -o compute_rho_pairs.o clang++ -std=gnu++11 -I"/Library/Frameworks/R.framework/Resources/include" -DNDEBUG -I"/Library/Frameworks/R.framework/Versions/3.6/Resources/library/Rcpp/include" -I"/Library/Frameworks/R.framework/Versions/3.6/Resources/library/beachmat/include" -I"/Library/Frameworks/R.framework/Versions/3.6/Resources/library/BH/include" -I"/Library/Frameworks/R.framework/Versions/3.6/Resources/library/dqrng/include" -isysroot /Library/Developer/CommandLineTools/SDKs/MacOSX.sdk -I/usr/local/include -fPIC -Wall -g -O2 -c cyclone_scores.cpp -o cyclone_scores.o In file included from cyclone_scores.cpp:7: In file included from ./rand_custom.h:6: In file included from /Library/Frameworks/R.framework/Versions/3.6/Resources/library/BH/include/boost/random.hpp:36: In file included from /Library/Frameworks/R.framework/Versions/3.6/Resources/library/BH/include/boost/random/additive_combine.hpp:27: In file included from /Library/Frameworks/R.framework/Versions/3.6/Resources/library/BH/include/boost/random/linear_congruential.hpp:30: In file included from /Library/Frameworks/R.framework/Versions/3.6/Resources/library/BH/include/boost/random/detail/const_mod.hpp:23: In file included from /Library/Frameworks/R.framework/Versions/3.6/Resources/library/BH/include/boost/random/detail/large_arithmetic.hpp:19: In file included from /Library/Frameworks/R.framework/Versions/3.6/Resources/library/BH/include/boost/random/detail/integer_log2.hpp:19: /Library/Frameworks/R.framework/Versions/3.6/Resources/library/BH/include/boost/pending/integer_log2.hpp:7:1: warning: This header is deprecated. Use instead. [-W#pragma-messages] BOOST_HEADER_DEPRECATED(" "); ^ /Library/Frameworks/R.framework/Versions/3.6/Resources/library/BH/include/boost/config/header_deprecated.hpp:23:37: note: expanded from macro 'BOOST_HEADER_DEPRECATED' # define BOOST_HEADER_DEPRECATED(a) BOOST_PRAGMA_MESSAGE("This header is deprecated. Use " a " instead.") ^ /Library/Frameworks/R.framework/Versions/3.6/Resources/library/BH/include/boost/config/pragma_message.hpp:24:34: note: expanded from macro 'BOOST_PRAGMA_MESSAGE' # define BOOST_PRAGMA_MESSAGE(x) _Pragma(BOOST_STRINGIZE(message(x))) ^ :178:2: note: expanded from here message("This header is deprecated. Use " " " " instead.") ^ 1 warning generated. clang++ -std=gnu++11 -I"/Library/Frameworks/R.framework/Resources/include" -DNDEBUG -I"/Library/Frameworks/R.framework/Versions/3.6/Resources/library/Rcpp/include" -I"/Library/Frameworks/R.framework/Versions/3.6/Resources/library/beachmat/include" -I"/Library/Frameworks/R.framework/Versions/3.6/Resources/library/BH/include" -I"/Library/Frameworks/R.framework/Versions/3.6/Resources/library/dqrng/include" -isysroot /Library/Developer/CommandLineTools/SDKs/MacOSX.sdk -I/usr/local/include -fPIC -Wall -g -O2 -c find_mutual_nns.cpp -o find_mutual_nns.o clang++ -std=gnu++11 -I"/Library/Frameworks/R.framework/Resources/include" -DNDEBUG -I"/Library/Frameworks/R.framework/Versions/3.6/Resources/library/Rcpp/include" -I"/Library/Frameworks/R.framework/Versions/3.6/Resources/library/beachmat/include" -I"/Library/Frameworks/R.framework/Versions/3.6/Resources/library/BH/include" -I"/Library/Frameworks/R.framework/Versions/3.6/Resources/library/dqrng/include" -isysroot /Library/Developer/CommandLineTools/SDKs/MacOSX.sdk -I/usr/local/include -fPIC -Wall -g -O2 -c fit_linear_model.cpp -o fit_linear_model.o clang++ -std=gnu++11 -I"/Library/Frameworks/R.framework/Resources/include" -DNDEBUG -I"/Library/Frameworks/R.framework/Versions/3.6/Resources/library/Rcpp/include" -I"/Library/Frameworks/R.framework/Versions/3.6/Resources/library/beachmat/include" -I"/Library/Frameworks/R.framework/Versions/3.6/Resources/library/BH/include" -I"/Library/Frameworks/R.framework/Versions/3.6/Resources/library/dqrng/include" -isysroot /Library/Developer/CommandLineTools/SDKs/MacOSX.sdk -I/usr/local/include -fPIC -Wall -g -O2 -c get_residuals.cpp -o get_residuals.o clang++ -std=gnu++11 -I"/Library/Frameworks/R.framework/Resources/include" -DNDEBUG -I"/Library/Frameworks/R.framework/Versions/3.6/Resources/library/Rcpp/include" -I"/Library/Frameworks/R.framework/Versions/3.6/Resources/library/beachmat/include" -I"/Library/Frameworks/R.framework/Versions/3.6/Resources/library/BH/include" -I"/Library/Frameworks/R.framework/Versions/3.6/Resources/library/dqrng/include" -isysroot /Library/Developer/CommandLineTools/SDKs/MacOSX.sdk -I/usr/local/include -fPIC -Wall -g -O2 -c get_scaled_ranks.cpp -o get_scaled_ranks.o get_scaled_ranks.cpp:67:16: warning: unused variable 'accumulated_rank' [-Wunused-variable] double accumulated_rank=0; ^ 1 warning generated. clang++ -std=gnu++11 -I"/Library/Frameworks/R.framework/Resources/include" -DNDEBUG -I"/Library/Frameworks/R.framework/Versions/3.6/Resources/library/Rcpp/include" -I"/Library/Frameworks/R.framework/Versions/3.6/Resources/library/beachmat/include" -I"/Library/Frameworks/R.framework/Versions/3.6/Resources/library/BH/include" -I"/Library/Frameworks/R.framework/Versions/3.6/Resources/library/dqrng/include" -isysroot /Library/Developer/CommandLineTools/SDKs/MacOSX.sdk -I/usr/local/include -fPIC -Wall -g -O2 -c init.cpp -o init.o clang++ -std=gnu++11 -I"/Library/Frameworks/R.framework/Resources/include" -DNDEBUG -I"/Library/Frameworks/R.framework/Versions/3.6/Resources/library/Rcpp/include" -I"/Library/Frameworks/R.framework/Versions/3.6/Resources/library/beachmat/include" -I"/Library/Frameworks/R.framework/Versions/3.6/Resources/library/BH/include" -I"/Library/Frameworks/R.framework/Versions/3.6/Resources/library/dqrng/include" -isysroot /Library/Developer/CommandLineTools/SDKs/MacOSX.sdk -I/usr/local/include -fPIC -Wall -g -O2 -c overlap_exprs.cpp -o overlap_exprs.o clang++ -std=gnu++11 -I"/Library/Frameworks/R.framework/Resources/include" -DNDEBUG -I"/Library/Frameworks/R.framework/Versions/3.6/Resources/library/Rcpp/include" -I"/Library/Frameworks/R.framework/Versions/3.6/Resources/library/beachmat/include" -I"/Library/Frameworks/R.framework/Versions/3.6/Resources/library/BH/include" -I"/Library/Frameworks/R.framework/Versions/3.6/Resources/library/dqrng/include" -isysroot /Library/Developer/CommandLineTools/SDKs/MacOSX.sdk -I/usr/local/include -fPIC -Wall -g -O2 -c pool_size_factors.cpp -o pool_size_factors.o clang++ -std=gnu++11 -I"/Library/Frameworks/R.framework/Resources/include" -DNDEBUG -I"/Library/Frameworks/R.framework/Versions/3.6/Resources/library/Rcpp/include" -I"/Library/Frameworks/R.framework/Versions/3.6/Resources/library/beachmat/include" -I"/Library/Frameworks/R.framework/Versions/3.6/Resources/library/BH/include" -I"/Library/Frameworks/R.framework/Versions/3.6/Resources/library/dqrng/include" -isysroot /Library/Developer/CommandLineTools/SDKs/MacOSX.sdk -I/usr/local/include -fPIC -Wall -g -O2 -c rand_custom.cpp -o rand_custom.o In file included from rand_custom.cpp:1: In file included from ./rand_custom.h:6: In file included from /Library/Frameworks/R.framework/Versions/3.6/Resources/library/BH/include/boost/random.hpp:36: In file included from /Library/Frameworks/R.framework/Versions/3.6/Resources/library/BH/include/boost/random/additive_combine.hpp:27: In file included from /Library/Frameworks/R.framework/Versions/3.6/Resources/library/BH/include/boost/random/linear_congruential.hpp:30: In file included from /Library/Frameworks/R.framework/Versions/3.6/Resources/library/BH/include/boost/random/detail/const_mod.hpp:23: In file included from /Library/Frameworks/R.framework/Versions/3.6/Resources/library/BH/include/boost/random/detail/large_arithmetic.hpp:19: In file included from /Library/Frameworks/R.framework/Versions/3.6/Resources/library/BH/include/boost/random/detail/integer_log2.hpp:19: /Library/Frameworks/R.framework/Versions/3.6/Resources/library/BH/include/boost/pending/integer_log2.hpp:7:1: warning: This header is deprecated. Use instead. [-W#pragma-messages] BOOST_HEADER_DEPRECATED(" "); ^ /Library/Frameworks/R.framework/Versions/3.6/Resources/library/BH/include/boost/config/header_deprecated.hpp:23:37: note: expanded from macro 'BOOST_HEADER_DEPRECATED' # define BOOST_HEADER_DEPRECATED(a) BOOST_PRAGMA_MESSAGE("This header is deprecated. Use " a " instead.") ^ /Library/Frameworks/R.framework/Versions/3.6/Resources/library/BH/include/boost/config/pragma_message.hpp:24:34: note: expanded from macro 'BOOST_PRAGMA_MESSAGE' # define BOOST_PRAGMA_MESSAGE(x) _Pragma(BOOST_STRINGIZE(message(x))) ^ :178:2: note: expanded from here message("This header is deprecated. Use " " " " instead.") ^ 1 warning generated. clang++ -std=gnu++11 -I"/Library/Frameworks/R.framework/Resources/include" -DNDEBUG -I"/Library/Frameworks/R.framework/Versions/3.6/Resources/library/Rcpp/include" -I"/Library/Frameworks/R.framework/Versions/3.6/Resources/library/beachmat/include" -I"/Library/Frameworks/R.framework/Versions/3.6/Resources/library/BH/include" -I"/Library/Frameworks/R.framework/Versions/3.6/Resources/library/dqrng/include" -isysroot /Library/Developer/CommandLineTools/SDKs/MacOSX.sdk -I/usr/local/include -fPIC -Wall -g -O2 -c run_dormqr.cpp -o run_dormqr.o clang++ -std=gnu++11 -I"/Library/Frameworks/R.framework/Resources/include" -DNDEBUG -I"/Library/Frameworks/R.framework/Versions/3.6/Resources/library/Rcpp/include" -I"/Library/Frameworks/R.framework/Versions/3.6/Resources/library/beachmat/include" -I"/Library/Frameworks/R.framework/Versions/3.6/Resources/library/BH/include" -I"/Library/Frameworks/R.framework/Versions/3.6/Resources/library/dqrng/include" -isysroot /Library/Developer/CommandLineTools/SDKs/MacOSX.sdk -I/usr/local/include -fPIC -Wall -g -O2 -c shuffle_matrix.cpp -o shuffle_matrix.o In file included from shuffle_matrix.cpp:7: In file included from ./rand_custom.h:6: In file included from /Library/Frameworks/R.framework/Versions/3.6/Resources/library/BH/include/boost/random.hpp:36: In file included from /Library/Frameworks/R.framework/Versions/3.6/Resources/library/BH/include/boost/random/additive_combine.hpp:27: In file included from /Library/Frameworks/R.framework/Versions/3.6/Resources/library/BH/include/boost/random/linear_congruential.hpp:30: In file included from /Library/Frameworks/R.framework/Versions/3.6/Resources/library/BH/include/boost/random/detail/const_mod.hpp:23: In file included from /Library/Frameworks/R.framework/Versions/3.6/Resources/library/BH/include/boost/random/detail/large_arithmetic.hpp:19: In file included from /Library/Frameworks/R.framework/Versions/3.6/Resources/library/BH/include/boost/random/detail/integer_log2.hpp:19: /Library/Frameworks/R.framework/Versions/3.6/Resources/library/BH/include/boost/pending/integer_log2.hpp:7:1: warning: This header is deprecated. Use instead. [-W#pragma-messages] BOOST_HEADER_DEPRECATED(" "); ^ /Library/Frameworks/R.framework/Versions/3.6/Resources/library/BH/include/boost/config/header_deprecated.hpp:23:37: note: expanded from macro 'BOOST_HEADER_DEPRECATED' # define BOOST_HEADER_DEPRECATED(a) BOOST_PRAGMA_MESSAGE("This header is deprecated. Use " a " instead.") ^ /Library/Frameworks/R.framework/Versions/3.6/Resources/library/BH/include/boost/config/pragma_message.hpp:24:34: note: expanded from macro 'BOOST_PRAGMA_MESSAGE' # define BOOST_PRAGMA_MESSAGE(x) _Pragma(BOOST_STRINGIZE(message(x))) ^ :178:2: note: expanded from here message("This header is deprecated. Use " " " " instead.") ^ 1 warning generated. clang++ -std=gnu++11 -I"/Library/Frameworks/R.framework/Resources/include" -DNDEBUG -I"/Library/Frameworks/R.framework/Versions/3.6/Resources/library/Rcpp/include" -I"/Library/Frameworks/R.framework/Versions/3.6/Resources/library/beachmat/include" -I"/Library/Frameworks/R.framework/Versions/3.6/Resources/library/BH/include" -I"/Library/Frameworks/R.framework/Versions/3.6/Resources/library/dqrng/include" -isysroot /Library/Developer/CommandLineTools/SDKs/MacOSX.sdk -I/usr/local/include -fPIC -Wall -g -O2 -c subset_and_divide.cpp -o subset_and_divide.o clang++ -std=gnu++11 -I"/Library/Frameworks/R.framework/Resources/include" -DNDEBUG -I"/Library/Frameworks/R.framework/Versions/3.6/Resources/library/Rcpp/include" -I"/Library/Frameworks/R.framework/Versions/3.6/Resources/library/beachmat/include" -I"/Library/Frameworks/R.framework/Versions/3.6/Resources/library/BH/include" -I"/Library/Frameworks/R.framework/Versions/3.6/Resources/library/dqrng/include" -isysroot /Library/Developer/CommandLineTools/SDKs/MacOSX.sdk -I/usr/local/include -fPIC -Wall -g -O2 -c test_shuffle.cpp -o test_shuffle.o In file included from test_shuffle.cpp:3: In file included from ./rand_custom.h:6: In file included from /Library/Frameworks/R.framework/Versions/3.6/Resources/library/BH/include/boost/random.hpp:36: In file included from /Library/Frameworks/R.framework/Versions/3.6/Resources/library/BH/include/boost/random/additive_combine.hpp:27: In file included from /Library/Frameworks/R.framework/Versions/3.6/Resources/library/BH/include/boost/random/linear_congruential.hpp:30: In file included from /Library/Frameworks/R.framework/Versions/3.6/Resources/library/BH/include/boost/random/detail/const_mod.hpp:23: In file included from /Library/Frameworks/R.framework/Versions/3.6/Resources/library/BH/include/boost/random/detail/large_arithmetic.hpp:19: In file included from /Library/Frameworks/R.framework/Versions/3.6/Resources/library/BH/include/boost/random/detail/integer_log2.hpp:19: /Library/Frameworks/R.framework/Versions/3.6/Resources/library/BH/include/boost/pending/integer_log2.hpp:7:1: warning: This header is deprecated. Use instead. [-W#pragma-messages] BOOST_HEADER_DEPRECATED(" "); ^ /Library/Frameworks/R.framework/Versions/3.6/Resources/library/BH/include/boost/config/header_deprecated.hpp:23:37: note: expanded from macro 'BOOST_HEADER_DEPRECATED' # define BOOST_HEADER_DEPRECATED(a) BOOST_PRAGMA_MESSAGE("This header is deprecated. Use " a " instead.") ^ /Library/Frameworks/R.framework/Versions/3.6/Resources/library/BH/include/boost/config/pragma_message.hpp:24:34: note: expanded from macro 'BOOST_PRAGMA_MESSAGE' # define BOOST_PRAGMA_MESSAGE(x) _Pragma(BOOST_STRINGIZE(message(x))) ^ :178:2: note: expanded from here message("This header is deprecated. Use " " " " instead.") ^ 1 warning generated. clang++ -std=gnu++11 -I"/Library/Frameworks/R.framework/Resources/include" -DNDEBUG -I"/Library/Frameworks/R.framework/Versions/3.6/Resources/library/Rcpp/include" -I"/Library/Frameworks/R.framework/Versions/3.6/Resources/library/beachmat/include" -I"/Library/Frameworks/R.framework/Versions/3.6/Resources/library/BH/include" -I"/Library/Frameworks/R.framework/Versions/3.6/Resources/library/dqrng/include" -isysroot /Library/Developer/CommandLineTools/SDKs/MacOSX.sdk -I/usr/local/include -fPIC -Wall -g -O2 -c utils.cpp -o utils.o clang++ -std=gnu++11 -dynamiclib -Wl,-headerpad_max_install_names -undefined dynamic_lookup -single_module -multiply_defined suppress -L/Library/Frameworks/R.framework/Resources/lib -L/usr/local/lib -o scran.so build_snn.o calc_log_count_stats.o combine_rho.o combine_simes.o compute_CV2.o compute_rho_null.o compute_rho_pairs.o cyclone_scores.o find_mutual_nns.o fit_linear_model.o get_residuals.o get_scaled_ranks.o init.o overlap_exprs.o pool_size_factors.o rand_custom.o run_dormqr.o shuffle_matrix.o subset_and_divide.o test_shuffle.o utils.o -L/Library/Frameworks/R.framework/Resources/lib -lRlapack -L/Library/Frameworks/R.framework/Resources/lib -lRblas -L/usr/local/gfortran/lib/gcc/x86_64-apple-darwin15/6.1.0 -L/usr/local/gfortran/lib -lgfortran -lquadmath -lm -F/Library/Frameworks/R.framework/.. -framework R -Wl,-framework -Wl,CoreFoundation installing to /Library/Frameworks/R.framework/Versions/3.6/Resources/library/00LOCK-scran/00new/scran/libs ** R ** inst ** byte-compile and prepare package for lazy loading ** help *** installing help indices ** building package indices ** installing vignettes ** testing if installed package can be loaded from temporary location ** checking absolute paths in shared objects and dynamic libraries ** testing if installed package can be loaded from final location ** testing if installed package keeps a record of temporary installation path * DONE (scran)
scran.Rcheck/tests/testthat.Rout
R version 3.6.1 (2019-07-05) -- "Action of the Toes"
Copyright (C) 2019 The R Foundation for Statistical Computing
Platform: x86_64-apple-darwin15.6.0 (64-bit)
R is free software and comes with ABSOLUTELY NO WARRANTY.
You are welcome to redistribute it under certain conditions.
Type 'license()' or 'licence()' for distribution details.
R is a collaborative project with many contributors.
Type 'contributors()' for more information and
'citation()' on how to cite R or R packages in publications.
Type 'demo()' for some demos, 'help()' for on-line help, or
'help.start()' for an HTML browser interface to help.
Type 'q()' to quit R.
> library(testthat)
> library(scran)
Loading required package: SingleCellExperiment
Loading required package: SummarizedExperiment
Loading required package: GenomicRanges
Loading required package: stats4
Loading required package: BiocGenerics
Loading required package: parallel
Attaching package: 'BiocGenerics'
The following objects are masked from 'package:parallel':
clusterApply, clusterApplyLB, clusterCall, clusterEvalQ,
clusterExport, clusterMap, parApply, parCapply, parLapply,
parLapplyLB, parRapply, parSapply, parSapplyLB
The following objects are masked from 'package:stats':
IQR, mad, sd, var, xtabs
The following objects are masked from 'package:base':
Filter, Find, Map, Position, Reduce, anyDuplicated, append,
as.data.frame, basename, cbind, colnames, dirname, do.call,
duplicated, eval, evalq, get, grep, grepl, intersect, is.unsorted,
lapply, mapply, match, mget, order, paste, pmax, pmax.int, pmin,
pmin.int, rank, rbind, rownames, sapply, setdiff, sort, table,
tapply, union, unique, unsplit, which, which.max, which.min
Loading required package: S4Vectors
Attaching package: 'S4Vectors'
The following object is masked from 'package:base':
expand.grid
Loading required package: IRanges
Loading required package: GenomeInfoDb
Loading required package: Biobase
Welcome to Bioconductor
Vignettes contain introductory material; view with
'browseVignettes()'. To cite Bioconductor, see
'citation("Biobase")', and for packages 'citation("pkgname")'.
Loading required package: DelayedArray
Loading required package: matrixStats
Attaching package: 'matrixStats'
The following objects are masked from 'package:Biobase':
anyMissing, rowMedians
Loading required package: BiocParallel
Attaching package: 'DelayedArray'
The following objects are masked from 'package:matrixStats':
colMaxs, colMins, colRanges, rowMaxs, rowMins, rowRanges
The following objects are masked from 'package:base':
aperm, apply, rowsum
> test_check("scran")
══ testthat results ═══════════════════════════════════════════════════════════
[ OK: 11722 | SKIPPED: 0 | WARNINGS: 305 | FAILED: 0 ]
>
> proc.time()
user system elapsed
433.375 47.590 477.398
scran.Rcheck/scran-Ex.timings
| name | user | system | elapsed | |
| DM | 0.066 | 0.007 | 0.073 | |
| buildSNNGraph | 1.684 | 0.062 | 1.754 | |
| cleanSizeFactors | 0.038 | 0.001 | 0.041 | |
| clusterModularity | 0.385 | 0.043 | 0.430 | |
| combineMarkers | 2.181 | 0.082 | 2.265 | |
| combinePValues | 0.029 | 0.012 | 0.043 | |
| combineVar | 1.720 | 0.059 | 1.780 | |
| computeSpikeFactors | 0.964 | 0.032 | 0.996 | |
| computeSumFactors | 2.038 | 0.092 | 2.131 | |
| convertTo | 6.613 | 0.347 | 6.965 | |
| correlateGenes | 0.388 | 0.009 | 0.398 | |
| correlatePairs | 0.378 | 0.009 | 0.388 | |
| cosineNorm | 0.006 | 0.000 | 0.007 | |
| cyclone | 0.355 | 0.007 | 0.366 | |
| decomposeVar | 1.422 | 0.097 | 1.520 | |
| denoisePCA | 0.094 | 0.006 | 0.100 | |
| doubletCells | 2.059 | 0.139 | 2.200 | |
| doubletCluster | 0.703 | 0.006 | 0.710 | |
| fastMNN | 0.001 | 0.000 | 0.001 | |
| findMarkers | 1.674 | 0.041 | 1.715 | |
| improvedCV2 | 0.473 | 0.018 | 0.491 | |
| makeTechTrend | 0.044 | 0.004 | 0.048 | |
| mnnCorrect | 0.000 | 0.001 | 0.001 | |
| multiBatchNorm | 0.001 | 0.000 | 0.000 | |
| multiBatchPCA | 0.000 | 0.000 | 0.001 | |
| multiBlockNorm | 1.022 | 0.059 | 1.083 | |
| multiBlockVar | 2.269 | 0.091 | 2.361 | |
| overlapExprs | 0.631 | 0.007 | 0.640 | |
| pairwiseTTests | 0.895 | 0.062 | 0.958 | |
| pairwiseWilcox | 0.923 | 0.010 | 0.935 | |
| parallelPCA | 2.174 | 0.397 | 2.571 | |
| quickCluster | 1.070 | 0.048 | 1.119 | |
| sandbag | 0.196 | 0.004 | 0.199 | |
| scaledColRanks | 0.130 | 0.010 | 0.139 | |
| technicalCV2 | 0.427 | 0.070 | 0.497 | |
| testVar | 0.053 | 0.007 | 0.062 | |
| trendVar | 1.832 | 0.082 | 1.915 | |