| Back to Multiple platform build/check report for BioC 3.9 |
|
This page was generated on 2019-10-16 12:40:14 -0400 (Wed, 16 Oct 2019).
| Package 1466/1741 | Hostname | OS / Arch | INSTALL | BUILD | CHECK | BUILD BIN | ||||||
| scFeatureFilter 1.4.0 Guillaume Devailly
| malbec2 | Linux (Ubuntu 18.04.2 LTS) / x86_64 | OK | OK | OK | |||||||
| tokay2 | Windows Server 2012 R2 Standard / x64 | OK | OK | [ OK ] | OK | |||||||
| celaya2 | OS X 10.11.6 El Capitan / x86_64 | OK | OK | OK | OK |
| Package: scFeatureFilter |
| Version: 1.4.0 |
| Command: C:\Users\biocbuild\bbs-3.9-bioc\R\bin\R.exe CMD check --force-multiarch --install=check:scFeatureFilter.install-out.txt --library=C:\Users\biocbuild\bbs-3.9-bioc\R\library --no-vignettes --timings scFeatureFilter_1.4.0.tar.gz |
| StartedAt: 2019-10-16 06:55:12 -0400 (Wed, 16 Oct 2019) |
| EndedAt: 2019-10-16 06:58:07 -0400 (Wed, 16 Oct 2019) |
| EllapsedTime: 175.9 seconds |
| RetCode: 0 |
| Status: OK |
| CheckDir: scFeatureFilter.Rcheck |
| Warnings: 0 |
##############################################################################
##############################################################################
###
### Running command:
###
### C:\Users\biocbuild\bbs-3.9-bioc\R\bin\R.exe CMD check --force-multiarch --install=check:scFeatureFilter.install-out.txt --library=C:\Users\biocbuild\bbs-3.9-bioc\R\library --no-vignettes --timings scFeatureFilter_1.4.0.tar.gz
###
##############################################################################
##############################################################################
* using log directory 'C:/Users/biocbuild/bbs-3.9-bioc/meat/scFeatureFilter.Rcheck'
* using R version 3.6.1 (2019-07-05)
* using platform: x86_64-w64-mingw32 (64-bit)
* using session charset: ISO8859-1
* using option '--no-vignettes'
* checking for file 'scFeatureFilter/DESCRIPTION' ... OK
* checking extension type ... Package
* this is package 'scFeatureFilter' version '1.4.0'
* checking package namespace information ... OK
* checking package dependencies ... OK
* checking if this is a source package ... OK
* checking if there is a namespace ... OK
* checking for hidden files and directories ... OK
* checking for portable file names ... OK
* checking whether package 'scFeatureFilter' can be installed ... OK
* checking installed package size ... OK
* checking package directory ... OK
* checking 'build' directory ... OK
* checking DESCRIPTION meta-information ... OK
* checking top-level files ... OK
* checking for left-over files ... OK
* checking index information ... OK
* checking package subdirectories ... OK
* checking R files for non-ASCII characters ... OK
* checking R files for syntax errors ... OK
* loading checks for arch 'i386'
** checking whether the package can be loaded ... OK
** checking whether the package can be loaded with stated dependencies ... OK
** checking whether the package can be unloaded cleanly ... OK
** checking whether the namespace can be loaded with stated dependencies ... OK
** checking whether the namespace can be unloaded cleanly ... OK
* loading checks for arch 'x64'
** checking whether the package can be loaded ... OK
** checking whether the package can be loaded with stated dependencies ... OK
** checking whether the package can be unloaded cleanly ... OK
** checking whether the namespace can be loaded with stated dependencies ... OK
** checking whether the namespace can be unloaded cleanly ... OK
* checking dependencies in R code ... OK
* checking S3 generic/method consistency ... OK
* checking replacement functions ... OK
* checking foreign function calls ... OK
* checking R code for possible problems ... OK
* checking Rd files ... OK
* checking Rd metadata ... OK
* checking Rd cross-references ... OK
* checking for missing documentation entries ... OK
* checking for code/documentation mismatches ... OK
* checking Rd \usage sections ... OK
* checking Rd contents ... OK
* checking for unstated dependencies in examples ... OK
* checking contents of 'data' directory ... OK
* checking data for non-ASCII characters ... OK
* checking data for ASCII and uncompressed saves ... OK
* checking files in 'vignettes' ... OK
* checking examples ...
** running examples for arch 'i386' ... OK
Examples with CPU or elapsed time > 5s
user system elapsed
plot_correlations_distributions 15.62 2.30 17.94
sc_feature_filter 8.86 1.62 10.50
plot_metric 7.86 0.96 8.82
plot_mean_variance 5.58 0.37 5.96
bin_scdata 4.94 0.34 5.28
** running examples for arch 'x64' ... OK
Examples with CPU or elapsed time > 5s
user system elapsed
plot_correlations_distributions 19.89 2.44 22.33
plot_metric 8.04 1.47 9.52
sc_feature_filter 8.19 1.26 9.45
bin_scdata 6.33 0.28 6.61
plot_mean_variance 5.28 0.40 5.68
* checking for unstated dependencies in 'tests' ... OK
* checking tests ...
** running tests for arch 'i386' ...
Running 'testthat.R'
OK
** running tests for arch 'x64' ...
Running 'testthat.R'
OK
* checking for unstated dependencies in vignettes ... OK
* checking package vignettes in 'inst/doc' ... OK
* checking running R code from vignettes ... SKIPPED
* checking re-building of vignette outputs ... SKIPPED
* checking PDF version of manual ... OK
* DONE
Status: OK
scFeatureFilter.Rcheck/00install.out
##############################################################################
##############################################################################
###
### Running command:
###
### C:\cygwin\bin\curl.exe -O https://malbec2.bioconductor.org/BBS/3.9/bioc/src/contrib/scFeatureFilter_1.4.0.tar.gz && rm -rf scFeatureFilter.buildbin-libdir && mkdir scFeatureFilter.buildbin-libdir && C:\Users\biocbuild\bbs-3.9-bioc\R\bin\R.exe CMD INSTALL --merge-multiarch --build --library=scFeatureFilter.buildbin-libdir scFeatureFilter_1.4.0.tar.gz && C:\Users\biocbuild\bbs-3.9-bioc\R\bin\R.exe CMD INSTALL scFeatureFilter_1.4.0.zip && rm scFeatureFilter_1.4.0.tar.gz scFeatureFilter_1.4.0.zip
###
##############################################################################
##############################################################################
% Total % Received % Xferd Average Speed Time Time Time Current
Dload Upload Total Spent Left Speed
0 0 0 0 0 0 0 0 --:--:-- --:--:-- --:--:-- 0
100 2918k 100 2918k 0 0 11.7M 0 --:--:-- --:--:-- --:--:-- 12.1M
install for i386
* installing *source* package 'scFeatureFilter' ...
** using staged installation
** R
** data
*** moving datasets to lazyload DB
** inst
** byte-compile and prepare package for lazy loading
** help
*** installing help indices
converting help for package 'scFeatureFilter'
finding HTML links ... done
bin_scdata html
calculate_cvs html
correlate_windows html
correlations_to_densities html
finding level-2 HTML links ... done
define_top_genes html
determine_bin_cutoff html
filter_expression_table html
get_mean_median html
plot_correlations_distributions html
plot_mean_variance html
plot_metric html
plot_top_window_autocor html
scData_hESC html
sc_feature_filter html
** building package indices
** installing vignettes
** testing if installed package can be loaded from temporary location
** testing if installed package can be loaded from final location
** testing if installed package keeps a record of temporary installation path
install for x64
* installing *source* package 'scFeatureFilter' ...
** testing if installed package can be loaded
* MD5 sums
packaged installation of 'scFeatureFilter' as scFeatureFilter_1.4.0.zip
* DONE (scFeatureFilter)
* installing to library 'C:/Users/biocbuild/bbs-3.9-bioc/R/library'
package 'scFeatureFilter' successfully unpacked and MD5 sums checked
|
scFeatureFilter.Rcheck/tests_i386/testthat.Rout
R version 3.6.1 (2019-07-05) -- "Action of the Toes"
Copyright (C) 2019 The R Foundation for Statistical Computing
Platform: i386-w64-mingw32/i386 (32-bit)
R is free software and comes with ABSOLUTELY NO WARRANTY.
You are welcome to redistribute it under certain conditions.
Type 'license()' or 'licence()' for distribution details.
R is a collaborative project with many contributors.
Type 'contributors()' for more information and
'citation()' on how to cite R or R packages in publications.
Type 'demo()' for some demos, 'help()' for on-line help, or
'help.start()' for an HTML browser interface to help.
Type 'q()' to quit R.
> library(testthat)
> library(dplyr)
Attaching package: 'dplyr'
The following object is masked from 'package:testthat':
matches
The following objects are masked from 'package:stats':
filter, lag
The following objects are masked from 'package:base':
intersect, setdiff, setequal, union
> library(scFeatureFilter)
>
> test_check("scFeatureFilter")
== testthat results ===========================================================
[ OK: 34 | SKIPPED: 0 | WARNINGS: 0 | FAILED: 0 ]
>
> proc.time()
user system elapsed
6.67 0.45 7.10
|
scFeatureFilter.Rcheck/tests_x64/testthat.Rout
R version 3.6.1 (2019-07-05) -- "Action of the Toes"
Copyright (C) 2019 The R Foundation for Statistical Computing
Platform: x86_64-w64-mingw32/x64 (64-bit)
R is free software and comes with ABSOLUTELY NO WARRANTY.
You are welcome to redistribute it under certain conditions.
Type 'license()' or 'licence()' for distribution details.
R is a collaborative project with many contributors.
Type 'contributors()' for more information and
'citation()' on how to cite R or R packages in publications.
Type 'demo()' for some demos, 'help()' for on-line help, or
'help.start()' for an HTML browser interface to help.
Type 'q()' to quit R.
> library(testthat)
> library(dplyr)
Attaching package: 'dplyr'
The following object is masked from 'package:testthat':
matches
The following objects are masked from 'package:stats':
filter, lag
The following objects are masked from 'package:base':
intersect, setdiff, setequal, union
> library(scFeatureFilter)
>
> test_check("scFeatureFilter")
== testthat results ===========================================================
[ OK: 34 | SKIPPED: 0 | WARNINGS: 0 | FAILED: 0 ]
>
> proc.time()
user system elapsed
8.25 0.35 8.61
|
|
scFeatureFilter.Rcheck/examples_i386/scFeatureFilter-Ex.timings
|
scFeatureFilter.Rcheck/examples_x64/scFeatureFilter-Ex.timings
|