| Back to Multiple platform build/check report for BioC 3.9 |
|
This page was generated on 2019-10-16 12:44:07 -0400 (Wed, 16 Oct 2019).
| Package 1459/1741 | Hostname | OS / Arch | INSTALL | BUILD | CHECK | BUILD BIN | ||||||
| scAlign 1.0.0 Nelson Johansen
| malbec2 | Linux (Ubuntu 18.04.2 LTS) / x86_64 | OK | OK | WARNINGS | |||||||
| tokay2 | Windows Server 2012 R2 Standard / x64 | ERROR | [ ERROR ] | skipped | skipped | |||||||
| celaya2 | OS X 10.11.6 El Capitan / x86_64 | OK | OK | OK | OK |
| Package: scAlign |
| Version: 1.0.0 |
| Command: chmod a+r scAlign -R && C:\Users\biocbuild\bbs-3.9-bioc\R\bin\R.exe CMD build --keep-empty-dirs --no-resave-data scAlign |
| StartedAt: 2019-10-16 01:36:05 -0400 (Wed, 16 Oct 2019) |
| EndedAt: 2019-10-16 01:36:32 -0400 (Wed, 16 Oct 2019) |
| EllapsedTime: 27.1 seconds |
| RetCode: 1 |
| Status: ERROR |
| PackageFile: scAlign_1.0.0.tar.gz |
| PackageFileSize: 634.3 KiB |
##############################################################################
##############################################################################
###
### Running command:
###
### chmod a+r scAlign -R && C:\Users\biocbuild\bbs-3.9-bioc\R\bin\R.exe CMD build --keep-empty-dirs --no-resave-data scAlign
###
##############################################################################
##############################################################################
* checking for file 'scAlign/DESCRIPTION' ... OK
* preparing 'scAlign':
* checking DESCRIPTION meta-information ... OK
* installing the package to build vignettes
-----------------------------------
* installing *source* package 'scAlign' ...
** using staged installation
** R
** data
** byte-compile and prepare package for lazy loading
Error: .onLoad failed in loadNamespace() for 'tensorflow', details:
call: py_module_import(module, convert = convert)
error: ImportError: No module named tensorflow
Execution halted
ERROR: lazy loading failed for package 'scAlign'
* removing 'C:/Users/biocbuild/bbs-3.9-bioc/tmpdir/Rtmpe0rZBT/Rinst1b183cfa7f3c/scAlign'
-----------------------------------
ERROR: package installation failed