| Back to Multiple platform build/check report for BioC 3.9 |
|
This page was generated on 2019-10-16 12:46:40 -0400 (Wed, 16 Oct 2019).
| Package 1421/1741 | Hostname | OS / Arch | INSTALL | BUILD | CHECK | BUILD BIN | ||||||
| rsbml 2.42.0 Michael Lawrence
| malbec2 | Linux (Ubuntu 18.04.2 LTS) / x86_64 | OK | OK | WARNINGS | |||||||
| tokay2 | Windows Server 2012 R2 Standard / x64 | OK | OK | WARNINGS | OK | |||||||
| celaya2 | OS X 10.11.6 El Capitan / x86_64 | OK | [ OK ] | WARNINGS | OK |
| Package: rsbml |
| Version: 2.42.0 |
| Command: /Library/Frameworks/R.framework/Versions/Current/Resources/bin/R CMD build --keep-empty-dirs --no-resave-data rsbml |
| StartedAt: 2019-10-15 19:55:27 -0400 (Tue, 15 Oct 2019) |
| EndedAt: 2019-10-15 19:56:04 -0400 (Tue, 15 Oct 2019) |
| EllapsedTime: 37.2 seconds |
| RetCode: 0 |
| Status: OK |
| PackageFile: rsbml_2.42.0.tar.gz |
| PackageFileSize: 560.2 KiB |
############################################################################## ############################################################################## ### ### Running command: ### ### /Library/Frameworks/R.framework/Versions/Current/Resources/bin/R CMD build --keep-empty-dirs --no-resave-data rsbml ### ############################################################################## ############################################################################## * checking for file ‘rsbml/DESCRIPTION’ ... OK * preparing ‘rsbml’: * checking DESCRIPTION meta-information ... OK * cleaning src * installing the package to build vignettes * creating vignettes ... OK * cleaning src * checking for LF line-endings in source and make files and shell scripts * checking for empty or unneeded directories * building ‘rsbml_2.42.0.tar.gz’