| Back to Multiple platform build/check report for BioC 3.9 |
|
This page was generated on 2019-10-16 12:19:10 -0400 (Wed, 16 Oct 2019).
| Package 1300/1741 | Hostname | OS / Arch | INSTALL | BUILD | CHECK | BUILD BIN | ||||||
| qvalue 2.16.0 John D. Storey
| malbec2 | Linux (Ubuntu 18.04.2 LTS) / x86_64 | OK | OK | OK | |||||||
| tokay2 | Windows Server 2012 R2 Standard / x64 | OK | OK | OK | [ OK ] | |||||||
| celaya2 | OS X 10.11.6 El Capitan / x86_64 | OK | OK | OK | OK |
| Package: qvalue |
| Version: 2.16.0 |
| Command: rm -rf qvalue.buildbin-libdir && mkdir qvalue.buildbin-libdir && C:\Users\biocbuild\bbs-3.9-bioc\R\bin\R.exe CMD INSTALL --merge-multiarch --build --library=qvalue.buildbin-libdir qvalue_2.16.0.tar.gz |
| StartedAt: 2019-10-16 09:59:43 -0400 (Wed, 16 Oct 2019) |
| EndedAt: 2019-10-16 10:00:23 -0400 (Wed, 16 Oct 2019) |
| EllapsedTime: 39.7 seconds |
| RetCode: 0 |
| Status: OK |
| PackageFile: qvalue_2.16.0.zip |
| PackageFileSize: 2.687 MiB |
##############################################################################
##############################################################################
###
### Running command:
###
### rm -rf qvalue.buildbin-libdir && mkdir qvalue.buildbin-libdir && C:\Users\biocbuild\bbs-3.9-bioc\R\bin\R.exe CMD INSTALL --merge-multiarch --build --library=qvalue.buildbin-libdir qvalue_2.16.0.tar.gz
###
##############################################################################
##############################################################################
install for i386
* installing *source* package 'qvalue' ...
** using staged installation
** R
** data
** inst
** byte-compile and prepare package for lazy loading
** help
*** installing help indices
converting help for package 'qvalue'
finding HTML links ... done
empPvals html
hedenfalk html
hist.qvalue html
lfdr html
pi0est html
plot.qvalue html
qvalue html
summary.qvalue html
write.qvalue html
** building package indices
** installing vignettes
** testing if installed package can be loaded from temporary location
** testing if installed package can be loaded from final location
** testing if installed package keeps a record of temporary installation path
install for x64
* installing *source* package 'qvalue' ...
** testing if installed package can be loaded
* MD5 sums
packaged installation of 'qvalue' as qvalue_2.16.0.zip
* DONE (qvalue)