| Back to Multiple platform build/check report for BioC 3.9 |
|
This page was generated on 2019-10-16 12:20:45 -0400 (Wed, 16 Oct 2019).
| Package 1294/1741 | Hostname | OS / Arch | INSTALL | BUILD | CHECK | BUILD BIN | ||||||
| quantsmooth 1.50.0 Jan Oosting
| malbec2 | Linux (Ubuntu 18.04.2 LTS) / x86_64 | OK | OK | OK | |||||||
| tokay2 | Windows Server 2012 R2 Standard / x64 | OK | OK | OK | [ OK ] | |||||||
| celaya2 | OS X 10.11.6 El Capitan / x86_64 | OK | OK | OK | OK |
| Package: quantsmooth |
| Version: 1.50.0 |
| Command: rm -rf quantsmooth.buildbin-libdir && mkdir quantsmooth.buildbin-libdir && C:\Users\biocbuild\bbs-3.9-bioc\R\bin\R.exe CMD INSTALL --merge-multiarch --build --library=quantsmooth.buildbin-libdir quantsmooth_1.50.0.tar.gz |
| StartedAt: 2019-10-16 09:59:20 -0400 (Wed, 16 Oct 2019) |
| EndedAt: 2019-10-16 09:59:47 -0400 (Wed, 16 Oct 2019) |
| EllapsedTime: 27.6 seconds |
| RetCode: 0 |
| Status: OK |
| PackageFile: quantsmooth_1.50.0.zip |
| PackageFileSize: 366.6 KiB |
##############################################################################
##############################################################################
###
### Running command:
###
### rm -rf quantsmooth.buildbin-libdir && mkdir quantsmooth.buildbin-libdir && C:\Users\biocbuild\bbs-3.9-bioc\R\bin\R.exe CMD INSTALL --merge-multiarch --build --library=quantsmooth.buildbin-libdir quantsmooth_1.50.0.tar.gz
###
##############################################################################
##############################################################################
install for i386
* installing *source* package 'quantsmooth' ...
** using staged installation
** R
** data
** inst
** byte-compile and prepare package for lazy loading
** help
*** installing help indices
converting help for package 'quantsmooth'
finding HTML links ... done
Chromosome14 html
chrom.bands html
drawSimpleChrom html
getChangedIdx html
getChangedRegions html
getLambdaMin html
grid.chromosome html
lengthChromosome html
numericCHR html
paintCytobands html
plotChromosome html
plotSmoothed html
position2Cytoband html
prepareGenomePlot html
quantsmooth html
quantsmooth.cv html
quantsmooth.seg html
scaleto html
** building package indices
** installing vignettes
** testing if installed package can be loaded from temporary location
** testing if installed package can be loaded from final location
** testing if installed package keeps a record of temporary installation path
install for x64
* installing *source* package 'quantsmooth' ...
** testing if installed package can be loaded
* MD5 sums
packaged installation of 'quantsmooth' as quantsmooth_1.50.0.zip
* DONE (quantsmooth)