| Back to Multiple platform build/check report for BioC 3.9 |
|
This page was generated on 2019-10-16 12:41:50 -0400 (Wed, 16 Oct 2019).
| Package 1287/1741 | Hostname | OS / Arch | INSTALL | BUILD | CHECK | BUILD BIN | ||||||
| qPLEXanalyzer 1.2.0 Ashley Sawle
| malbec2 | Linux (Ubuntu 18.04.2 LTS) / x86_64 | OK | OK | OK | |||||||
| tokay2 | Windows Server 2012 R2 Standard / x64 | OK | OK | OK | [ OK ] | |||||||
| celaya2 | OS X 10.11.6 El Capitan / x86_64 | OK | OK | OK | OK |
| Package: qPLEXanalyzer |
| Version: 1.2.0 |
| Command: rm -rf qPLEXanalyzer.buildbin-libdir && mkdir qPLEXanalyzer.buildbin-libdir && C:\Users\biocbuild\bbs-3.9-bioc\R\bin\R.exe CMD INSTALL --merge-multiarch --build --library=qPLEXanalyzer.buildbin-libdir qPLEXanalyzer_1.2.0.tar.gz |
| StartedAt: 2019-10-16 09:58:51 -0400 (Wed, 16 Oct 2019) |
| EndedAt: 2019-10-16 09:59:39 -0400 (Wed, 16 Oct 2019) |
| EllapsedTime: 47.7 seconds |
| RetCode: 0 |
| Status: OK |
| PackageFile: qPLEXanalyzer_1.2.0.zip |
| PackageFileSize: 1.943 MiB |
##############################################################################
##############################################################################
###
### Running command:
###
### rm -rf qPLEXanalyzer.buildbin-libdir && mkdir qPLEXanalyzer.buildbin-libdir && C:\Users\biocbuild\bbs-3.9-bioc\R\bin\R.exe CMD INSTALL --merge-multiarch --build --library=qPLEXanalyzer.buildbin-libdir qPLEXanalyzer_1.2.0.tar.gz
###
##############################################################################
##############################################################################
install for i386
* installing *source* package 'qPLEXanalyzer' ...
** using staged installation
** R
** data
** inst
** byte-compile and prepare package for lazy loading
** help
*** installing help indices
converting help for package 'qPLEXanalyzer'
finding HTML links ... done
assignColours html
computeDiffStats html
finding level-2 HTML links ... done
convertToMSnset html
corrPlot html
coveragePlot html
exp2_Xlink html
exp3_OHT_ESR1 html
getContrastResults html
groupScaling html
hierarchicalPlot html
human_anno html
intensityBoxplot html
intensityPlot html
maVolPlot html
normalizeQuantiles html
normalizeScaling html
pcaPlot html
peptideIntensityPlot html
plotMeanVar html
qPLEXanalyzer-package html
regressIntensity html
rliPlot html
rowScaling html
summarizeIntensities html
** building package indices
** installing vignettes
** testing if installed package can be loaded from temporary location
** testing if installed package can be loaded from final location
** testing if installed package keeps a record of temporary installation path
install for x64
* installing *source* package 'qPLEXanalyzer' ...
** testing if installed package can be loaded
* MD5 sums
packaged installation of 'qPLEXanalyzer' as qPLEXanalyzer_1.2.0.zip
* DONE (qPLEXanalyzer)