| Back to Multiple platform build/check report for BioC 3.9 |
|
This page was generated on 2019-10-16 12:55:22 -0400 (Wed, 16 Oct 2019).
| Package 1228/1741 | Hostname | OS / Arch | INSTALL | BUILD | CHECK | BUILD BIN | ||||||
| pmm 1.16.0 Anna Drewek
| malbec2 | Linux (Ubuntu 18.04.2 LTS) / x86_64 | OK | OK | OK | |||||||
| tokay2 | Windows Server 2012 R2 Standard / x64 | OK | OK | OK | OK | |||||||
| celaya2 | OS X 10.11.6 El Capitan / x86_64 | OK | [ OK ] | OK | OK |
| Package: pmm |
| Version: 1.16.0 |
| Command: /Library/Frameworks/R.framework/Versions/Current/Resources/bin/R CMD build --keep-empty-dirs --no-resave-data pmm |
| StartedAt: 2019-10-15 21:41:05 -0400 (Tue, 15 Oct 2019) |
| EndedAt: 2019-10-15 21:41:53 -0400 (Tue, 15 Oct 2019) |
| EllapsedTime: 48.2 seconds |
| RetCode: 0 |
| Status: OK |
| PackageFile: pmm_1.16.0.tar.gz |
| PackageFileSize: 691.4 KiB |
############################################################################## ############################################################################## ### ### Running command: ### ### /Library/Frameworks/R.framework/Versions/Current/Resources/bin/R CMD build --keep-empty-dirs --no-resave-data pmm ### ############################################################################## ############################################################################## * checking for file ‘pmm/DESCRIPTION’ ... OK * preparing ‘pmm’: * checking DESCRIPTION meta-information ... OK * installing the package to build vignettes * creating vignettes ... OK * checking for LF line-endings in source and make files and shell scripts * checking for empty or unneeded directories * looking to see if a ‘data/datalist’ file should be added * building ‘pmm_1.16.0.tar.gz’