| Back to Multiple platform build/check report for BioC 3.9 |
|
This page was generated on 2019-10-16 12:40:51 -0400 (Wed, 16 Oct 2019).
| Package 1197/1741 | Hostname | OS / Arch | INSTALL | BUILD | CHECK | BUILD BIN | ||||||
| perturbatr 1.4.0 Simon Dirmeier
| malbec2 | Linux (Ubuntu 18.04.2 LTS) / x86_64 | OK | OK | OK | |||||||
| tokay2 | Windows Server 2012 R2 Standard / x64 | OK | OK | OK | [ OK ] | |||||||
| celaya2 | OS X 10.11.6 El Capitan / x86_64 | OK | OK | OK | OK |
| Package: perturbatr |
| Version: 1.4.0 |
| Command: rm -rf perturbatr.buildbin-libdir && mkdir perturbatr.buildbin-libdir && C:\Users\biocbuild\bbs-3.9-bioc\R\bin\R.exe CMD INSTALL --merge-multiarch --build --library=perturbatr.buildbin-libdir perturbatr_1.4.0.tar.gz |
| StartedAt: 2019-10-16 09:53:03 -0400 (Wed, 16 Oct 2019) |
| EndedAt: 2019-10-16 09:53:53 -0400 (Wed, 16 Oct 2019) |
| EllapsedTime: 49.5 seconds |
| RetCode: 0 |
| Status: OK |
| PackageFile: perturbatr_1.4.0.zip |
| PackageFileSize: 3.78 MiB |
##############################################################################
##############################################################################
###
### Running command:
###
### rm -rf perturbatr.buildbin-libdir && mkdir perturbatr.buildbin-libdir && C:\Users\biocbuild\bbs-3.9-bioc\R\bin\R.exe CMD INSTALL --merge-multiarch --build --library=perturbatr.buildbin-libdir perturbatr_1.4.0.tar.gz
###
##############################################################################
##############################################################################
install for i386
* installing *source* package 'perturbatr' ...
** using staged installation
** R
** data
*** moving datasets to lazyload DB
** inst
** byte-compile and prepare package for lazy loading
** help
*** installing help indices
converting help for package 'perturbatr'
finding HTML links ... done
HMAnalysedPerturbationData-class html
NetworkAnalysedPerturbationData-class html
PerturbationData-class html
bootstrap html
dataSet-methods html
diffuse-methods html
filter-methods html
geneEffects-methods html
graph-methods html
hm-methods html
inference-methods html
isBootstrapped-methods html
modelFit-methods html
nestedGeneEffects-methods html
params-methods html
perturbatr-package html
plot.NetworkAnalysedPerturbationData html
plot.PerturbationData html
rbind.PerturbationData html
rnaiscreen html
setModelData-methods html
** building package indices
** installing vignettes
** testing if installed package can be loaded from temporary location
** testing if installed package can be loaded from final location
** testing if installed package keeps a record of temporary installation path
install for x64
* installing *source* package 'perturbatr' ...
** testing if installed package can be loaded
* MD5 sums
packaged installation of 'perturbatr' as perturbatr_1.4.0.zip
* DONE (perturbatr)