| Back to Multiple platform build/check report for BioC 3.9 |
|
This page was generated on 2019-10-16 12:39:21 -0400 (Wed, 16 Oct 2019).
| Package 1144/1741 | Hostname | OS / Arch | INSTALL | BUILD | CHECK | BUILD BIN | ||||||
| openPrimeR 1.6.0 Matthias Döring
| malbec2 | Linux (Ubuntu 18.04.2 LTS) / x86_64 | OK | OK | OK | |||||||
| tokay2 | Windows Server 2012 R2 Standard / x64 | OK | OK | OK | [ OK ] | |||||||
| celaya2 | OS X 10.11.6 El Capitan / x86_64 | OK | OK | OK | OK |
| Package: openPrimeR |
| Version: 1.6.0 |
| Command: rm -rf openPrimeR.buildbin-libdir && mkdir openPrimeR.buildbin-libdir && C:\Users\biocbuild\bbs-3.9-bioc\R\bin\R.exe CMD INSTALL --merge-multiarch --build --library=openPrimeR.buildbin-libdir openPrimeR_1.6.0.tar.gz |
| StartedAt: 2019-10-16 09:49:37 -0400 (Wed, 16 Oct 2019) |
| EndedAt: 2019-10-16 09:50:21 -0400 (Wed, 16 Oct 2019) |
| EllapsedTime: 43.9 seconds |
| RetCode: 0 |
| Status: OK |
| PackageFile: openPrimeR_1.6.0.zip |
| PackageFileSize: 2.791 MiB |
##############################################################################
##############################################################################
###
### Running command:
###
### rm -rf openPrimeR.buildbin-libdir && mkdir openPrimeR.buildbin-libdir && C:\Users\biocbuild\bbs-3.9-bioc\R\bin\R.exe CMD INSTALL --merge-multiarch --build --library=openPrimeR.buildbin-libdir openPrimeR_1.6.0.tar.gz
###
##############################################################################
##############################################################################
install for i386
* installing *source* package 'openPrimeR' ...
** using staged installation
** R
** data
** inst
** byte-compile and prepare package for lazy loading
** help
*** installing help indices
converting help for package 'openPrimeR'
finding HTML links ... done
AnalysisStats html
Data html
Input html
Output html
Plots html
PrimerDesign html
PrimerEval html
Primers-method html
Scoring html
Settings html
Templates-method html
TemplatesFunctions html
check_cvg_constraints html
create_report-Primers-Templates-method
html
create_report-list-list-method html
filterLimits-methods html
filters-methods html
get_cvg_stats-Primers-method html
get_cvg_stats-list-method html
openPrimeR-package html
plot_constraint-Primers-method html
plot_constraint-list-method html
plot_constraint_deviation-Primers-method
html
plot_constraint_deviation-list-method html
plot_constraint_fulfillment-Primers-method
html
plot_constraint_fulfillment-list-method
html
plot_cvg_constraints-Primers-method html
plot_cvg_constraints-list-method html
plot_primer_binding_regions-Primers-Templates-method
html
plot_primer_binding_regions-list-list-method
html
plot_primer_cvg-Primers-Templates-method
html
plot_primer_cvg-list-list-method html
plot_template_cvg-Primers-Templates-method
html
plot_template_cvg-list-list-method html
runTutorial html
** building package indices
** installing vignettes
** testing if installed package can be loaded from temporary location
** testing if installed package can be loaded from final location
** testing if installed package keeps a record of temporary installation path
install for x64
* installing *source* package 'openPrimeR' ...
** testing if installed package can be loaded
* MD5 sums
packaged installation of 'openPrimeR' as openPrimeR_1.6.0.zip
* DONE (openPrimeR)