| Back to Multiple platform build/check report for BioC 3.9 |
|
This page was generated on 2019-10-16 12:42:08 -0400 (Wed, 16 Oct 2019).
| Package 1117/1741 | Hostname | OS / Arch | INSTALL | BUILD | CHECK | BUILD BIN | ||||||
| nuCpos 1.2.0 Hiroaki Kato
| malbec2 | Linux (Ubuntu 18.04.2 LTS) / x86_64 | OK | OK | OK | |||||||
| tokay2 | Windows Server 2012 R2 Standard / x64 | OK | OK | WARNINGS | [ OK ] | |||||||
| celaya2 | OS X 10.11.6 El Capitan / x86_64 | OK | OK | OK | OK |
| Package: nuCpos |
| Version: 1.2.0 |
| Command: rm -rf nuCpos.buildbin-libdir && mkdir nuCpos.buildbin-libdir && C:\Users\biocbuild\bbs-3.9-bioc\R\bin\R.exe CMD INSTALL --merge-multiarch --build --library=nuCpos.buildbin-libdir nuCpos_1.2.0.tar.gz |
| StartedAt: 2019-10-16 09:47:53 -0400 (Wed, 16 Oct 2019) |
| EndedAt: 2019-10-16 09:48:32 -0400 (Wed, 16 Oct 2019) |
| EllapsedTime: 38.9 seconds |
| RetCode: 0 |
| Status: OK |
| PackageFile: nuCpos_1.2.0.zip |
| PackageFileSize: 1.498 MiB |
##############################################################################
##############################################################################
###
### Running command:
###
### rm -rf nuCpos.buildbin-libdir && mkdir nuCpos.buildbin-libdir && C:\Users\biocbuild\bbs-3.9-bioc\R\bin\R.exe CMD INSTALL --merge-multiarch --build --library=nuCpos.buildbin-libdir nuCpos_1.2.0.tar.gz
###
##############################################################################
##############################################################################
install for i386
* installing *source* package 'nuCpos' ...
** using staged installation
** libs
C:/Rtools/mingw_32/bin/gfortran -O3 -mtune=generic -c HBA_3.f90 -o HBA_3.o
C:/Rtools/mingw_32/bin/gcc -I"C:/Users/BIOCBU~1/BBS-3~1.9-B/R/include" -DNDEBUG -I"C:/extsoft/include" -O3 -Wall -std=gnu99 -mtune=generic -c R_init_nuCpos.c -o R_init_nuCpos.o
C:/Rtools/mingw_32/bin/gfortran -O3 -mtune=generic -c localHBA_3.f90 -o localHBA_3.o
C:/Rtools/mingw_32/bin/gfortran -O3 -mtune=generic -c nuCpos2_1.f90 -o nuCpos2_1.o
C:/Rtools/mingw_32/bin/gfortran -O3 -mtune=generic -c nuCpos2_2.f90 -o nuCpos2_2.o
C:/Rtools/mingw_32/bin/gfortran -O3 -mtune=generic -c nuCpos_1.f90 -o nuCpos_1.o
C:/Rtools/mingw_32/bin/gfortran -O3 -mtune=generic -c nuCpos_2.f90 -o nuCpos_2.o
C:/Rtools/mingw_32/bin/gcc -shared -s -static-libgcc -o nuCpos.dll tmp.def HBA_3.o R_init_nuCpos.o localHBA_3.o nuCpos2_1.o nuCpos2_2.o nuCpos_1.o nuCpos_2.o -LC:/extsoft/lib/i386 -LC:/extsoft/lib -lgfortran -lm -lquadmath -LC:/Users/BIOCBU~1/BBS-3~1.9-B/R/bin/i386 -lR
installing to C:/Users/biocbuild/bbs-3.9-bioc/meat/nuCpos.buildbin-libdir/00LOCK-nuCpos/00new/nuCpos/libs/i386
** R
** inst
** byte-compile and prepare package for lazy loading
** help
*** installing help indices
converting help for package 'nuCpos'
finding HTML links ... done
HBA html
localHBA html
mutNuCpos html
nuCpos-package html
predNuCpos html
** building package indices
** installing vignettes
** testing if installed package can be loaded from temporary location
** testing if installed package can be loaded from final location
** testing if installed package keeps a record of temporary installation path
install for x64
* installing *source* package 'nuCpos' ...
** libs
C:/Rtools/mingw_64/bin/gfortran -O2 -mtune=generic -c HBA_3.f90 -o HBA_3.o
C:/Rtools/mingw_64/bin/gcc -I"C:/Users/BIOCBU~1/BBS-3~1.9-B/R/include" -DNDEBUG -I"C:/extsoft/include" -O2 -Wall -std=gnu99 -mtune=generic -c R_init_nuCpos.c -o R_init_nuCpos.o
C:/Rtools/mingw_64/bin/gfortran -O2 -mtune=generic -c localHBA_3.f90 -o localHBA_3.o
C:/Rtools/mingw_64/bin/gfortran -O2 -mtune=generic -c nuCpos2_1.f90 -o nuCpos2_1.o
C:/Rtools/mingw_64/bin/gfortran -O2 -mtune=generic -c nuCpos2_2.f90 -o nuCpos2_2.o
C:/Rtools/mingw_64/bin/gfortran -O2 -mtune=generic -c nuCpos_1.f90 -o nuCpos_1.o
C:/Rtools/mingw_64/bin/gfortran -O2 -mtune=generic -c nuCpos_2.f90 -o nuCpos_2.o
C:/Rtools/mingw_64/bin/gcc -shared -s -static-libgcc -o nuCpos.dll tmp.def HBA_3.o R_init_nuCpos.o localHBA_3.o nuCpos2_1.o nuCpos2_2.o nuCpos_1.o nuCpos_2.o -LC:/extsoft/lib/x64 -LC:/extsoft/lib -lgfortran -lm -lquadmath -LC:/Users/BIOCBU~1/BBS-3~1.9-B/R/bin/x64 -lR
installing to C:/Users/biocbuild/bbs-3.9-bioc/meat/nuCpos.buildbin-libdir/nuCpos/libs/x64
** testing if installed package can be loaded
* MD5 sums
packaged installation of 'nuCpos' as nuCpos_1.2.0.zip
* DONE (nuCpos)