| Back to Multiple platform build/check report for BioC 3.9 |
|
This page was generated on 2019-10-16 12:38:31 -0400 (Wed, 16 Oct 2019).
| Package 1050/1741 | Hostname | OS / Arch | INSTALL | BUILD | CHECK | BUILD BIN | ||||||
| msgbsR 1.8.0 Benjamin Mayne
| malbec2 | Linux (Ubuntu 18.04.2 LTS) / x86_64 | OK | OK | WARNINGS | |||||||
| tokay2 | Windows Server 2012 R2 Standard / x64 | OK | OK | WARNINGS | [ OK ] | |||||||
| celaya2 | OS X 10.11.6 El Capitan / x86_64 | OK | OK | WARNINGS | OK |
| Package: msgbsR |
| Version: 1.8.0 |
| Command: rm -rf msgbsR.buildbin-libdir && mkdir msgbsR.buildbin-libdir && C:\Users\biocbuild\bbs-3.9-bioc\R\bin\R.exe CMD INSTALL --merge-multiarch --build --library=msgbsR.buildbin-libdir msgbsR_1.8.0.tar.gz |
| StartedAt: 2019-10-16 09:43:37 -0400 (Wed, 16 Oct 2019) |
| EndedAt: 2019-10-16 09:45:07 -0400 (Wed, 16 Oct 2019) |
| EllapsedTime: 90.3 seconds |
| RetCode: 0 |
| Status: OK |
| PackageFile: msgbsR_1.8.0.zip |
| PackageFileSize: 15.58 MiB |
##############################################################################
##############################################################################
###
### Running command:
###
### rm -rf msgbsR.buildbin-libdir && mkdir msgbsR.buildbin-libdir && C:\Users\biocbuild\bbs-3.9-bioc\R\bin\R.exe CMD INSTALL --merge-multiarch --build --library=msgbsR.buildbin-libdir msgbsR_1.8.0.tar.gz
###
##############################################################################
##############################################################################
install for i386
* installing *source* package 'msgbsR' ...
** using staged installation
** R
** data
** inst
** byte-compile and prepare package for lazy loading
** help
*** installing help indices
converting help for package 'msgbsR'
finding HTML links ... done
checkCuts html
cuts html
diffMeth html
msgbsR html
plotCircos html
plotCounts html
ratdata html
ratdata2 html
rawCounts html
** building package indices
** installing vignettes
** testing if installed package can be loaded from temporary location
** testing if installed package can be loaded from final location
** testing if installed package keeps a record of temporary installation path
install for x64
* installing *source* package 'msgbsR' ...
** testing if installed package can be loaded
* MD5 sums
packaged installation of 'msgbsR' as msgbsR_1.8.0.zip
* DONE (msgbsR)