Back to Multiple platform build/check report for BioC 3.9 |
|
This page was generated on 2019-04-03 12:37:50 -0400 (Wed, 03 Apr 2019).
Package 1017/1696 | Hostname | OS / Arch | INSTALL | BUILD | CHECK | BUILD BIN | ||||||
motifbreakR 1.13.0 Simon Gert Coetzee
| malbec2 | Linux (Ubuntu 18.04.2 LTS) / x86_64 | OK | OK | ERROR | |||||||
tokay2 | Windows Server 2012 R2 Standard / x64 | OK | OK | ERROR | OK | |||||||
celaya2 | OS X 10.11.6 El Capitan / x86_64 | OK | OK | ERROR | OK | |||||||
merida2 | OS X 10.11.6 El Capitan / x86_64 | OK | OK | ERROR | [ OK ] |
Package: motifbreakR |
Version: 1.13.0 |
Command: rm -rf motifbreakR.buildbin-libdir && mkdir motifbreakR.buildbin-libdir && /Users/biocbuild/BBS/utils/build-universal.sh motifbreakR_1.13.0.tar.gz /Library/Frameworks/R.framework/Versions/Current/Resources/bin/R motifbreakR.buildbin-libdir |
StartedAt: 2019-04-03 05:58:01 -0400 (Wed, 03 Apr 2019) |
EndedAt: 2019-04-03 05:59:15 -0400 (Wed, 03 Apr 2019) |
EllapsedTime: 74.9 seconds |
RetCode: 0 |
Status: OK |
PackageFile: motifbreakR_1.13.0.tgz |
PackageFileSize: 2.434 MiB |
############################################################################## ############################################################################## ### ### Running command: ### ### rm -rf motifbreakR.buildbin-libdir && mkdir motifbreakR.buildbin-libdir && /Users/biocbuild/BBS/utils/build-universal.sh motifbreakR_1.13.0.tar.gz /Library/Frameworks/R.framework/Versions/Current/Resources/bin/R motifbreakR.buildbin-libdir ### ############################################################################## ############################################################################## >>>>>>> >>>>>>> INSTALLATION WITH 'R CMD INSTALL --preclean --no-multiarch --library=motifbreakR.buildbin-libdir motifbreakR_1.13.0.tar.gz' >>>>>>> * installing *source* package ‘motifbreakR’ ... ** R ** data *** moving datasets to lazyload DB ** inst ** byte-compile and prepare package for lazy loading See system.file("LICENSE", package="MotifDb") for use restrictions. ** help *** installing help indices ** building package indices ** installing vignettes ** testing if installed package can be loaded See system.file("LICENSE", package="MotifDb") for use restrictions. * DONE (motifbreakR)