| Back to Multiple platform build/check report for BioC 3.9 |
|
This page was generated on 2019-10-16 12:21:58 -0400 (Wed, 16 Oct 2019).
| Package 1002/1741 | Hostname | OS / Arch | INSTALL | BUILD | CHECK | BUILD BIN | ||||||
| minet 3.42.0 Patrick E. Meyer
| malbec2 | Linux (Ubuntu 18.04.2 LTS) / x86_64 | OK | OK | OK | |||||||
| tokay2 | Windows Server 2012 R2 Standard / x64 | OK | OK | OK | [ OK ] | |||||||
| celaya2 | OS X 10.11.6 El Capitan / x86_64 | OK | OK | OK | OK |
| Package: minet |
| Version: 3.42.0 |
| Command: rm -rf minet.buildbin-libdir && mkdir minet.buildbin-libdir && C:\Users\biocbuild\bbs-3.9-bioc\R\bin\R.exe CMD INSTALL --merge-multiarch --build --library=minet.buildbin-libdir minet_3.42.0.tar.gz |
| StartedAt: 2019-10-16 09:40:33 -0400 (Wed, 16 Oct 2019) |
| EndedAt: 2019-10-16 09:41:27 -0400 (Wed, 16 Oct 2019) |
| EllapsedTime: 54.4 seconds |
| RetCode: 0 |
| Status: OK |
| PackageFile: minet_3.42.0.zip |
| PackageFileSize: 567.3 KiB |
##############################################################################
##############################################################################
###
### Running command:
###
### rm -rf minet.buildbin-libdir && mkdir minet.buildbin-libdir && C:\Users\biocbuild\bbs-3.9-bioc\R\bin\R.exe CMD INSTALL --merge-multiarch --build --library=minet.buildbin-libdir minet_3.42.0.tar.gz
###
##############################################################################
##############################################################################
install for i386
* installing *source* package 'minet' ...
** using staged installation
** libs
C:/Rtools/mingw_32/bin/g++ -I"C:/Users/BIOCBU~1/BBS-3~1.9-B/R/include" -DNDEBUG -I"C:/extsoft/include" -O2 -Wall -mtune=generic -c aracne.cpp -o aracne.o
C:/Rtools/mingw_32/bin/g++ -I"C:/Users/BIOCBU~1/BBS-3~1.9-B/R/include" -DNDEBUG -I"C:/extsoft/include" -O2 -Wall -mtune=generic -c clr.cpp -o clr.o
C:/Rtools/mingw_32/bin/g++ -I"C:/Users/BIOCBU~1/BBS-3~1.9-B/R/include" -DNDEBUG -I"C:/extsoft/include" -O2 -Wall -mtune=generic -c minet.cpp -o minet.o
C:/Rtools/mingw_32/bin/g++ -I"C:/Users/BIOCBU~1/BBS-3~1.9-B/R/include" -DNDEBUG -I"C:/extsoft/include" -O2 -Wall -mtune=generic -c mrnet.cpp -o mrnet.o
mrnet.cpp: In function 'SEXPREC* mrnet(SEXP, SEXP)':
mrnet.cpp:190:34: warning: comparison between signed and unsigned integer expressions [-Wsign-compare]
for( int l=0; l