| Back to Multiple platform build/check report for BioC 3.9 |
|
This page was generated on 2019-10-16 12:23:19 -0400 (Wed, 16 Oct 2019).
| Package 976/1741 | Hostname | OS / Arch | INSTALL | BUILD | CHECK | BUILD BIN | ||||||
| methVisual 1.36.0 Arie Zackay
| malbec2 | Linux (Ubuntu 18.04.2 LTS) / x86_64 | OK | OK | WARNINGS | |||||||
| tokay2 | Windows Server 2012 R2 Standard / x64 | OK | OK | WARNINGS | [ OK ] | |||||||
| celaya2 | OS X 10.11.6 El Capitan / x86_64 | OK | OK | WARNINGS | OK |
| Package: methVisual |
| Version: 1.36.0 |
| Command: rm -rf methVisual.buildbin-libdir && mkdir methVisual.buildbin-libdir && C:\Users\biocbuild\bbs-3.9-bioc\R\bin\R.exe CMD INSTALL --merge-multiarch --build --library=methVisual.buildbin-libdir methVisual_1.36.0.tar.gz |
| StartedAt: 2019-10-16 09:38:56 -0400 (Wed, 16 Oct 2019) |
| EndedAt: 2019-10-16 09:39:39 -0400 (Wed, 16 Oct 2019) |
| EllapsedTime: 42.7 seconds |
| RetCode: 0 |
| Status: OK |
| PackageFile: methVisual_1.36.0.zip |
| PackageFileSize: 345.8 KiB |
##############################################################################
##############################################################################
###
### Running command:
###
### rm -rf methVisual.buildbin-libdir && mkdir methVisual.buildbin-libdir && C:\Users\biocbuild\bbs-3.9-bioc\R\bin\R.exe CMD INSTALL --merge-multiarch --build --library=methVisual.buildbin-libdir methVisual_1.36.0.tar.gz
###
##############################################################################
##############################################################################
install for i386
* installing *source* package 'methVisual' ...
** using staged installation
** R
** data
** inst
** byte-compile and prepare package for lazy loading
Note: possible error in 'windows(n, lengthData, ': unused argument (rescale = "fixed")
** help
*** installing help indices
converting help for package 'methVisual'
finding HTML links ... done
Cooccurrence html
MethAlignNW html
MethDataInput html
MethLollipops html
MethylQC html
cgInAlign html
cgMethFinder html
coversionGenom html
findNonAligned html
heatMapMeth html
makeDataMethGFF html
makeLocalExpDir html
makeTabFilePath html
matrixSNP html
methCA html
methData html
methFisherTest html
methWhitneyUTest html
plotAbsMethyl html
plotMatrixSNP html
readBisulfFASTA html
selectRefSeq html
** building package indices
** installing vignettes
** testing if installed package can be loaded from temporary location
** testing if installed package can be loaded from final location
** testing if installed package keeps a record of temporary installation path
install for x64
* installing *source* package 'methVisual' ...
** testing if installed package can be loaded
* MD5 sums
packaged installation of 'methVisual' as methVisual_1.36.0.zip
* DONE (methVisual)