| Back to Multiple platform build/check report for BioC 3.9 |
|
This page was generated on 2019-10-16 12:38:36 -0400 (Wed, 16 Oct 2019).
| Package 973/1741 | Hostname | OS / Arch | INSTALL | BUILD | CHECK | BUILD BIN | ||||||
| methInheritSim 1.6.0 Pascal Belleau
| malbec2 | Linux (Ubuntu 18.04.2 LTS) / x86_64 | OK | OK | OK | |||||||
| tokay2 | Windows Server 2012 R2 Standard / x64 | [ OK ] | OK | OK | OK | |||||||
| celaya2 | OS X 10.11.6 El Capitan / x86_64 | OK | OK | OK | OK |
| Package: methInheritSim |
| Version: 1.6.0 |
| Command: C:\cygwin\bin\curl.exe -O https://malbec2.bioconductor.org/BBS/3.9/bioc/src/contrib/methInheritSim_1.6.0.tar.gz && rm -rf methInheritSim.buildbin-libdir && mkdir methInheritSim.buildbin-libdir && C:\Users\biocbuild\bbs-3.9-bioc\R\bin\R.exe CMD INSTALL --merge-multiarch --build --library=methInheritSim.buildbin-libdir methInheritSim_1.6.0.tar.gz && C:\Users\biocbuild\bbs-3.9-bioc\R\bin\R.exe CMD INSTALL methInheritSim_1.6.0.zip && rm methInheritSim_1.6.0.tar.gz methInheritSim_1.6.0.zip |
| StartedAt: 2019-10-15 20:42:36 -0400 (Tue, 15 Oct 2019) |
| EndedAt: 2019-10-15 20:43:43 -0400 (Tue, 15 Oct 2019) |
| EllapsedTime: 67.2 seconds |
| RetCode: 0 |
| Status: OK |
##############################################################################
##############################################################################
###
### Running command:
###
### C:\cygwin\bin\curl.exe -O https://malbec2.bioconductor.org/BBS/3.9/bioc/src/contrib/methInheritSim_1.6.0.tar.gz && rm -rf methInheritSim.buildbin-libdir && mkdir methInheritSim.buildbin-libdir && C:\Users\biocbuild\bbs-3.9-bioc\R\bin\R.exe CMD INSTALL --merge-multiarch --build --library=methInheritSim.buildbin-libdir methInheritSim_1.6.0.tar.gz && C:\Users\biocbuild\bbs-3.9-bioc\R\bin\R.exe CMD INSTALL methInheritSim_1.6.0.zip && rm methInheritSim_1.6.0.tar.gz methInheritSim_1.6.0.zip
###
##############################################################################
##############################################################################
% Total % Received % Xferd Average Speed Time Time Time Current
Dload Upload Total Spent Left Speed
0 0 0 0 0 0 0 0 --:--:-- --:--:-- --:--:-- 0
100 857k 100 857k 0 0 12.8M 0 --:--:-- --:--:-- --:--:-- 14.4M
install for i386
* installing *source* package 'methInheritSim' ...
** using staged installation
** R
** data
** inst
** byte-compile and prepare package for lazy loading
** help
*** installing help indices
converting help for package 'methInheritSim'
finding HTML links ... done
calculateNbDiffCase html
createSampleID html
dataSimExample html
estBetaAlpha html
estBetaBeta html
fixSeed html
getDiffCase html
getDiffMeth html
getSim html
getSyntheticChr html
methInheritSim-package html
runOnEachSynCHR html
runSim html
samplesForChrSynthetic html
saveData html
simEachGeneration html
simInheritance html
testIfAlreadyDone html
validateRunSimDoubleParameters html
validateRunSimIntegerParameters html
validateRunSimLogicalParameters html
validateRunSimOtherParameters html
validateRunSimParameters html
** building package indices
** installing vignettes
** testing if installed package can be loaded from temporary location
** testing if installed package can be loaded from final location
** testing if installed package keeps a record of temporary installation path
install for x64
* installing *source* package 'methInheritSim' ...
** testing if installed package can be loaded
* MD5 sums
packaged installation of 'methInheritSim' as methInheritSim_1.6.0.zip
* DONE (methInheritSim)
* installing to library 'C:/Users/biocbuild/bbs-3.9-bioc/R/library'
package 'methInheritSim' successfully unpacked and MD5 sums checked