| Back to Multiple platform build/check report for BioC 3.9 | 
 | 
This page was generated on 2019-10-16 12:36:18 -0400 (Wed, 16 Oct 2019).
| Package 905/1741 | Hostname | OS / Arch | INSTALL | BUILD | CHECK | BUILD BIN | ||||||
| maftools 2.0.16 Anand Mayakonda 
 | malbec2 | Linux (Ubuntu 18.04.2 LTS) / x86_64 | OK | OK | OK |  | ||||||
| tokay2 | Windows Server 2012 R2 Standard / x64 | OK | [ OK ] | OK | OK |  | ||||||
| celaya2 | OS X 10.11.6 El Capitan / x86_64 | OK | OK | OK | OK |  | 
| Package: maftools | 
| Version: 2.0.16 | 
| Command: chmod a+r maftools -R && C:\Users\biocbuild\bbs-3.9-bioc\R\bin\R.exe CMD build --keep-empty-dirs --no-resave-data maftools | 
| StartedAt: 2019-10-16 00:05:33 -0400 (Wed, 16 Oct 2019) | 
| EndedAt: 2019-10-16 00:09:10 -0400 (Wed, 16 Oct 2019) | 
| EllapsedTime: 217.5 seconds | 
| RetCode: 0 | 
| Status: OK | 
| PackageFile: maftools_2.0.16.tar.gz | 
| PackageFileSize: 8.295 MiB | 
############################################################################## ############################################################################## ### ### Running command: ### ### chmod a+r maftools -R && C:\Users\biocbuild\bbs-3.9-bioc\R\bin\R.exe CMD build --keep-empty-dirs --no-resave-data maftools ### ############################################################################## ############################################################################## * checking for file 'maftools/DESCRIPTION' ... OK * preparing 'maftools': * checking DESCRIPTION meta-information ... OK * installing the package to build vignettes * creating vignettes ... OK * checking for LF line-endings in source and make files and shell scripts * checking for empty or unneeded directories * building 'maftools_2.0.16.tar.gz'