Back to Multiple platform build/check report for BioC 3.9 |
|
This page was generated on 2019-10-16 12:40:06 -0400 (Wed, 16 Oct 2019).
Package 880/1741 | Hostname | OS / Arch | INSTALL | BUILD | CHECK | BUILD BIN | ||||||
loci2path 1.4.0 Tianlei Xu
| malbec2 | Linux (Ubuntu 18.04.2 LTS) / x86_64 | OK | OK | OK | ![]() | ||||||
tokay2 | Windows Server 2012 R2 Standard / x64 | OK | OK | OK | [ OK ] | ![]() | ||||||
celaya2 | OS X 10.11.6 El Capitan / x86_64 | OK | OK | OK | OK | ![]() |
Package: loci2path |
Version: 1.4.0 |
Command: rm -rf loci2path.buildbin-libdir && mkdir loci2path.buildbin-libdir && C:\Users\biocbuild\bbs-3.9-bioc\R\bin\R.exe CMD INSTALL --merge-multiarch --build --library=loci2path.buildbin-libdir loci2path_1.4.0.tar.gz |
StartedAt: 2019-10-16 09:33:00 -0400 (Wed, 16 Oct 2019) |
EndedAt: 2019-10-16 09:33:47 -0400 (Wed, 16 Oct 2019) |
EllapsedTime: 47.5 seconds |
RetCode: 0 |
Status: OK |
PackageFile: loci2path_1.4.0.zip |
PackageFileSize: 690.4 KiB |
############################################################################## ############################################################################## ### ### Running command: ### ### rm -rf loci2path.buildbin-libdir && mkdir loci2path.buildbin-libdir && C:\Users\biocbuild\bbs-3.9-bioc\R\bin\R.exe CMD INSTALL --merge-multiarch --build --library=loci2path.buildbin-libdir loci2path_1.4.0.tar.gz ### ############################################################################## ############################################################################## install for i386 * installing *source* package 'loci2path' ... ** using staged installation ** R ** data *** moving datasets to lazyload DB ** inst ** byte-compile and prepare package for lazy loading ** help *** installing help indices converting help for package 'loci2path' finding HTML links ... done biocarta html check.geneid html eqtlSet-class html eset.list html geneSet-class html getHeatmap-methods html getMat-methods html getPathDescription-methods html getPval-methods html getTissueDegree-methods html getWordcloud-methods html loci2pathResult-class html query-methods html query.gr html ** building package indices ** installing vignettes ** testing if installed package can be loaded from temporary location ** testing if installed package can be loaded from final location ** testing if installed package keeps a record of temporary installation path install for x64 * installing *source* package 'loci2path' ... ** testing if installed package can be loaded * MD5 sums packaged installation of 'loci2path' as loci2path_1.4.0.zip * DONE (loci2path)