| Back to Multiple platform build/check report for BioC 3.9 |
|
This page was generated on 2019-10-16 12:21:59 -0400 (Wed, 16 Oct 2019).
| Package 842/1741 | Hostname | OS / Arch | INSTALL | BUILD | CHECK | BUILD BIN | ||||||
| iterativeBMA 1.42.0 Ka Yee Yeung
| malbec2 | Linux (Ubuntu 18.04.2 LTS) / x86_64 | OK | OK | OK | |||||||
| tokay2 | Windows Server 2012 R2 Standard / x64 | OK | OK | OK | [ OK ] | |||||||
| celaya2 | OS X 10.11.6 El Capitan / x86_64 | OK | OK | OK | OK |
| Package: iterativeBMA |
| Version: 1.42.0 |
| Command: rm -rf iterativeBMA.buildbin-libdir && mkdir iterativeBMA.buildbin-libdir && C:\Users\biocbuild\bbs-3.9-bioc\R\bin\R.exe CMD INSTALL --merge-multiarch --build --library=iterativeBMA.buildbin-libdir iterativeBMA_1.42.0.tar.gz |
| StartedAt: 2019-10-16 09:30:44 -0400 (Wed, 16 Oct 2019) |
| EndedAt: 2019-10-16 09:31:24 -0400 (Wed, 16 Oct 2019) |
| EllapsedTime: 40.2 seconds |
| RetCode: 0 |
| Status: OK |
| PackageFile: iterativeBMA_1.42.0.zip |
| PackageFileSize: 271.6 KiB |
##############################################################################
##############################################################################
###
### Running command:
###
### rm -rf iterativeBMA.buildbin-libdir && mkdir iterativeBMA.buildbin-libdir && C:\Users\biocbuild\bbs-3.9-bioc\R\bin\R.exe CMD INSTALL --merge-multiarch --build --library=iterativeBMA.buildbin-libdir iterativeBMA_1.42.0.tar.gz
###
##############################################################################
##############################################################################
install for i386
* installing *source* package 'iterativeBMA' ...
** using staged installation
** R
** data
** inst
** byte-compile and prepare package for lazy loading
** help
*** installing help indices
converting help for package 'iterativeBMA'
finding HTML links ... done
BssWssFast html
bma_predict html
brier_score html
imageplot_iterate_bma html
iterateBMAglm_train html
iterateBMAglm_train_predict html
iterateBMAglm_train_predict_test html
iterateBMAglm_wrapper html
iterativeBMA-internal html
iterativeBMA-package html
testClass html
testData html
trainClass html
trainData html
** building package indices
** installing vignettes
** testing if installed package can be loaded from temporary location
** testing if installed package can be loaded from final location
** testing if installed package keeps a record of temporary installation path
install for x64
* installing *source* package 'iterativeBMA' ...
** testing if installed package can be loaded
* MD5 sums
packaged installation of 'iterativeBMA' as iterativeBMA_1.42.0.zip
* DONE (iterativeBMA)