| Back to Multiple platform build/check report for BioC 3.9 | 
 | 
This page was generated on 2019-10-16 12:45:28 -0400 (Wed, 16 Oct 2019).
| Package 795/1741 | Hostname | OS / Arch | INSTALL | BUILD | CHECK | BUILD BIN | ||||||
| idiogram 1.60.0 Karl J. Dykema 
 | malbec2 | Linux (Ubuntu 18.04.2 LTS) / x86_64 | OK | OK | OK |  | ||||||
| tokay2 | Windows Server 2012 R2 Standard / x64 | OK | OK | OK | OK |  | ||||||
| celaya2 | OS X 10.11.6 El Capitan / x86_64 | OK | OK | OK | [ OK ] |  | 
| Package: idiogram | 
| Version: 1.60.0 | 
| Command: rm -rf idiogram.buildbin-libdir && mkdir idiogram.buildbin-libdir && /Users/biocbuild/BBS/utils/build-universal.sh idiogram_1.60.0.tar.gz /Library/Frameworks/R.framework/Versions/Current/Resources/bin/R idiogram.buildbin-libdir | 
| StartedAt: 2019-10-16 08:47:18 -0400 (Wed, 16 Oct 2019) | 
| EndedAt: 2019-10-16 08:47:56 -0400 (Wed, 16 Oct 2019) | 
| EllapsedTime: 37.9 seconds | 
| RetCode: 0 | 
| Status: OK | 
| PackageFile: idiogram_1.60.0.tgz | 
| PackageFileSize: 3.706 MiB | 
############################################################################## ############################################################################## ### ### Running command: ### ### rm -rf idiogram.buildbin-libdir && mkdir idiogram.buildbin-libdir && /Users/biocbuild/BBS/utils/build-universal.sh idiogram_1.60.0.tar.gz /Library/Frameworks/R.framework/Versions/Current/Resources/bin/R idiogram.buildbin-libdir ### ############################################################################## ############################################################################## >>>>>>> >>>>>>> INSTALLATION WITH 'R CMD INSTALL --preclean --no-multiarch --library=idiogram.buildbin-libdir idiogram_1.60.0.tar.gz' >>>>>>> * installing *source* package ‘idiogram’ ... ** using staged installation ** R ** data *** moving datasets to lazyload DB ** inst ** byte-compile and prepare package for lazy loading ** help *** installing help indices ** building package indices ** installing vignettes ** testing if installed package can be loaded from temporary location ** testing if installed package can be loaded from final location ** testing if installed package keeps a record of temporary installation path * DONE (idiogram)