| Back to Multiple platform build/check report for BioC 3.9 |
|
This page was generated on 2019-10-16 12:29:03 -0400 (Wed, 16 Oct 2019).
| Package 790/1741 | Hostname | OS / Arch | INSTALL | BUILD | CHECK | BUILD BIN | ||||||
| iClusterPlus 1.20.0 Qianxing Mo
| malbec2 | Linux (Ubuntu 18.04.2 LTS) / x86_64 | OK | OK | OK | |||||||
| tokay2 | Windows Server 2012 R2 Standard / x64 | OK | OK | [ OK ] | OK | |||||||
| celaya2 | OS X 10.11.6 El Capitan / x86_64 | OK | OK | WARNINGS | OK |
| Package: iClusterPlus |
| Version: 1.20.0 |
| Command: C:\Users\biocbuild\bbs-3.9-bioc\R\bin\R.exe CMD check --force-multiarch --install=check:iClusterPlus.install-out.txt --library=C:\Users\biocbuild\bbs-3.9-bioc\R\library --no-vignettes --timings iClusterPlus_1.20.0.tar.gz |
| StartedAt: 2019-10-16 04:30:20 -0400 (Wed, 16 Oct 2019) |
| EndedAt: 2019-10-16 04:35:07 -0400 (Wed, 16 Oct 2019) |
| EllapsedTime: 287.6 seconds |
| RetCode: 0 |
| Status: OK |
| CheckDir: iClusterPlus.Rcheck |
| Warnings: 0 |
##############################################################################
##############################################################################
###
### Running command:
###
### C:\Users\biocbuild\bbs-3.9-bioc\R\bin\R.exe CMD check --force-multiarch --install=check:iClusterPlus.install-out.txt --library=C:\Users\biocbuild\bbs-3.9-bioc\R\library --no-vignettes --timings iClusterPlus_1.20.0.tar.gz
###
##############################################################################
##############################################################################
* using log directory 'C:/Users/biocbuild/bbs-3.9-bioc/meat/iClusterPlus.Rcheck'
* using R version 3.6.1 (2019-07-05)
* using platform: x86_64-w64-mingw32 (64-bit)
* using session charset: ISO8859-1
* using option '--no-vignettes'
* checking for file 'iClusterPlus/DESCRIPTION' ... OK
* this is package 'iClusterPlus' version '1.20.0'
* checking package namespace information ... OK
* checking package dependencies ... OK
* checking if this is a source package ... OK
* checking if there is a namespace ... OK
* checking for hidden files and directories ... OK
* checking for portable file names ... OK
* checking whether package 'iClusterPlus' can be installed ... OK
* checking installed package size ... NOTE
installed size is 23.5Mb
sub-directories of 1Mb or more:
data 17.9Mb
doc 4.2Mb
libs 1.1Mb
* checking package directory ... OK
* checking 'build' directory ... OK
* checking DESCRIPTION meta-information ... OK
* checking top-level files ... NOTE
Found a 'configure.in' file: 'configure.ac' has long been preferred.
* checking for left-over files ... OK
* checking index information ... OK
* checking package subdirectories ... OK
* checking R files for non-ASCII characters ... OK
* checking R files for syntax errors ... OK
* loading checks for arch 'i386'
** checking whether the package can be loaded ... OK
** checking whether the package can be loaded with stated dependencies ... OK
** checking whether the package can be unloaded cleanly ... OK
** checking whether the namespace can be loaded with stated dependencies ... OK
** checking whether the namespace can be unloaded cleanly ... OK
* loading checks for arch 'x64'
** checking whether the package can be loaded ... OK
** checking whether the package can be loaded with stated dependencies ... OK
** checking whether the package can be unloaded cleanly ... OK
** checking whether the namespace can be loaded with stated dependencies ... OK
** checking whether the namespace can be unloaded cleanly ... OK
* checking dependencies in R code ... OK
* checking S3 generic/method consistency ... OK
* checking replacement functions ... OK
* checking foreign function calls ... OK
* checking R code for possible problems ... NOTE
CNregions: no visible binding for global variable 'chromosome'
CNregions: no visible binding for global variable 'num.mark'
CNregions: no visible global function definition for 'GRanges'
CNregions: no visible global function definition for 'IRanges'
CNregions: no visible global function definition for 'findOverlaps'
CNregions : get.medoid: no visible global function definition for 'pam'
classError: no visible global function definition for 'mapClass'
plotHMBayes: no visible global function definition for 'bluered'
plotHMBayes : my.panel.levelplot: no visible global function definition
for 'panel.levelplot'
plotHMBayes : my.panel.levelplot: no visible global function definition
for 'panel.abline'
plotHMBayes : my.panel.levelplot.2: no visible global function
definition for 'panel.levelplot'
plotHMBayes : my.panel.levelplot.2: no visible global function
definition for 'panel.abline'
plotHMBayes: no visible global function definition for 'levelplot'
plotHeatmap: no visible global function definition for 'bluered'
plotHeatmap : my.panel.levelplot: no visible global function definition
for 'panel.levelplot'
plotHeatmap : my.panel.levelplot: no visible global function definition
for 'panel.abline'
plotHeatmap : my.panel.levelplot.2: no visible global function
definition for 'panel.levelplot'
plotHeatmap : my.panel.levelplot.2: no visible global function
definition for 'panel.abline'
plotHeatmap: no visible global function definition for 'levelplot'
tune.iCluster2: no visible binding for global variable 'glp'
tune.iClusterPlus: no visible binding for global variable 'glp'
Undefined global functions or variables:
GRanges IRanges bluered chromosome findOverlaps glp levelplot
mapClass num.mark pam panel.abline panel.levelplot
* checking Rd files ... OK
* checking Rd metadata ... OK
* checking Rd cross-references ... OK
* checking for missing documentation entries ... OK
* checking for code/documentation mismatches ... OK
* checking Rd \usage sections ... OK
* checking Rd contents ... OK
* checking for unstated dependencies in examples ... OK
* checking contents of 'data' directory ... OK
* checking data for non-ASCII characters ... OK
* checking data for ASCII and uncompressed saves ... OK
* checking line endings in shell scripts ... OK
* checking line endings in C/C++/Fortran sources/headers ... OK
* checking line endings in Makefiles ... OK
* checking compilation flags in Makevars ... OK
* checking for GNU extensions in Makefiles ... OK
* checking for portable use of $(BLAS_LIBS) and $(LAPACK_LIBS) ... OK
* checking compiled code ... NOTE
Note: information on .o files for i386 is not available
Note: information on .o files for x64 is not available
File 'C:/Users/biocbuild/bbs-3.9-bioc/R/library/iClusterPlus/libs/i386/iClusterPlus.dll':
Found '_exit', possibly from '_exit' (C)
Found 'abort', possibly from 'abort' (C), 'runtime' (Fortran)
Found 'exit', possibly from 'exit' (C), 'stop' (Fortran)
Found 'printf', possibly from 'printf' (C)
File 'C:/Users/biocbuild/bbs-3.9-bioc/R/library/iClusterPlus/libs/x64/iClusterPlus.dll':
Found '_exit', possibly from '_exit' (C)
Found 'abort', possibly from 'abort' (C), 'runtime' (Fortran)
Found 'exit', possibly from 'exit' (C), 'stop' (Fortran)
Found 'printf', possibly from 'printf' (C)
Compiled code should not call entry points which might terminate R nor
write to stdout/stderr instead of to the console, nor use Fortran I/O
nor system RNGs. The detected symbols are linked into the code but
might come from libraries and not actually be called.
See 'Writing portable packages' in the 'Writing R Extensions' manual.
* checking installed files from 'inst/doc' ... OK
* checking files in 'vignettes' ... OK
* checking examples ...
** running examples for arch 'i386' ... OK
Examples with CPU or elapsed time > 5s
user system elapsed
iCluster 6.11 0.32 6.46
** running examples for arch 'x64' ... OK
* checking for unstated dependencies in 'tests' ... OK
* checking tests ...
** running tests for arch 'i386' ...
Running 'runTests.R'
OK
** running tests for arch 'x64' ...
Running 'runTests.R'
OK
* checking for unstated dependencies in vignettes ... OK
* checking package vignettes in 'inst/doc' ... OK
* checking running R code from vignettes ... SKIPPED
* checking re-building of vignette outputs ... SKIPPED
* checking PDF version of manual ... OK
* DONE
Status: 4 NOTEs
See
'C:/Users/biocbuild/bbs-3.9-bioc/meat/iClusterPlus.Rcheck/00check.log'
for details.
iClusterPlus.Rcheck/00install.out
##############################################################################
##############################################################################
###
### Running command:
###
### C:\cygwin\bin\curl.exe -O https://malbec2.bioconductor.org/BBS/3.9/bioc/src/contrib/iClusterPlus_1.20.0.tar.gz && rm -rf iClusterPlus.buildbin-libdir && mkdir iClusterPlus.buildbin-libdir && C:\Users\biocbuild\bbs-3.9-bioc\R\bin\R.exe CMD INSTALL --merge-multiarch --build --library=iClusterPlus.buildbin-libdir iClusterPlus_1.20.0.tar.gz && C:\Users\biocbuild\bbs-3.9-bioc\R\bin\R.exe CMD INSTALL iClusterPlus_1.20.0.zip && rm iClusterPlus_1.20.0.tar.gz iClusterPlus_1.20.0.zip
###
##############################################################################
##############################################################################
% Total % Received % Xferd Average Speed Time Time Time Current
Dload Upload Total Spent Left Speed
0 0 0 0 0 0 0 0 --:--:-- --:--:-- --:--:-- 0
100 20.2M 100 20.2M 0 0 43.3M 0 --:--:-- --:--:-- --:--:-- 43.9M
install for i386
* installing *source* package 'iClusterPlus' ...
** using staged installation
**********************************************
WARNING: this package has a configure script
It probably needs manual configuration
**********************************************
** libs
C:/Rtools/mingw_32/bin/gcc -I"C:/Users/BIOCBU~1/BBS-3~1.9-B/R/include" -DNDEBUG -I"C:/extsoft/include" -O3 -Wall -std=gnu99 -mtune=generic -c iClusterBayes.c -o iClusterBayes.o
iClusterBayes.c: In function 'mcmcBayes':
iClusterBayes.c:1212:28: warning: variable 'Zdraw' set but not used [-Wunused-but-set-variable]
int i,j,h,n,k,ID,Zburnin,Zdraw,ndt,nk,thin,nthin,remainder,ty0,p0,ty1,p1,ty2,p2,ty3,p3,ty4,p4,ty5,p5,betaBurnin,betaDraw,p0k,p1k,p2k,p3k,p4k,p5k;
^
iClusterBayes.c:1212:20: warning: variable 'Zburnin' set but not used [-Wunused-but-set-variable]
int i,j,h,n,k,ID,Zburnin,Zdraw,ndt,nk,thin,nthin,remainder,ty0,p0,ty1,p1,ty2,p2,ty3,p3,ty4,p4,ty5,p5,betaBurnin,betaDraw,p0k,p1k,p2k,p3k,p4k,p5k;
^
iClusterBayes.c:1214:174: warning: 'gb3' may be used uninitialized in this function [-Wmaybe-uninitialized]
double *sumMeanZ,*suma0,*sumb0,*suma1,*sumb1,*suma2,*sumb2,*suma3,*sumb3,*suma4,*sumb4,*suma5,*sumb5,*sumsig0,*sumsig1,*sumsig2,*sumsig3,*sumsig4,*sumsig5,*gb0,*gb1,*gb2,*gb3,*gb4,*gb5;
^
iClusterBayes.c:1475:5: warning: 'gb2' may be used uninitialized in this function [-Wmaybe-uninitialized]
mcmcMix6d(meanZ,lastZ,nkZbd,sdev,
^
iClusterBayes.c:1475:5: warning: 'gb1' may be used uninitialized in this function [-Wmaybe-uninitialized]
iClusterBayes.c:1475:5: warning: 'gb0' may be used uninitialized in this function [-Wmaybe-uninitialized]
iClusterBayes.c:1214:179: warning: 'gb4' may be used uninitialized in this function [-Wmaybe-uninitialized]
double *sumMeanZ,*suma0,*sumb0,*suma1,*sumb1,*suma2,*sumb2,*suma3,*sumb3,*suma4,*sumb4,*suma5,*sumb5,*sumsig0,*sumsig1,*sumsig2,*sumsig3,*sumsig4,*sumsig5,*gb0,*gb1,*gb2,*gb3,*gb4,*gb5;
^
iClusterBayes.c:1214:184: warning: 'gb5' may be used uninitialized in this function [-Wmaybe-uninitialized]
double *sumMeanZ,*suma0,*sumb0,*suma1,*sumb1,*suma2,*sumb2,*suma3,*sumb3,*suma4,*sumb4,*suma5,*sumb5,*sumsig0,*sumsig1,*sumsig2,*sumsig3,*sumsig4,*sumsig5,*gb0,*gb1,*gb2,*gb3,*gb4,*gb5;
^
C:/Rtools/mingw_32/bin/gcc -I"C:/Users/BIOCBU~1/BBS-3~1.9-B/R/include" -DNDEBUG -I"C:/extsoft/include" -O3 -Wall -std=gnu99 -mtune=generic -c iClusterPlus.c -o iClusterPlus.o
C:/Rtools/mingw_32/bin/gfortran -fdefault-real-8 -ffixed-form -O3 -mtune=generic -c newGLMnet.f90 -o newGLMnet.o
C:/Rtools/mingw_32/bin/gcc -shared -s -static-libgcc -o iClusterPlus.dll tmp.def iClusterBayes.o iClusterPlus.o newGLMnet.o -LC:/Users/BIOCBU~1/BBS-3~1.9-B/R/bin/i386 -lRlapack -LC:/Users/BIOCBU~1/BBS-3~1.9-B/R/bin/i386 -lRblas -lgfortran -lm -lquadmath -LC:/extsoft/lib/i386 -LC:/extsoft/lib -lgfortran -lm -lquadmath -LC:/Users/BIOCBU~1/BBS-3~1.9-B/R/bin/i386 -lR
installing to C:/Users/biocbuild/bbs-3.9-bioc/meat/iClusterPlus.buildbin-libdir/00LOCK-iClusterPlus/00new/iClusterPlus/libs/i386
** R
** data
*** moving datasets to lazyload DB
** demo
** inst
** byte-compile and prepare package for lazy loading
** help
*** installing help indices
converting help for package 'iClusterPlus'
finding HTML links ... done
CNregions html
breast.chr17 html
compute.pod html
coord html
gbm html
glp html
iCluster html
iCluster2 html
iClusterBayes html
iClusterPlus html
plotHMBayes html
plotHeatmap html
plotRI html
plotiCluster html
simuResult html
tune.iCluster2 html
tune.iClusterBayes html
tune.iClusterPlus html
utility html
variation.hg18.v10.nov.2010 html
** building package indices
** installing vignettes
'iClusterPlus.Rnw' using 'UTF-8'
** testing if installed package can be loaded from temporary location
** testing if installed package can be loaded from final location
** testing if installed package keeps a record of temporary installation path
install for x64
* installing *source* package 'iClusterPlus' ...
**********************************************
WARNING: this package has a configure script
It probably needs manual configuration
**********************************************
** libs
C:/Rtools/mingw_64/bin/gcc -I"C:/Users/BIOCBU~1/BBS-3~1.9-B/R/include" -DNDEBUG -I"C:/extsoft/include" -O2 -Wall -std=gnu99 -mtune=generic -c iClusterBayes.c -o iClusterBayes.o
iClusterBayes.c: In function 'mcmcBayes':
iClusterBayes.c:1212:28: warning: variable 'Zdraw' set but not used [-Wunused-but-set-variable]
int i,j,h,n,k,ID,Zburnin,Zdraw,ndt,nk,thin,nthin,remainder,ty0,p0,ty1,p1,ty2,p2,ty3,p3,ty4,p4,ty5,p5,betaBurnin,betaDraw,p0k,p1k,p2k,p3k,p4k,p5k;
^
iClusterBayes.c:1212:20: warning: variable 'Zburnin' set but not used [-Wunused-but-set-variable]
int i,j,h,n,k,ID,Zburnin,Zdraw,ndt,nk,thin,nthin,remainder,ty0,p0,ty1,p1,ty2,p2,ty3,p3,ty4,p4,ty5,p5,betaBurnin,betaDraw,p0k,p1k,p2k,p3k,p4k,p5k;
^
iClusterBayes.c:1214:174: warning: 'gb3' may be used uninitialized in this function [-Wmaybe-uninitialized]
double *sumMeanZ,*suma0,*sumb0,*suma1,*sumb1,*suma2,*sumb2,*suma3,*sumb3,*suma4,*sumb4,*suma5,*sumb5,*sumsig0,*sumsig1,*sumsig2,*sumsig3,*sumsig4,*sumsig5,*gb0,*gb1,*gb2,*gb3,*gb4,*gb5;
^
iClusterBayes.c:1475:5: warning: 'gb2' may be used uninitialized in this function [-Wmaybe-uninitialized]
mcmcMix6d(meanZ,lastZ,nkZbd,sdev,
^
iClusterBayes.c:1475:5: warning: 'gb1' may be used uninitialized in this function [-Wmaybe-uninitialized]
iClusterBayes.c:1475:5: warning: 'gb0' may be used uninitialized in this function [-Wmaybe-uninitialized]
iClusterBayes.c:1214:179: warning: 'gb4' may be used uninitialized in this function [-Wmaybe-uninitialized]
double *sumMeanZ,*suma0,*sumb0,*suma1,*sumb1,*suma2,*sumb2,*suma3,*sumb3,*suma4,*sumb4,*suma5,*sumb5,*sumsig0,*sumsig1,*sumsig2,*sumsig3,*sumsig4,*sumsig5,*gb0,*gb1,*gb2,*gb3,*gb4,*gb5;
^
iClusterBayes.c:1214:184: warning: 'gb5' may be used uninitialized in this function [-Wmaybe-uninitialized]
double *sumMeanZ,*suma0,*sumb0,*suma1,*sumb1,*suma2,*sumb2,*suma3,*sumb3,*suma4,*sumb4,*suma5,*sumb5,*sumsig0,*sumsig1,*sumsig2,*sumsig3,*sumsig4,*sumsig5,*gb0,*gb1,*gb2,*gb3,*gb4,*gb5;
^
C:/Rtools/mingw_64/bin/gcc -I"C:/Users/BIOCBU~1/BBS-3~1.9-B/R/include" -DNDEBUG -I"C:/extsoft/include" -O2 -Wall -std=gnu99 -mtune=generic -c iClusterPlus.c -o iClusterPlus.o
C:/Rtools/mingw_64/bin/gfortran -fdefault-real-8 -ffixed-form -O2 -mtune=generic -c newGLMnet.f90 -o newGLMnet.o
C:/Rtools/mingw_64/bin/gcc -shared -s -static-libgcc -o iClusterPlus.dll tmp.def iClusterBayes.o iClusterPlus.o newGLMnet.o -LC:/Users/BIOCBU~1/BBS-3~1.9-B/R/bin/x64 -lRlapack -LC:/Users/BIOCBU~1/BBS-3~1.9-B/R/bin/x64 -lRblas -lgfortran -lm -lquadmath -LC:/extsoft/lib/x64 -LC:/extsoft/lib -lgfortran -lm -lquadmath -LC:/Users/BIOCBU~1/BBS-3~1.9-B/R/bin/x64 -lR
installing to C:/Users/biocbuild/bbs-3.9-bioc/meat/iClusterPlus.buildbin-libdir/iClusterPlus/libs/x64
** testing if installed package can be loaded
* MD5 sums
packaged installation of 'iClusterPlus' as iClusterPlus_1.20.0.zip
* DONE (iClusterPlus)
* installing to library 'C:/Users/biocbuild/bbs-3.9-bioc/R/library'
package 'iClusterPlus' successfully unpacked and MD5 sums checked
|
iClusterPlus.Rcheck/tests_i386/runTests.Rout
R version 3.6.1 (2019-07-05) -- "Action of the Toes"
Copyright (C) 2019 The R Foundation for Statistical Computing
Platform: i386-w64-mingw32/i386 (32-bit)
R is free software and comes with ABSOLUTELY NO WARRANTY.
You are welcome to redistribute it under certain conditions.
Type 'license()' or 'licence()' for distribution details.
R is a collaborative project with many contributors.
Type 'contributors()' for more information and
'citation()' on how to cite R or R packages in publications.
Type 'demo()' for some demos, 'help()' for on-line help, or
'help.start()' for an HTML browser interface to help.
Type 'q()' to quit R.
> BiocGenerics:::testPackage("iClusterPlus")
RUNIT TEST PROTOCOL -- Wed Oct 16 04:33:26 2019
***********************************************
Number of test functions: 0
Number of errors: 0
Number of failures: 0
1 Test Suite :
iClusterPlus RUnit Tests - 0 test functions, 0 errors, 0 failures
Number of test functions: 0
Number of errors: 0
Number of failures: 0
>
>
> proc.time()
user system elapsed
104.01 0.29 104.60
|
iClusterPlus.Rcheck/tests_x64/runTests.Rout
R version 3.6.1 (2019-07-05) -- "Action of the Toes"
Copyright (C) 2019 The R Foundation for Statistical Computing
Platform: x86_64-w64-mingw32/x64 (64-bit)
R is free software and comes with ABSOLUTELY NO WARRANTY.
You are welcome to redistribute it under certain conditions.
Type 'license()' or 'licence()' for distribution details.
R is a collaborative project with many contributors.
Type 'contributors()' for more information and
'citation()' on how to cite R or R packages in publications.
Type 'demo()' for some demos, 'help()' for on-line help, or
'help.start()' for an HTML browser interface to help.
Type 'q()' to quit R.
> BiocGenerics:::testPackage("iClusterPlus")
RUNIT TEST PROTOCOL -- Wed Oct 16 04:35:01 2019
***********************************************
Number of test functions: 0
Number of errors: 0
Number of failures: 0
1 Test Suite :
iClusterPlus RUnit Tests - 0 test functions, 0 errors, 0 failures
Number of test functions: 0
Number of errors: 0
Number of failures: 0
>
>
> proc.time()
user system elapsed
94.62 0.09 94.70
|
|
iClusterPlus.Rcheck/examples_i386/iClusterPlus-Ex.timings
|
iClusterPlus.Rcheck/examples_x64/iClusterPlus-Ex.timings
|