| Back to Multiple platform build/check report for BioC 3.9 |
|
This page was generated on 2019-10-16 12:34:09 -0400 (Wed, 16 Oct 2019).
| Package 788/1741 | Hostname | OS / Arch | INSTALL | BUILD | CHECK | BUILD BIN | ||||||
| iCheck 1.14.0 Weiliang Qiu
| malbec2 | Linux (Ubuntu 18.04.2 LTS) / x86_64 | OK | OK | OK | |||||||
| tokay2 | Windows Server 2012 R2 Standard / x64 | OK | OK | OK | [ OK ] | |||||||
| celaya2 | OS X 10.11.6 El Capitan / x86_64 | OK | OK | WARNINGS | OK |
| Package: iCheck |
| Version: 1.14.0 |
| Command: rm -rf iCheck.buildbin-libdir && mkdir iCheck.buildbin-libdir && C:\Users\biocbuild\bbs-3.9-bioc\R\bin\R.exe CMD INSTALL --merge-multiarch --build --library=iCheck.buildbin-libdir iCheck_1.14.0.tar.gz |
| StartedAt: 2019-10-16 09:27:31 -0400 (Wed, 16 Oct 2019) |
| EndedAt: 2019-10-16 09:29:17 -0400 (Wed, 16 Oct 2019) |
| EllapsedTime: 106.1 seconds |
| RetCode: 0 |
| Status: OK |
| PackageFile: iCheck_1.14.0.zip |
| PackageFileSize: 674 KiB |
##############################################################################
##############################################################################
###
### Running command:
###
### rm -rf iCheck.buildbin-libdir && mkdir iCheck.buildbin-libdir && C:\Users\biocbuild\bbs-3.9-bioc\R\bin\R.exe CMD INSTALL --merge-multiarch --build --library=iCheck.buildbin-libdir iCheck_1.14.0.tar.gz
###
##############################################################################
##############################################################################
install for i386
* installing *source* package 'iCheck' ...
** using staged installation
** R
** inst
** byte-compile and prepare package for lazy loading
** help
*** installing help indices
converting help for package 'iCheck'
finding HTML links ... done
LumiBatch2Table html
R2PlotFunc html
finding level-2 HTML links ... done
boxPlots html
densityPlots html
genExprSet html
genSimData.BayesNormal html
getPCAFunc html
glmWrapper html
lkhrWrapper html
lmFitPaired html
lmFitWrapper html
pca2DPlot html
pca3DPlot html
plotCurves html
plotQCCurves html
plotSamplep95p05 html
quantilePlot html
scatterPlots html
sortExpressionSet html
** building package indices
** installing vignettes
** testing if installed package can be loaded from temporary location
** testing if installed package can be loaded from final location
** testing if installed package keeps a record of temporary installation path
install for x64
* installing *source* package 'iCheck' ...
** testing if installed package can be loaded
* MD5 sums
packaged installation of 'iCheck' as iCheck_1.14.0.zip
* DONE (iCheck)