| Back to Multiple platform build/check report for BioC 3.9 | 
 | 
This page was generated on 2019-10-16 12:44:14 -0400 (Wed, 16 Oct 2019).
| Package 708/1741 | Hostname | OS / Arch | INSTALL | BUILD | CHECK | BUILD BIN | ||||||
| gpuMagic 1.0.0 Jiefei Wang 
 | malbec2 | Linux (Ubuntu 18.04.2 LTS) / x86_64 | OK | ERROR | skipped | |||||||
| tokay2 | Windows Server 2012 R2 Standard / x64 | ERROR | [ ERROR ] | skipped | skipped | |||||||
| celaya2 | OS X 10.11.6 El Capitan / x86_64 | OK | OK | OK | OK |  | 
| Package: gpuMagic | 
| Version: 1.0.0 | 
| Command: chmod a+r gpuMagic -R && C:\Users\biocbuild\bbs-3.9-bioc\R\bin\R.exe CMD build --keep-empty-dirs --no-resave-data gpuMagic | 
| StartedAt: 2019-10-16 01:37:08 -0400 (Wed, 16 Oct 2019) | 
| EndedAt: 2019-10-16 01:37:37 -0400 (Wed, 16 Oct 2019) | 
| EllapsedTime: 28.2 seconds | 
| RetCode: 1 | 
| Status: ERROR | 
| PackageFile: gpuMagic_1.0.0.tar.gz | 
| PackageFileSize: 129.9 KiB | 
##############################################################################
##############################################################################
###
### Running command:
###
###   chmod a+r gpuMagic -R && C:\Users\biocbuild\bbs-3.9-bioc\R\bin\R.exe CMD build --keep-empty-dirs --no-resave-data gpuMagic
###
##############################################################################
##############################################################################
* checking for file 'gpuMagic/DESCRIPTION' ... OK
* preparing 'gpuMagic':
* checking DESCRIPTION meta-information ... OK
* cleaning src
* installing the package to build vignettes
      -----------------------------------
* installing *source* package 'gpuMagic' ...
** using staged installation
** libs
C:/Rtools/mingw_64/bin/g++  -std=gnu++11 -I"C:/Users/BIOCBU~1/BBS-3~1.9-B/R/include" -DNDEBUG -IC:/Users/BIOCBU~1/BBS-3~1.9-B/R/include -I../inst/include/inc -DCL_TARGET_OPENCL_VERSION=220 -DCL_USE_DEPRECATED_OPENCL_1_2_APIS -I"C:/Users/biocbuild/bbs-3.9-bioc/R/library/Rcpp/include"   -I"C:/extsoft/include"     -O2 -Wall  -mtune=generic -c C_Interface.cpp -o C_Interface.o
C:/Rtools/mingw_64/bin/g++  -std=gnu++11 -I"C:/Users/BIOCBU~1/BBS-3~1.9-B/R/include" -DNDEBUG -IC:/Users/BIOCBU~1/BBS-3~1.9-B/R/include -I../inst/include/inc -DCL_TARGET_OPENCL_VERSION=220 -DCL_USE_DEPRECATED_OPENCL_1_2_APIS -I"C:/Users/biocbuild/bbs-3.9-bioc/R/library/Rcpp/include"   -I"C:/extsoft/include"     -O2 -Wall  -mtune=generic -c R_functionRegistration.cpp -o R_functionRegistration.o
C:/Rtools/mingw_64/bin/g++  -std=gnu++11 -I"C:/Users/BIOCBU~1/BBS-3~1.9-B/R/include" -DNDEBUG -IC:/Users/BIOCBU~1/BBS-3~1.9-B/R/include -I../inst/include/inc -DCL_TARGET_OPENCL_VERSION=220 -DCL_USE_DEPRECATED_OPENCL_1_2_APIS -I"C:/Users/biocbuild/bbs-3.9-bioc/R/library/Rcpp/include"   -I"C:/extsoft/include"     -O2 -Wall  -mtune=generic -c Tools.cpp -o Tools.o
C:/Rtools/mingw_64/bin/g++  -std=gnu++11 -I"C:/Users/BIOCBU~1/BBS-3~1.9-B/R/include" -DNDEBUG -IC:/Users/BIOCBU~1/BBS-3~1.9-B/R/include -I../inst/include/inc -DCL_TARGET_OPENCL_VERSION=220 -DCL_USE_DEPRECATED_OPENCL_1_2_APIS -I"C:/Users/biocbuild/bbs-3.9-bioc/R/library/Rcpp/include"   -I"C:/extsoft/include"     -O2 -Wall  -mtune=generic -c kernelManager.cpp -o kernelManager.o
C:/Rtools/mingw_64/bin/g++  -std=gnu++11 -I"C:/Users/BIOCBU~1/BBS-3~1.9-B/R/include" -DNDEBUG -IC:/Users/BIOCBU~1/BBS-3~1.9-B/R/include -I../inst/include/inc -DCL_TARGET_OPENCL_VERSION=220 -DCL_USE_DEPRECATED_OPENCL_1_2_APIS -I"C:/Users/biocbuild/bbs-3.9-bioc/R/library/Rcpp/include"   -I"C:/extsoft/include"     -O2 -Wall  -mtune=generic -c openArray.cpp -o openArray.o
C:/Rtools/mingw_64/bin/g++ -shared -s -static-libgcc -o gpuMagic.dll tmp.def C_Interface.o R_functionRegistration.o Tools.o kernelManager.o openArray.o C:\Windows/System32/OpenCL.dll -LC:/extsoft/lib/x64 -LC:/extsoft/lib -LC:/Users/BIOCBU~1/BBS-3~1.9-B/R/bin/x64 -lR
g++.exe: error: C:\Windows/System32/OpenCL.dll: No such file or directory
no DLL was created
ERROR: compilation failed for package 'gpuMagic'
* removing 'C:/Users/biocbuild/bbs-3.9-bioc/tmpdir/RtmpOef8Dv/Rinstec44df92e2d/gpuMagic'
      -----------------------------------
ERROR: package installation failed