| Back to Multiple platform build/check report for BioC 3.9 |
|
This page was generated on 2019-10-16 12:42:27 -0400 (Wed, 16 Oct 2019).
| Package 685/1741 | Hostname | OS / Arch | INSTALL | BUILD | CHECK | BUILD BIN | ||||||
| glmSparseNet 1.2.0 AndrĂ© VerĂssimo
| malbec2 | Linux (Ubuntu 18.04.2 LTS) / x86_64 | OK | OK | OK | |||||||
| tokay2 | Windows Server 2012 R2 Standard / x64 | [ OK ] | OK | OK | OK | |||||||
| celaya2 | OS X 10.11.6 El Capitan / x86_64 | OK | OK | OK | OK |
| Package: glmSparseNet |
| Version: 1.2.0 |
| Command: C:\cygwin\bin\curl.exe -O https://malbec2.bioconductor.org/BBS/3.9/bioc/src/contrib/glmSparseNet_1.2.0.tar.gz && rm -rf glmSparseNet.buildbin-libdir && mkdir glmSparseNet.buildbin-libdir && C:\Users\biocbuild\bbs-3.9-bioc\R\bin\R.exe CMD INSTALL --merge-multiarch --build --library=glmSparseNet.buildbin-libdir glmSparseNet_1.2.0.tar.gz && C:\Users\biocbuild\bbs-3.9-bioc\R\bin\R.exe CMD INSTALL glmSparseNet_1.2.0.zip && rm glmSparseNet_1.2.0.tar.gz glmSparseNet_1.2.0.zip |
| StartedAt: 2019-10-15 20:17:48 -0400 (Tue, 15 Oct 2019) |
| EndedAt: 2019-10-15 20:19:38 -0400 (Tue, 15 Oct 2019) |
| EllapsedTime: 109.7 seconds |
| RetCode: 0 |
| Status: OK |
##############################################################################
##############################################################################
###
### Running command:
###
### C:\cygwin\bin\curl.exe -O https://malbec2.bioconductor.org/BBS/3.9/bioc/src/contrib/glmSparseNet_1.2.0.tar.gz && rm -rf glmSparseNet.buildbin-libdir && mkdir glmSparseNet.buildbin-libdir && C:\Users\biocbuild\bbs-3.9-bioc\R\bin\R.exe CMD INSTALL --merge-multiarch --build --library=glmSparseNet.buildbin-libdir glmSparseNet_1.2.0.tar.gz && C:\Users\biocbuild\bbs-3.9-bioc\R\bin\R.exe CMD INSTALL glmSparseNet_1.2.0.zip && rm glmSparseNet_1.2.0.tar.gz glmSparseNet_1.2.0.zip
###
##############################################################################
##############################################################################
% Total % Received % Xferd Average Speed Time Time Time Current
Dload Upload Total Spent Left Speed
0 0 0 0 0 0 0 0 --:--:-- --:--:-- --:--:-- 0
100 740k 100 740k 0 0 5321k 0 --:--:-- --:--:-- --:--:-- 5566k
install for i386
* installing *source* package 'glmSparseNet' ...
** using staged installation
** R
** data
*** moving datasets to lazyload DB
** inst
** byte-compile and prepare package for lazy loading
** help
*** installing help indices
converting help for package 'glmSparseNet'
finding HTML links ... done
buildLambda html
buildStringNetwork html
cv.glmDegree html
cv.glmHub html
cv.glmOrphan html
cv.glmSparseNet html
degreeCor html
degreeCov html
degreeSparsebn html
dot-calcPenalty html
dot-degreeGeneric html
dot-glmSparseNetPrivate html
dot-networkGenericParallel html
dot-networkWorker html
ensemblGeneNames html
geneNames html
glmDegree html
glmHub html
glmOrphan html
glmSparseNet html
hallmarks html
heuristicScale html
hubHeuristic html
networkCorParallel html
networkCovParallel html
networkOptions html
orphanHeuristic html
protein2EnsemblGeneNames html
separate2GroupsCox html
string.network.700.cache html
stringDBhomoSapiens html
** building package indices
** installing vignettes
** testing if installed package can be loaded from temporary location
** testing if installed package can be loaded from final location
** testing if installed package keeps a record of temporary installation path
install for x64
* installing *source* package 'glmSparseNet' ...
** testing if installed package can be loaded
* MD5 sums
packaged installation of 'glmSparseNet' as glmSparseNet_1.2.0.zip
* DONE (glmSparseNet)
* installing to library 'C:/Users/biocbuild/bbs-3.9-bioc/R/library'
package 'glmSparseNet' successfully unpacked and MD5 sums checked