| Back to Multiple platform build/check report for BioC 3.9 | 
 | 
This page was generated on 2019-10-16 13:01:25 -0400 (Wed, 16 Oct 2019).
| Package 671/1741 | Hostname | OS / Arch | INSTALL | BUILD | CHECK | BUILD BIN | ||||||
| gep2pep 1.4.0 Francesco Napolitano 
 | malbec2 | Linux (Ubuntu 18.04.2 LTS) / x86_64 | OK | OK | OK |  | ||||||
| tokay2 | Windows Server 2012 R2 Standard / x64 | OK | OK | OK | OK |  | ||||||
| celaya2 | OS X 10.11.6 El Capitan / x86_64 | OK | [ OK ] | OK | OK |  | 
| Package: gep2pep | 
| Version: 1.4.0 | 
| Command: /Library/Frameworks/R.framework/Versions/Current/Resources/bin/R CMD build --keep-empty-dirs --no-resave-data gep2pep | 
| StartedAt: 2019-10-15 23:16:48 -0400 (Tue, 15 Oct 2019) | 
| EndedAt: 2019-10-15 23:17:17 -0400 (Tue, 15 Oct 2019) | 
| EllapsedTime: 29.1 seconds | 
| RetCode: 0 | 
| Status: OK | 
| PackageFile: gep2pep_1.4.0.tar.gz | 
| PackageFileSize: 119.1 KiB | 
############################################################################## ############################################################################## ### ### Running command: ### ### /Library/Frameworks/R.framework/Versions/Current/Resources/bin/R CMD build --keep-empty-dirs --no-resave-data gep2pep ### ############################################################################## ############################################################################## * checking for file ‘gep2pep/DESCRIPTION’ ... OK * preparing ‘gep2pep’: * checking DESCRIPTION meta-information ... OK * installing the package to build vignettes * creating vignettes ... OK * checking for LF line-endings in source and make files and shell scripts * checking for empty or unneeded directories * building ‘gep2pep_1.4.0.tar.gz’