| Back to Multiple platform build/check report for BioC 3.9 |
|
This page was generated on 2019-10-16 12:37:23 -0400 (Wed, 16 Oct 2019).
| Package 608/1741 | Hostname | OS / Arch | INSTALL | BUILD | CHECK | BUILD BIN | ||||||
| gcapc 1.8.0 Mingxiang Teng
| malbec2 | Linux (Ubuntu 18.04.2 LTS) / x86_64 | OK | OK | OK | |||||||
| tokay2 | Windows Server 2012 R2 Standard / x64 | OK | OK | WARNINGS | [ OK ] | |||||||
| celaya2 | OS X 10.11.6 El Capitan / x86_64 | OK | OK | OK | OK |
| Package: gcapc |
| Version: 1.8.0 |
| Command: rm -rf gcapc.buildbin-libdir && mkdir gcapc.buildbin-libdir && C:\Users\biocbuild\bbs-3.9-bioc\R\bin\R.exe CMD INSTALL --merge-multiarch --build --library=gcapc.buildbin-libdir gcapc_1.8.0.tar.gz |
| StartedAt: 2019-10-16 09:15:38 -0400 (Wed, 16 Oct 2019) |
| EndedAt: 2019-10-16 09:16:26 -0400 (Wed, 16 Oct 2019) |
| EllapsedTime: 48.4 seconds |
| RetCode: 0 |
| Status: OK |
| PackageFile: gcapc_1.8.0.zip |
| PackageFileSize: 3.696 MiB |
##############################################################################
##############################################################################
###
### Running command:
###
### rm -rf gcapc.buildbin-libdir && mkdir gcapc.buildbin-libdir && C:\Users\biocbuild\bbs-3.9-bioc\R\bin\R.exe CMD INSTALL --merge-multiarch --build --library=gcapc.buildbin-libdir gcapc_1.8.0.tar.gz
###
##############################################################################
##############################################################################
install for i386
* installing *source* package 'gcapc' ...
** using staged installation
** R
** inst
** byte-compile and prepare package for lazy loading
** help
*** installing help indices
converting help for package 'gcapc'
finding HTML links ... done
bindWidth html
gcEffects html
Rd warning: C:/Users/biocbuild/bbs-3.9-bioc/tmpdir/RtmpKo8sqG/R.INSTALL26687dbb29/gcapc/man/gcEffects.Rd:92: file link 'BSgenome' in package 'BSgenome' does not exist and so has been treated as a topic
Rd warning: C:/Users/biocbuild/bbs-3.9-bioc/tmpdir/RtmpKo8sqG/R.INSTALL26687dbb29/gcapc/man/gcEffects.Rd:95: file link 'getBSgenome' in package 'BSgenome' does not exist and so has been treated as a topic
Rd warning: C:/Users/biocbuild/bbs-3.9-bioc/tmpdir/RtmpKo8sqG/R.INSTALL26687dbb29/gcapc/man/gcEffects.Rd:97: file link 'getBSgenome' in package 'BSgenome' does not exist and so has been treated as a topic
gcapcPeaks html
Rd warning: C:/Users/biocbuild/bbs-3.9-bioc/tmpdir/RtmpKo8sqG/R.INSTALL26687dbb29/gcapc/man/gcapcPeaks.Rd:47: file link 'BSgenome' in package 'BSgenome' does not exist and so has been treated as a topic
Rd warning: C:/Users/biocbuild/bbs-3.9-bioc/tmpdir/RtmpKo8sqG/R.INSTALL26687dbb29/gcapc/man/gcapcPeaks.Rd:50: file link 'getBSgenome' in package 'BSgenome' does not exist and so has been treated as a topic
Rd warning: C:/Users/biocbuild/bbs-3.9-bioc/tmpdir/RtmpKo8sqG/R.INSTALL26687dbb29/gcapc/man/gcapcPeaks.Rd:52: file link 'getBSgenome' in package 'BSgenome' does not exist and so has been treated as a topic
peaksCAT html
read5endCoverage html
refinePeaks html
Rd warning: C:/Users/biocbuild/bbs-3.9-bioc/tmpdir/RtmpKo8sqG/R.INSTALL26687dbb29/gcapc/man/refinePeaks.Rd:42: file link 'BSgenome' in package 'BSgenome' does not exist and so has been treated as a topic
Rd warning: C:/Users/biocbuild/bbs-3.9-bioc/tmpdir/RtmpKo8sqG/R.INSTALL26687dbb29/gcapc/man/refinePeaks.Rd:45: file link 'getBSgenome' in package 'BSgenome' does not exist and so has been treated as a topic
Rd warning: C:/Users/biocbuild/bbs-3.9-bioc/tmpdir/RtmpKo8sqG/R.INSTALL26687dbb29/gcapc/man/refinePeaks.Rd:47: file link 'getBSgenome' in package 'BSgenome' does not exist and so has been treated as a topic
refineSites html
Rd warning: C:/Users/biocbuild/bbs-3.9-bioc/tmpdir/RtmpKo8sqG/R.INSTALL26687dbb29/gcapc/man/refineSites.Rd:93: file link 'BSgenome' in package 'BSgenome' does not exist and so has been treated as a topic
Rd warning: C:/Users/biocbuild/bbs-3.9-bioc/tmpdir/RtmpKo8sqG/R.INSTALL26687dbb29/gcapc/man/refineSites.Rd:96: file link 'getBSgenome' in package 'BSgenome' does not exist and so has been treated as a topic
Rd warning: C:/Users/biocbuild/bbs-3.9-bioc/tmpdir/RtmpKo8sqG/R.INSTALL26687dbb29/gcapc/man/refineSites.Rd:98: file link 'getBSgenome' in package 'BSgenome' does not exist and so has been treated as a topic
** building package indices
** installing vignettes
** testing if installed package can be loaded from temporary location
** testing if installed package can be loaded from final location
** testing if installed package keeps a record of temporary installation path
install for x64
* installing *source* package 'gcapc' ...
** testing if installed package can be loaded
* MD5 sums
packaged installation of 'gcapc' as gcapc_1.8.0.zip
* DONE (gcapc)