| Back to Multiple platform build/check report for BioC 3.9 |
|
This page was generated on 2019-10-16 12:38:10 -0400 (Wed, 16 Oct 2019).
| Package 580/1741 | Hostname | OS / Arch | INSTALL | BUILD | CHECK | BUILD BIN | ||||||
| flowTime 1.8.0 R. Clay Wright
| malbec2 | Linux (Ubuntu 18.04.2 LTS) / x86_64 | OK | OK | OK | |||||||
| tokay2 | Windows Server 2012 R2 Standard / x64 | OK | OK | OK | [ OK ] | |||||||
| celaya2 | OS X 10.11.6 El Capitan / x86_64 | OK | OK | OK | OK |
| Package: flowTime |
| Version: 1.8.0 |
| Command: rm -rf flowTime.buildbin-libdir && mkdir flowTime.buildbin-libdir && C:\Users\biocbuild\bbs-3.9-bioc\R\bin\R.exe CMD INSTALL --merge-multiarch --build --library=flowTime.buildbin-libdir flowTime_1.8.0.tar.gz |
| StartedAt: 2019-10-16 09:13:53 -0400 (Wed, 16 Oct 2019) |
| EndedAt: 2019-10-16 09:14:35 -0400 (Wed, 16 Oct 2019) |
| EllapsedTime: 42.7 seconds |
| RetCode: 0 |
| Status: OK |
| PackageFile: flowTime_1.8.0.zip |
| PackageFileSize: 2.214 MiB |
##############################################################################
##############################################################################
###
### Running command:
###
### rm -rf flowTime.buildbin-libdir && mkdir flowTime.buildbin-libdir && C:\Users\biocbuild\bbs-3.9-bioc\R\bin\R.exe CMD INSTALL --merge-multiarch --build --library=flowTime.buildbin-libdir flowTime_1.8.0.tar.gz
###
##############################################################################
##############################################################################
install for i386
* installing *source* package 'flowTime' ...
** using staged installation
** R
** data
*** moving datasets to lazyload DB
** inst
** byte-compile and prepare package for lazy loading
** help
*** installing help indices
converting help for package 'flowTime'
finding HTML links ... done
addbs html
addnorm html
annotateFlowSet html
createAnnotation html
dipdoubletGate html
dipsingletGate html
flsummary html
getTime html
hapdoubletGate html
hapsingletGate html
loadGates html
ploidy html
polygate html
qaGating html
read.plateSet html
saveGates html
steadyState html
summarizeFlow html
yeastGate html
** building package indices
** installing vignettes
** testing if installed package can be loaded from temporary location
** testing if installed package can be loaded from final location
** testing if installed package keeps a record of temporary installation path
install for x64
* installing *source* package 'flowTime' ...
** testing if installed package can be loaded
* MD5 sums
packaged installation of 'flowTime' as flowTime_1.8.0.zip
* DONE (flowTime)