| Back to Multiple platform build/check report for BioC 3.9 |
|
This page was generated on 2019-10-16 12:22:36 -0400 (Wed, 16 Oct 2019).
| Package 579/1741 | Hostname | OS / Arch | INSTALL | BUILD | CHECK | BUILD BIN | ||||||
| flowStats 3.42.0 Greg Finak
| malbec2 | Linux (Ubuntu 18.04.2 LTS) / x86_64 | OK | OK | OK | |||||||
| tokay2 | Windows Server 2012 R2 Standard / x64 | OK | OK | WARNINGS | [ OK ] | |||||||
| celaya2 | OS X 10.11.6 El Capitan / x86_64 | OK | OK | OK | OK |
| Package: flowStats |
| Version: 3.42.0 |
| Command: rm -rf flowStats.buildbin-libdir && mkdir flowStats.buildbin-libdir && C:\Users\biocbuild\bbs-3.9-bioc\R\bin\R.exe CMD INSTALL --merge-multiarch --build --library=flowStats.buildbin-libdir flowStats_3.42.0.tar.gz |
| StartedAt: 2019-10-16 09:13:49 -0400 (Wed, 16 Oct 2019) |
| EndedAt: 2019-10-16 09:14:31 -0400 (Wed, 16 Oct 2019) |
| EllapsedTime: 42.8 seconds |
| RetCode: 0 |
| Status: OK |
| PackageFile: flowStats_3.42.0.zip |
| PackageFileSize: 4.604 MiB |
##############################################################################
##############################################################################
###
### Running command:
###
### rm -rf flowStats.buildbin-libdir && mkdir flowStats.buildbin-libdir && C:\Users\biocbuild\bbs-3.9-bioc\R\bin\R.exe CMD INSTALL --merge-multiarch --build --library=flowStats.buildbin-libdir flowStats_3.42.0.tar.gz
###
##############################################################################
##############################################################################
install for i386
* installing *source* package 'flowStats' ...
** using staged installation
** R
** data
** inst
** byte-compile and prepare package for lazy loading
** help
*** installing help indices
converting help for package 'flowStats'
finding HTML links ... done
BackGating html
ITN html
addName-methods html
autoGate html
Rd warning: C:/Users/biocbuild/bbs-3.9-bioc/tmpdir/Rtmpc3zJ79/R.INSTALL2b70197e1fe4/flowStats/man/autoGate.Rd:21: file link 'rectangleGate' in package 'flowCore' does not exist and so has been treated as a topic
binByRef html
calcPBChiSquare html
calcPearsonChi html
curv1Filter-class html
finding level-2 HTML links ... done
curv2Filter-class html
curvPeaks html
density1d html
fdPar html
flowStats-package html
gate_singlet html
Rd warning: C:/Users/biocbuild/bbs-3.9-bioc/tmpdir/Rtmpc3zJ79/R.INSTALL2b70197e1fe4/flowStats/man/gate_singlet.Rd:47: file link 'polygonGate' in package 'flowCore' does not exist and so has been treated as a topic
gaussNorm html
gpaSet html
iProcrustes html
idFeaturesByBackgating html
landmarkMatrix html
lymphGate html
Rd warning: C:/Users/biocbuild/bbs-3.9-bioc/tmpdir/Rtmpc3zJ79/R.INSTALL2b70197e1fe4/flowStats/man/lymphGate.Rd:83: file link 'rectangleGate' in package 'flowCore' does not exist and so has been treated as a topic
normQA html
normalize html
Rd warning: C:/Users/biocbuild/bbs-3.9-bioc/tmpdir/Rtmpc3zJ79/R.INSTALL2b70197e1fe4/flowStats/man/normalize.Rd:58: file link 'ncdfFlowSet' in package 'ncdfFlow' does not exist and so has been treated as a topic
overton_like html
plotBins html
proBin html
quadrantGate html
Rd warning: C:/Users/biocbuild/bbs-3.9-bioc/tmpdir/Rtmpc3zJ79/R.INSTALL2b70197e1fe4/flowStats/man/quadrantGate.Rd:71: file link 'quadGate' in package 'flowCore' does not exist and so has been treated as a topic
Rd warning: C:/Users/biocbuild/bbs-3.9-bioc/tmpdir/Rtmpc3zJ79/R.INSTALL2b70197e1fe4/flowStats/man/quadrantGate.Rd:79: file link 'quadGate' in package 'flowCore' does not exist and so has been treated as a topic
rangeGate html
Rd warning: C:/Users/biocbuild/bbs-3.9-bioc/tmpdir/Rtmpc3zJ79/R.INSTALL2b70197e1fe4/flowStats/man/rangeGate.Rd:135: file link 'rectangleGate' in package 'flowCore' does not exist and so has been treated as a topic
Rd warning: C:/Users/biocbuild/bbs-3.9-bioc/tmpdir/Rtmpc3zJ79/R.INSTALL2b70197e1fe4/flowStats/man/rangeGate.Rd:145: file link 'rectangleGate' in package 'flowCore' does not exist and so has been treated as a topic
spillover_ng-flowSet html
warpSet html
** building package indices
** installing vignettes
** testing if installed package can be loaded from temporary location
** testing if installed package can be loaded from final location
** testing if installed package keeps a record of temporary installation path
install for x64
* installing *source* package 'flowStats' ...
** testing if installed package can be loaded
* MD5 sums
packaged installation of 'flowStats' as flowStats_3.42.0.zip
* DONE (flowStats)