| Back to Multiple platform build/check report for BioC 3.9 |
|
This page was generated on 2019-10-16 12:22:04 -0400 (Wed, 16 Oct 2019).
| Package 487/1741 | Hostname | OS / Arch | INSTALL | BUILD | CHECK | BUILD BIN | ||||||
| edgeR 3.26.8 Yunshun Chen
| malbec2 | Linux (Ubuntu 18.04.2 LTS) / x86_64 | OK | OK | OK | |||||||
| tokay2 | Windows Server 2012 R2 Standard / x64 | OK | [ OK ] | OK | OK | |||||||
| celaya2 | OS X 10.11.6 El Capitan / x86_64 | OK | OK | OK | OK |
| Package: edgeR |
| Version: 3.26.8 |
| Command: chmod a+r edgeR -R && C:\Users\biocbuild\bbs-3.9-bioc\R\bin\R.exe CMD build --keep-empty-dirs --no-resave-data edgeR |
| StartedAt: 2019-10-15 21:45:49 -0400 (Tue, 15 Oct 2019) |
| EndedAt: 2019-10-15 21:48:07 -0400 (Tue, 15 Oct 2019) |
| EllapsedTime: 137.6 seconds |
| RetCode: 0 |
| Status: OK |
| PackageFile: edgeR_3.26.8.tar.gz |
| PackageFileSize: 1.408 MiB |
############################################################################## ############################################################################## ### ### Running command: ### ### chmod a+r edgeR -R && C:\Users\biocbuild\bbs-3.9-bioc\R\bin\R.exe CMD build --keep-empty-dirs --no-resave-data edgeR ### ############################################################################## ############################################################################## * checking for file 'edgeR/DESCRIPTION' ... OK * preparing 'edgeR': * checking DESCRIPTION meta-information ... OK * cleaning src * installing the package to build vignettes * creating vignettes ... OK * cleaning src * checking for LF line-endings in source and make files and shell scripts * checking for empty or unneeded directories * building 'edgeR_3.26.8.tar.gz'