| Back to Multiple platform build/check report for BioC 3.9 | 
 | 
This page was generated on 2019-10-16 13:04:22 -0400 (Wed, 16 Oct 2019).
| Package 461/1741 | Hostname | OS / Arch | INSTALL | BUILD | CHECK | BUILD BIN | ||||||
| doseR 1.0.0 ake.vastermark 
 | malbec2 | Linux (Ubuntu 18.04.2 LTS) / x86_64 | OK | OK | OK |  | ||||||
| tokay2 | Windows Server 2012 R2 Standard / x64 | OK | OK | OK | OK |  | ||||||
| celaya2 | OS X 10.11.6 El Capitan / x86_64 | OK | [ OK ] | OK | OK |  | 
| Package: doseR | 
| Version: 1.0.0 | 
| Command: /Library/Frameworks/R.framework/Versions/Current/Resources/bin/R CMD build --keep-empty-dirs --no-resave-data doseR | 
| StartedAt: 2019-10-16 00:03:32 -0400 (Wed, 16 Oct 2019) | 
| EndedAt: 2019-10-16 00:04:28 -0400 (Wed, 16 Oct 2019) | 
| EllapsedTime: 56.0 seconds | 
| RetCode: 0 | 
| Status: OK | 
| PackageFile: doseR_1.0.0.tar.gz | 
| PackageFileSize: 1.537 MiB | 
############################################################################## ############################################################################## ### ### Running command: ### ### /Library/Frameworks/R.framework/Versions/Current/Resources/bin/R CMD build --keep-empty-dirs --no-resave-data doseR ### ############################################################################## ############################################################################## * checking for file ‘doseR/DESCRIPTION’ ... OK * preparing ‘doseR’: * checking DESCRIPTION meta-information ... OK * installing the package to build vignettes * creating vignettes ... OK * checking for LF line-endings in source and make files and shell scripts * checking for empty or unneeded directories * looking to see if a ‘data/datalist’ file should be added * building ‘doseR_1.0.0.tar.gz’