| Back to Multiple platform build/check report for BioC 3.9 | 
 | 
This page was generated on 2019-10-16 12:35:54 -0400 (Wed, 16 Oct 2019).
| Package 467/1741 | Hostname | OS / Arch | INSTALL | BUILD | CHECK | BUILD BIN | ||||||
| dSimer 1.10.0 Peng Ni 
 | malbec2 | Linux (Ubuntu 18.04.2 LTS) / x86_64 | ERROR | ERROR | skipped | |||||||
| tokay2 | Windows Server 2012 R2 Standard / x64 | OK | [ OK ] | OK | OK |  | ||||||
| celaya2 | OS X 10.11.6 El Capitan / x86_64 | OK | OK | OK | OK |  | 
| Package: dSimer | 
| Version: 1.10.0 | 
| Command: chmod a+r dSimer -R && C:\Users\biocbuild\bbs-3.9-bioc\R\bin\R.exe CMD build --keep-empty-dirs --no-resave-data dSimer | 
| StartedAt: 2019-10-15 23:59:26 -0400 (Tue, 15 Oct 2019) | 
| EndedAt: 2019-10-16 00:01:24 -0400 (Wed, 16 Oct 2019) | 
| EllapsedTime: 118.1 seconds | 
| RetCode: 0 | 
| Status: OK | 
| PackageFile: dSimer_1.10.0.tar.gz | 
| PackageFileSize: 3.543 MiB | 
############################################################################## ############################################################################## ### ### Running command: ### ### chmod a+r dSimer -R && C:\Users\biocbuild\bbs-3.9-bioc\R\bin\R.exe CMD build --keep-empty-dirs --no-resave-data dSimer ### ############################################################################## ############################################################################## * checking for file 'dSimer/DESCRIPTION' ... OK * preparing 'dSimer': * checking DESCRIPTION meta-information ... OK * cleaning src * installing the package to build vignettes * creating vignettes ... OK * cleaning src * checking for LF line-endings in source and make files and shell scripts * checking for empty or unneeded directories * looking to see if a 'data/datalist' file should be added * building 'dSimer_1.10.0.tar.gz'