| Back to Multiple platform build/check report for BioC 3.9 |
|
This page was generated on 2019-10-16 12:18:38 -0400 (Wed, 16 Oct 2019).
| Package 371/1741 | Hostname | OS / Arch | INSTALL | BUILD | CHECK | BUILD BIN | ||||||
| ctc 1.58.0 Antoine Lucas
| malbec2 | Linux (Ubuntu 18.04.2 LTS) / x86_64 | OK | OK | OK | |||||||
| tokay2 | Windows Server 2012 R2 Standard / x64 | OK | OK | OK | [ OK ] | |||||||
| celaya2 | OS X 10.11.6 El Capitan / x86_64 | OK | OK | OK | OK |
| Package: ctc |
| Version: 1.58.0 |
| Command: rm -rf ctc.buildbin-libdir && mkdir ctc.buildbin-libdir && C:\Users\biocbuild\bbs-3.9-bioc\R\bin\R.exe CMD INSTALL --merge-multiarch --build --library=ctc.buildbin-libdir ctc_1.58.0.tar.gz |
| StartedAt: 2019-10-16 09:00:23 -0400 (Wed, 16 Oct 2019) |
| EndedAt: 2019-10-16 09:01:07 -0400 (Wed, 16 Oct 2019) |
| EllapsedTime: 44.6 seconds |
| RetCode: 0 |
| Status: OK |
| PackageFile: ctc_1.58.0.zip |
| PackageFileSize: 230.5 KiB |
##############################################################################
##############################################################################
###
### Running command:
###
### rm -rf ctc.buildbin-libdir && mkdir ctc.buildbin-libdir && C:\Users\biocbuild\bbs-3.9-bioc\R\bin\R.exe CMD INSTALL --merge-multiarch --build --library=ctc.buildbin-libdir ctc_1.58.0.tar.gz
###
##############################################################################
##############################################################################
install for i386
* installing *source* package 'ctc' ...
** using staged installation
** R
** demo
** exec
** inst
** byte-compile and prepare package for lazy loading
** help
*** installing help indices
converting help for package 'ctc'
finding HTML links ... done
hc2Newick html
hclust2treeview html
r2cluster html
r2gtr html
r2xcluster html
read.eisen html
xcluster html
xcluster2r html
** building package indices
** installing vignettes
** testing if installed package can be loaded from temporary location
** testing if installed package can be loaded from final location
** testing if installed package keeps a record of temporary installation path
install for x64
* installing *source* package 'ctc' ...
** testing if installed package can be loaded
* MD5 sums
packaged installation of 'ctc' as ctc_1.58.0.zip
* DONE (ctc)