| Back to Multiple platform build/check report for BioC 3.9 |
|
This page was generated on 2019-10-16 12:37:34 -0400 (Wed, 16 Oct 2019).
| Package 352/1741 | Hostname | OS / Arch | INSTALL | BUILD | CHECK | BUILD BIN | ||||||
| coseq 1.8.0 Andrea Rau
| malbec2 | Linux (Ubuntu 18.04.2 LTS) / x86_64 | OK | OK | OK | |||||||
| tokay2 | Windows Server 2012 R2 Standard / x64 | OK | OK | OK | [ OK ] | |||||||
| celaya2 | OS X 10.11.6 El Capitan / x86_64 | OK | OK | OK | OK |
| Package: coseq |
| Version: 1.8.0 |
| Command: rm -rf coseq.buildbin-libdir && mkdir coseq.buildbin-libdir && C:\Users\biocbuild\bbs-3.9-bioc\R\bin\R.exe CMD INSTALL --merge-multiarch --build --library=coseq.buildbin-libdir coseq_1.8.0.tar.gz |
| StartedAt: 2019-10-16 08:59:15 -0400 (Wed, 16 Oct 2019) |
| EndedAt: 2019-10-16 09:00:34 -0400 (Wed, 16 Oct 2019) |
| EllapsedTime: 79.5 seconds |
| RetCode: 0 |
| Status: OK |
| PackageFile: coseq_1.8.0.zip |
| PackageFileSize: 767.2 KiB |
##############################################################################
##############################################################################
###
### Running command:
###
### rm -rf coseq.buildbin-libdir && mkdir coseq.buildbin-libdir && C:\Users\biocbuild\bbs-3.9-bioc\R\bin\R.exe CMD INSTALL --merge-multiarch --build --library=coseq.buildbin-libdir coseq_1.8.0.tar.gz
###
##############################################################################
##############################################################################
install for i386
* installing *source* package 'coseq' ...
** using staged installation
** R
** data
** inst
** byte-compile and prepare package for lazy loading
Creating a new generic function for 'plot' in package 'coseq'
** help
*** installing help indices
converting help for package 'coseq'
finding HTML links ... done
NormMixClus html
NormMixClusK html
NormMixParam html
clusterEntropy html
clusterInertia html
compareARI html
compareICL html
convertLegacyCoseq html
coseq-package html
coseq html
coseqHelpers html
coseqResults html
coseqRun html
fietz html
kmeansProbaPost html
logclr html
matchContTable html
plot html
summary html
transformRNAseq html
** building package indices
** installing vignettes
** testing if installed package can be loaded from temporary location
** testing if installed package can be loaded from final location
** testing if installed package keeps a record of temporary installation path
install for x64
* installing *source* package 'coseq' ...
** testing if installed package can be loaded
* MD5 sums
packaged installation of 'coseq' as coseq_1.8.0.zip
* DONE (coseq)