| Back to Multiple platform build/check report for BioC 3.9 |
|
This page was generated on 2019-10-16 12:24:50 -0400 (Wed, 16 Oct 2019).
| Package 294/1741 | Hostname | OS / Arch | INSTALL | BUILD | CHECK | BUILD BIN | ||||||
| clusterProfiler 3.12.0 Guangchuang Yu
| malbec2 | Linux (Ubuntu 18.04.2 LTS) / x86_64 | OK | OK | OK | |||||||
| tokay2 | Windows Server 2012 R2 Standard / x64 | [ OK ] | OK | OK | OK | |||||||
| celaya2 | OS X 10.11.6 El Capitan / x86_64 | OK | OK | OK | OK |
| Package: clusterProfiler |
| Version: 3.12.0 |
| Command: C:\cygwin\bin\curl.exe -O https://malbec2.bioconductor.org/BBS/3.9/bioc/src/contrib/clusterProfiler_3.12.0.tar.gz && rm -rf clusterProfiler.buildbin-libdir && mkdir clusterProfiler.buildbin-libdir && C:\Users\biocbuild\bbs-3.9-bioc\R\bin\R.exe CMD INSTALL --merge-multiarch --build --library=clusterProfiler.buildbin-libdir clusterProfiler_3.12.0.tar.gz && C:\Users\biocbuild\bbs-3.9-bioc\R\bin\R.exe CMD INSTALL clusterProfiler_3.12.0.zip && rm clusterProfiler_3.12.0.tar.gz clusterProfiler_3.12.0.zip |
| StartedAt: 2019-10-15 20:00:00 -0400 (Tue, 15 Oct 2019) |
| EndedAt: 2019-10-15 20:01:05 -0400 (Tue, 15 Oct 2019) |
| EllapsedTime: 64.2 seconds |
| RetCode: 0 |
| Status: OK |
##############################################################################
##############################################################################
###
### Running command:
###
### C:\cygwin\bin\curl.exe -O https://malbec2.bioconductor.org/BBS/3.9/bioc/src/contrib/clusterProfiler_3.12.0.tar.gz && rm -rf clusterProfiler.buildbin-libdir && mkdir clusterProfiler.buildbin-libdir && C:\Users\biocbuild\bbs-3.9-bioc\R\bin\R.exe CMD INSTALL --merge-multiarch --build --library=clusterProfiler.buildbin-libdir clusterProfiler_3.12.0.tar.gz && C:\Users\biocbuild\bbs-3.9-bioc\R\bin\R.exe CMD INSTALL clusterProfiler_3.12.0.zip && rm clusterProfiler_3.12.0.tar.gz clusterProfiler_3.12.0.zip
###
##############################################################################
##############################################################################
% Total % Received % Xferd Average Speed Time Time Time Current
Dload Upload Total Spent Left Speed
0 0 0 0 0 0 0 0 --:--:-- --:--:-- --:--:-- 0
100 2539k 100 2539k 0 0 30.2M 0 --:--:-- --:--:-- --:--:-- 33.0M
install for i386
* installing *source* package 'clusterProfiler' ...
** using staged installation
** R
** data
** inst
** byte-compile and prepare package for lazy loading
** help
*** installing help indices
converting help for package 'clusterProfiler'
finding HTML links ... done
DataSet html
GSEA html
Gff2GeneTable html
KEGG_path2extid html
bitr html
bitr_kegg html
browseKEGG html
buildGOmap html
clusterProfiler-package html
compareCluster html
compareClusterResult-class html
finding level-2 HTML links ... done
dotplot-methods html
download_KEGG html
dropGO html
enrichDAVID html
enrichGO html
enrichKEGG html
enrichMKEGG html
enricher html
fortify html
getGOLevel html
go2ont html
go2term html
gofilter html
groupGO html
groupGOResult-class html
gseGO html
gseKEGG html
gseMKEGG html
idType html
ko2name html
merge_result html
plotGOgraph html
plotting.clusterProfile html
read.gmt html
reexports html
search_kegg_organism html
simplify-methods html
uniprot_get html
viewKEGG html
** building package indices
** installing vignettes
** testing if installed package can be loaded from temporary location
** testing if installed package can be loaded from final location
** testing if installed package keeps a record of temporary installation path
install for x64
* installing *source* package 'clusterProfiler' ...
** testing if installed package can be loaded
* MD5 sums
packaged installation of 'clusterProfiler' as clusterProfiler_3.12.0.zip
* DONE (clusterProfiler)
* installing to library 'C:/Users/biocbuild/bbs-3.9-bioc/R/library'
package 'clusterProfiler' successfully unpacked and MD5 sums checked