| Back to Multiple platform build/check report for BioC 3.9 |
|
This page was generated on 2019-10-16 12:27:32 -0400 (Wed, 16 Oct 2019).
| Package 279/1741 | Hostname | OS / Arch | INSTALL | BUILD | CHECK | BUILD BIN | ||||||
| cisPath 1.24.0 Likun Wang
| malbec2 | Linux (Ubuntu 18.04.2 LTS) / x86_64 | OK | OK | OK | |||||||
| tokay2 | Windows Server 2012 R2 Standard / x64 | OK | OK | OK | [ OK ] | |||||||
| celaya2 | OS X 10.11.6 El Capitan / x86_64 | OK | OK | OK | OK |
| Package: cisPath |
| Version: 1.24.0 |
| Command: rm -rf cisPath.buildbin-libdir && mkdir cisPath.buildbin-libdir && C:\Users\biocbuild\bbs-3.9-bioc\R\bin\R.exe CMD INSTALL --merge-multiarch --build --library=cisPath.buildbin-libdir cisPath_1.24.0.tar.gz |
| StartedAt: 2019-10-16 08:54:42 -0400 (Wed, 16 Oct 2019) |
| EndedAt: 2019-10-16 08:55:08 -0400 (Wed, 16 Oct 2019) |
| EllapsedTime: 26.1 seconds |
| RetCode: 0 |
| Status: OK |
| PackageFile: cisPath_1.24.0.zip |
| PackageFileSize: 1.511 MiB |
##############################################################################
##############################################################################
###
### Running command:
###
### rm -rf cisPath.buildbin-libdir && mkdir cisPath.buildbin-libdir && C:\Users\biocbuild\bbs-3.9-bioc\R\bin\R.exe CMD INSTALL --merge-multiarch --build --library=cisPath.buildbin-libdir cisPath_1.24.0.tar.gz
###
##############################################################################
##############################################################################
install for i386
* installing *source* package 'cisPath' ...
** using staged installation
** libs
C:/Rtools/mingw_32/bin/g++ -I"C:/Users/BIOCBU~1/BBS-3~1.9-B/R/include" -DNDEBUG -I"C:/extsoft/include" -O2 -Wall -mtune=generic -c cisPath.cpp -o cisPath.o
C:/Rtools/mingw_32/bin/g++ -shared -s -static-libgcc -o cisPath.dll tmp.def cisPath.o -LC:/extsoft/lib/i386 -LC:/extsoft/lib -LC:/Users/BIOCBU~1/BBS-3~1.9-B/R/bin/i386 -lR
installing to C:/Users/biocbuild/bbs-3.9-bioc/meat/cisPath.buildbin-libdir/00LOCK-cisPath/00new/cisPath/libs/i386
** R
** inst
** byte-compile and prepare package for lazy loading
** help
*** installing help indices
converting help for package 'cisPath'
finding HTML links ... done
cisPath html
combinePPI html
easyEditor html
formatPINAPPI html
formatSIFfile html
formatSTRINGPPI html
formatiRefIndex html
getMappingFile html
networkView html
** building package indices
** installing vignettes
** testing if installed package can be loaded from temporary location
** testing if installed package can be loaded from final location
** testing if installed package keeps a record of temporary installation path
install for x64
* installing *source* package 'cisPath' ...
** libs
C:/Rtools/mingw_64/bin/g++ -I"C:/Users/BIOCBU~1/BBS-3~1.9-B/R/include" -DNDEBUG -I"C:/extsoft/include" -O2 -Wall -mtune=generic -c cisPath.cpp -o cisPath.o
C:/Rtools/mingw_64/bin/g++ -shared -s -static-libgcc -o cisPath.dll tmp.def cisPath.o -LC:/extsoft/lib/x64 -LC:/extsoft/lib -LC:/Users/BIOCBU~1/BBS-3~1.9-B/R/bin/x64 -lR
installing to C:/Users/biocbuild/bbs-3.9-bioc/meat/cisPath.buildbin-libdir/cisPath/libs/x64
** testing if installed package can be loaded
* MD5 sums
packaged installation of 'cisPath' as cisPath_1.24.0.zip
* DONE (cisPath)