| Back to Multiple platform build/check report for BioC 3.9 |
|
This page was generated on 2019-10-16 12:42:44 -0400 (Wed, 16 Oct 2019).
| Package 373/1741 | Hostname | OS / Arch | INSTALL | BUILD | CHECK | BUILD BIN | ||||||
| cTRAP 1.2.0 Nuno Saraiva-Agostinho
| malbec2 | Linux (Ubuntu 18.04.2 LTS) / x86_64 | OK | OK | OK | |||||||
| tokay2 | Windows Server 2012 R2 Standard / x64 | OK | OK | OK | [ OK ] | |||||||
| celaya2 | OS X 10.11.6 El Capitan / x86_64 | OK | OK | OK | OK |
| Package: cTRAP |
| Version: 1.2.0 |
| Command: rm -rf cTRAP.buildbin-libdir && mkdir cTRAP.buildbin-libdir && C:\Users\biocbuild\bbs-3.9-bioc\R\bin\R.exe CMD INSTALL --merge-multiarch --build --library=cTRAP.buildbin-libdir cTRAP_1.2.0.tar.gz |
| StartedAt: 2019-10-16 09:00:27 -0400 (Wed, 16 Oct 2019) |
| EndedAt: 2019-10-16 09:01:15 -0400 (Wed, 16 Oct 2019) |
| EllapsedTime: 48.0 seconds |
| RetCode: 0 |
| Status: OK |
| PackageFile: cTRAP_1.2.0.zip |
| PackageFileSize: 3.137 MiB |
##############################################################################
##############################################################################
###
### Running command:
###
### rm -rf cTRAP.buildbin-libdir && mkdir cTRAP.buildbin-libdir && C:\Users\biocbuild\bbs-3.9-bioc\R\bin\R.exe CMD INSTALL --merge-multiarch --build --library=cTRAP.buildbin-libdir cTRAP_1.2.0.tar.gz
###
##############################################################################
##############################################################################
install for i386
* installing *source* package 'cTRAP' ...
** using staged installation
** R
** data
*** moving datasets to lazyload DB
** inst
** byte-compile and prepare package for lazy loading
** help
*** installing help indices
converting help for package 'cTRAP'
finding HTML links ... done
ENCODEmetadata html
ENCODEsamples html
GCT-class html
cTRAP html
checkColnames html
closeOpenHandles html
compareAgainstL1000 html
correlatePerCellLine html
counts html
diffExprStat html
downloadENCODEknockdownMetadata html
downloadENCODEsamples html
downloadIfNeeded html
downloadL1000data html
filterL1000metadata html
fix.datatypes html
getENCODEcontrols html
getL1000Conditions html
getL1000PerturbationTypes html
l1000metadata html
l1000perturbationsKnockdown html
l1000perturbationsSmallMolecules html
loadENCODEsample html
loadL1000perturbations html
performDifferentialExpression html
performGSAperCellLine html
plotGSEA html
plotL1000comparison html
prepareENCODEgeneExpression html
processIds html
readGctxIds html
readGctxMeta html
subsetToIds html
** building package indices
** installing vignettes
** testing if installed package can be loaded from temporary location
** testing if installed package can be loaded from final location
** testing if installed package keeps a record of temporary installation path
install for x64
* installing *source* package 'cTRAP' ...
** testing if installed package can be loaded
* MD5 sums
packaged installation of 'cTRAP' as cTRAP_1.2.0.zip
* DONE (cTRAP)