| Back to Multiple platform build/check report for BioC 3.9 |
|
This page was generated on 2019-10-16 12:50:18 -0400 (Wed, 16 Oct 2019).
| Package 191/1741 | Hostname | OS / Arch | INSTALL | BUILD | CHECK | BUILD BIN | ||||||
| bsseq 1.20.0 Kasper Daniel Hansen
| malbec2 | Linux (Ubuntu 18.04.2 LTS) / x86_64 | OK | OK | OK | |||||||
| tokay2 | Windows Server 2012 R2 Standard / x64 | OK | OK | WARNINGS | OK | |||||||
| celaya2 | OS X 10.11.6 El Capitan / x86_64 | OK | [ OK ] | OK | OK |
| Package: bsseq |
| Version: 1.20.0 |
| Command: /Library/Frameworks/R.framework/Versions/Current/Resources/bin/R CMD build --keep-empty-dirs --no-resave-data bsseq |
| StartedAt: 2019-10-15 20:39:32 -0400 (Tue, 15 Oct 2019) |
| EndedAt: 2019-10-15 20:45:06 -0400 (Tue, 15 Oct 2019) |
| EllapsedTime: 334.4 seconds |
| RetCode: 0 |
| Status: OK |
| PackageFile: bsseq_1.20.0.tar.gz |
| PackageFileSize: 2.759 MiB |
############################################################################## ############################################################################## ### ### Running command: ### ### /Library/Frameworks/R.framework/Versions/Current/Resources/bin/R CMD build --keep-empty-dirs --no-resave-data bsseq ### ############################################################################## ############################################################################## * checking for file ‘bsseq/DESCRIPTION’ ... OK * preparing ‘bsseq’: * checking DESCRIPTION meta-information ... OK * cleaning src * installing the package to build vignettes * creating vignettes ... OK * cleaning src * checking for LF line-endings in source and make files and shell scripts * checking for empty or unneeded directories * looking to see if a ‘data/datalist’ file should be added * building ‘bsseq_1.20.0.tar.gz’