| Back to Multiple platform build/check report for BioC 3.9 |
|
This page was generated on 2019-10-16 12:42:26 -0400 (Wed, 16 Oct 2019).
| Package 186/1741 | Hostname | OS / Arch | INSTALL | BUILD | CHECK | BUILD BIN | ||||||
| breakpointR 1.2.0 David Porubsky
| malbec2 | Linux (Ubuntu 18.04.2 LTS) / x86_64 | OK | OK | OK | |||||||
| tokay2 | Windows Server 2012 R2 Standard / x64 | OK | OK | OK | [ OK ] | |||||||
| celaya2 | OS X 10.11.6 El Capitan / x86_64 | OK | OK | OK | OK |
| Package: breakpointR |
| Version: 1.2.0 |
| Command: rm -rf breakpointR.buildbin-libdir && mkdir breakpointR.buildbin-libdir && C:\Users\biocbuild\bbs-3.9-bioc\R\bin\R.exe CMD INSTALL --merge-multiarch --build --library=breakpointR.buildbin-libdir breakpointR_1.2.0.tar.gz |
| StartedAt: 2019-10-16 08:48:47 -0400 (Wed, 16 Oct 2019) |
| EndedAt: 2019-10-16 08:49:50 -0400 (Wed, 16 Oct 2019) |
| EllapsedTime: 63.2 seconds |
| RetCode: 0 |
| Status: OK |
| PackageFile: breakpointR_1.2.0.zip |
| PackageFileSize: 565.4 KiB |
##############################################################################
##############################################################################
###
### Running command:
###
### rm -rf breakpointR.buildbin-libdir && mkdir breakpointR.buildbin-libdir && C:\Users\biocbuild\bbs-3.9-bioc\R\bin\R.exe CMD INSTALL --merge-multiarch --build --library=breakpointR.buildbin-libdir breakpointR_1.2.0.tar.gz
###
##############################################################################
##############################################################################
install for i386
* installing *source* package 'breakpointR' ...
** using staged installation
** R
** inst
** byte-compile and prepare package for lazy loading
** help
*** installing help indices
converting help for package 'breakpointR'
finding HTML links ... done
BreakPoint html
finding level-2 HTML links ... done
breakSeekr html
breakpointR-package html
breakpointr html
breakpointr2UCSC html
collapseBins html
confidenceInterval html
confidenceInterval.binomial html
createCompositeFile html
deltaWCalculator html
exportRegions html
genotyping html
hotspotter html
insertchr html
loadFromFiles html
plotBreakpoints html
plotBreakpointsPerChr html
plotHeatmap html
ranges2UCSC html
readBamFileAsGRanges html
readConfig html
removeDoubleSCEs html
runBreakpointr html
summarizeBreaks html
synchronizeReadDir html
transCoord html
writeConfig html
** building package indices
** installing vignettes
** testing if installed package can be loaded from temporary location
** testing if installed package can be loaded from final location
** testing if installed package keeps a record of temporary installation path
install for x64
* installing *source* package 'breakpointR' ...
** testing if installed package can be loaded
* MD5 sums
packaged installation of 'breakpointR' as breakpointR_1.2.0.zip
* DONE (breakpointR)