| Back to Multiple platform build/check report for BioC 3.9 | 
 | 
This page was generated on 2019-10-16 12:53:16 -0400 (Wed, 16 Oct 2019).
| Package 178/1741 | Hostname | OS / Arch | INSTALL | BUILD | CHECK | BUILD BIN | ||||||
| blima 1.18.0 Vojtěch Kulvait 
 | malbec2 | Linux (Ubuntu 18.04.2 LTS) / x86_64 | OK | OK | WARNINGS |  | ||||||
| tokay2 | Windows Server 2012 R2 Standard / x64 | OK | OK | WARNINGS | OK |  | ||||||
| celaya2 | OS X 10.11.6 El Capitan / x86_64 | OK | [ OK ] | WARNINGS | OK |  | 
| Package: blima | 
| Version: 1.18.0 | 
| Command: /Library/Frameworks/R.framework/Versions/Current/Resources/bin/R CMD build --keep-empty-dirs --no-resave-data blima | 
| StartedAt: 2019-10-15 21:12:32 -0400 (Tue, 15 Oct 2019) | 
| EndedAt: 2019-10-15 21:21:26 -0400 (Tue, 15 Oct 2019) | 
| EllapsedTime: 534.5 seconds | 
| RetCode: 0 | 
| Status: OK | 
| PackageFile: blima_1.18.0.tar.gz | 
| PackageFileSize: 250.7 KiB | 
############################################################################## ############################################################################## ### ### Running command: ### ### /Library/Frameworks/R.framework/Versions/Current/Resources/bin/R CMD build --keep-empty-dirs --no-resave-data blima ### ############################################################################## ############################################################################## * checking for file ‘blima/DESCRIPTION’ ... OK * preparing ‘blima’: * checking DESCRIPTION meta-information ... OK * cleaning src * installing the package to process help pages * saving partial Rd database * creating vignettes ... OK * cleaning src * checking for LF line-endings in source and make files and shell scripts * checking for empty or unneeded directories * building ‘blima_1.18.0.tar.gz’