| Back to Multiple platform build/check report for BioC 3.9 |
|
This page was generated on 2019-10-16 12:36:47 -0400 (Wed, 16 Oct 2019).
| Package 135/1741 | Hostname | OS / Arch | INSTALL | BUILD | CHECK | BUILD BIN | ||||||
| bigmelon 1.10.0 Tyler J. Gorrie-Stone
| malbec2 | Linux (Ubuntu 18.04.2 LTS) / x86_64 | OK | OK | OK | |||||||
| tokay2 | Windows Server 2012 R2 Standard / x64 | OK | OK | WARNINGS | [ OK ] | |||||||
| celaya2 | OS X 10.11.6 El Capitan / x86_64 | OK | OK | OK | OK |
| Package: bigmelon |
| Version: 1.10.0 |
| Command: rm -rf bigmelon.buildbin-libdir && mkdir bigmelon.buildbin-libdir && C:\Users\biocbuild\bbs-3.9-bioc\R\bin\R.exe CMD INSTALL --merge-multiarch --build --library=bigmelon.buildbin-libdir bigmelon_1.10.0.tar.gz |
| StartedAt: 2019-10-16 08:45:48 -0400 (Wed, 16 Oct 2019) |
| EndedAt: 2019-10-16 08:47:17 -0400 (Wed, 16 Oct 2019) |
| EllapsedTime: 89.4 seconds |
| RetCode: 0 |
| Status: OK |
| PackageFile: bigmelon_1.10.0.zip |
| PackageFileSize: 1.203 MiB |
##############################################################################
##############################################################################
###
### Running command:
###
### rm -rf bigmelon.buildbin-libdir && mkdir bigmelon.buildbin-libdir && C:\Users\biocbuild\bbs-3.9-bioc\R\bin\R.exe CMD INSTALL --merge-multiarch --build --library=bigmelon.buildbin-libdir bigmelon_1.10.0.tar.gz
###
##############################################################################
##############################################################################
install for i386
* installing *source* package 'bigmelon' ...
** using staged installation
** R
** data
** inst
** byte-compile and prepare package for lazy loading
Creating a new generic function for 'fot' in package 'bigmelon'
Creating a new generic function for 'predictSex' in package 'bigmelon'
** help
*** installing help indices
converting help for package 'bigmelon'
finding HTML links ... done
GEOtoGDS html
app2gds html
backupGdsn html
bigmelon-accessors html
Rd warning: C:/Users/biocbuild/bbs-3.9-bioc/tmpdir/RtmpIdGwNV/R.INSTALL2a3c2e3e4112/bigmelon/man/bigmelon-accessors.Rd:102: file link 'methylumi' in package 'methylumi' does not exist and so has been treated as a topic
bigmelon-internal html
bigmelon-normalization html
finding level-2 HTML links ... done
bigmelon-package html
Rd warning: C:/Users/biocbuild/bbs-3.9-bioc/tmpdir/RtmpIdGwNV/R.INSTALL2a3c2e3e4112/bigmelon/man/bigmelon-package.Rd:37: file link 'methylumi' in package 'methylumi' does not exist and so has been treated as a topic
bumphunterGdsn html
cantaloupe html
combogds html
ecc html
es2gds html
finalreport2gds html
gds2mlumi html
getquantilesandranks html
iadd html
Rd warning: C:/Users/biocbuild/bbs-3.9-bioc/tmpdir/RtmpIdGwNV/R.INSTALL2a3c2e3e4112/bigmelon/man/iadd.Rd:46: file link 'methylumIDATepic' in package 'wateRmelon' does not exist and so has been treated as a topic
pfiltergds html
prcompgdsn html
pwodgdsn html
rankednorm html
redirect html
wm-port html
** building package indices
** installing vignettes
** testing if installed package can be loaded from temporary location
** testing if installed package can be loaded from final location
** testing if installed package keeps a record of temporary installation path
install for x64
* installing *source* package 'bigmelon' ...
** testing if installed package can be loaded
* MD5 sums
packaged installation of 'bigmelon' as bigmelon_1.10.0.zip
* DONE (bigmelon)