| Back to Multiple platform build/check report for BioC 3.9 |
|
This page was generated on 2019-10-16 12:43:16 -0400 (Wed, 16 Oct 2019).
| Package 137/1741 | Hostname | OS / Arch | INSTALL | BUILD | CHECK | BUILD BIN | ||||||
| bigPint 1.0.0 Lindsay Rutter
| malbec2 | Linux (Ubuntu 18.04.2 LTS) / x86_64 | OK | OK | OK | |||||||
| tokay2 | Windows Server 2012 R2 Standard / x64 | OK | OK | OK | [ OK ] | |||||||
| celaya2 | OS X 10.11.6 El Capitan / x86_64 | OK | OK | OK | OK |
| Package: bigPint |
| Version: 1.0.0 |
| Command: rm -rf bigPint.buildbin-libdir && mkdir bigPint.buildbin-libdir && C:\Users\biocbuild\bbs-3.9-bioc\R\bin\R.exe CMD INSTALL --merge-multiarch --build --library=bigPint.buildbin-libdir bigPint_1.0.0.tar.gz |
| StartedAt: 2019-10-16 08:45:52 -0400 (Wed, 16 Oct 2019) |
| EndedAt: 2019-10-16 08:46:14 -0400 (Wed, 16 Oct 2019) |
| EllapsedTime: 21.6 seconds |
| RetCode: 0 |
| Status: OK |
| PackageFile: bigPint_1.0.0.zip |
| PackageFileSize: 3.717 MiB |
##############################################################################
##############################################################################
###
### Running command:
###
### rm -rf bigPint.buildbin-libdir && mkdir bigPint.buildbin-libdir && C:\Users\biocbuild\bbs-3.9-bioc\R\bin\R.exe CMD INSTALL --merge-multiarch --build --library=bigPint.buildbin-libdir bigPint_1.0.0.tar.gz
###
##############################################################################
##############################################################################
install for i386
* installing *source* package 'bigPint' ...
** using staged installation
** R
** data
** inst
** byte-compile and prepare package for lazy loading
** help
*** installing help indices
converting help for package 'bigPint'
finding HTML links ... done
bigPint html
plotClusters html
plotLitre html
plotLitreApp html
plotPCP html
plotPCPApp html
plotSM html
plotSMApp html
plotVolcano html
plotVolcanoApp html
soybean_cn html
soybean_cn_metrics html
soybean_cn_sub html
soybean_cn_sub_metrics html
soybean_ir html
soybean_ir_metrics html
soybean_ir_sub html
soybean_ir_sub_metrics html
** building package indices
** installing vignettes
** testing if installed package can be loaded from temporary location
** testing if installed package can be loaded from final location
** testing if installed package keeps a record of temporary installation path
install for x64
* installing *source* package 'bigPint' ...
** testing if installed package can be loaded
* MD5 sums
packaged installation of 'bigPint' as bigPint_1.0.0.zip
* DONE (bigPint)