| Back to Multiple platform build/check report for BioC 3.9 |
|
This page was generated on 2019-10-16 12:19:03 -0400 (Wed, 16 Oct 2019).
| Package 33/1741 | Hostname | OS / Arch | INSTALL | BUILD | CHECK | BUILD BIN | ||||||
| affypdnn 1.58.0 Laurent Gautier
| malbec2 | Linux (Ubuntu 18.04.2 LTS) / x86_64 | OK | OK | OK | |||||||
| tokay2 | Windows Server 2012 R2 Standard / x64 | OK | OK | OK | [ OK ] | |||||||
| celaya2 | OS X 10.11.6 El Capitan / x86_64 | OK | OK | OK | OK |
| Package: affypdnn |
| Version: 1.58.0 |
| Command: rm -rf affypdnn.buildbin-libdir && mkdir affypdnn.buildbin-libdir && C:\Users\biocbuild\bbs-3.9-bioc\R\bin\R.exe CMD INSTALL --merge-multiarch --build --library=affypdnn.buildbin-libdir affypdnn_1.58.0.tar.gz |
| StartedAt: 2019-10-16 08:39:28 -0400 (Wed, 16 Oct 2019) |
| EndedAt: 2019-10-16 08:39:43 -0400 (Wed, 16 Oct 2019) |
| EllapsedTime: 15.3 seconds |
| RetCode: 0 |
| Status: OK |
| PackageFile: affypdnn_1.58.0.zip |
| PackageFileSize: 11.96 MiB |
##############################################################################
##############################################################################
###
### Running command:
###
### rm -rf affypdnn.buildbin-libdir && mkdir affypdnn.buildbin-libdir && C:\Users\biocbuild\bbs-3.9-bioc\R\bin\R.exe CMD INSTALL --merge-multiarch --build --library=affypdnn.buildbin-libdir affypdnn_1.58.0.tar.gz
###
##############################################################################
##############################################################################
install for i386
* installing *source* package 'affypdnn' ...
** using staged installation
** R
** data
** inst
** byte-compile and prepare package for lazy loading
** help
*** installing help indices
converting help for package 'affypdnn'
finding HTML links ... done
chiptype.pdnn.params html
expressopdnn html
find.params.pdnn html
generateExprVal.method.pdnn html
matplotProbesPDNN html
params.dilution html
pdnn.params.chiptype html
transform.ProbeSet html
** building package indices
** installing vignettes
** testing if installed package can be loaded from temporary location
registering new summary method 'pdnn'.
registering new pmcorrect method 'pdnn' and 'pdnnpredict'.
** testing if installed package can be loaded from final location
registering new summary method 'pdnn'.
registering new pmcorrect method 'pdnn' and 'pdnnpredict'.
** testing if installed package keeps a record of temporary installation path
install for x64
* installing *source* package 'affypdnn' ...
** testing if installed package can be loaded
registering new summary method 'pdnn'.
registering new pmcorrect method 'pdnn' and 'pdnnpredict'.
* MD5 sums
packaged installation of 'affypdnn' as affypdnn_1.58.0.zip
* DONE (affypdnn)