| Back to Multiple platform build/check report for BioC 3.9 |
|
This page was generated on 2019-10-16 12:25:04 -0400 (Wed, 16 Oct 2019).
| Package 2/1741 | Hostname | OS / Arch | INSTALL | BUILD | CHECK | BUILD BIN | ||||||
| a4Base 1.32.0 Tobias Verbeke
| malbec2 | Linux (Ubuntu 18.04.2 LTS) / x86_64 | OK | OK | OK | |||||||
| tokay2 | Windows Server 2012 R2 Standard / x64 | OK | OK | ERROR | [ OK ] | |||||||
| celaya2 | OS X 10.11.6 El Capitan / x86_64 | OK | OK | OK | OK |
| Package: a4Base |
| Version: 1.32.0 |
| Command: rm -rf a4Base.buildbin-libdir && mkdir a4Base.buildbin-libdir && C:\Users\biocbuild\bbs-3.9-bioc\R\bin\R.exe CMD INSTALL --merge-multiarch --build --library=a4Base.buildbin-libdir a4Base_1.32.0.tar.gz |
| StartedAt: 2019-10-16 08:38:09 -0400 (Wed, 16 Oct 2019) |
| EndedAt: 2019-10-16 08:38:55 -0400 (Wed, 16 Oct 2019) |
| EllapsedTime: 45.6 seconds |
| RetCode: 0 |
| Status: OK |
| PackageFile: a4Base_1.32.0.zip |
| PackageFileSize: 592.1 KiB |
##############################################################################
##############################################################################
###
### Running command:
###
### rm -rf a4Base.buildbin-libdir && mkdir a4Base.buildbin-libdir && C:\Users\biocbuild\bbs-3.9-bioc\R\bin\R.exe CMD INSTALL --merge-multiarch --build --library=a4Base.buildbin-libdir a4Base_1.32.0.tar.gz
###
##############################################################################
##############################################################################
install for i386
* installing *source* package 'a4Base' ...
** using staged installation
** R
** data
** inst
** byte-compile and prepare package for lazy loading
** help
*** installing help indices
converting help for package 'a4Base'
finding HTML links ... done
ExpressionSetWithComputation html
Rd warning: C:/Users/biocbuild/bbs-3.9-bioc/tmpdir/Rtmp21wdp1/R.INSTALL1a9c67846cef/a4Base/man/ExpressionSetWithComputation.Rd:23: file link 'ExpressionSet' in package 'Biobase' does not exist and so has been treated as a topic
Rd warning: C:/Users/biocbuild/bbs-3.9-bioc/tmpdir/Rtmp21wdp1/R.INSTALL1a9c67846cef/a4Base/man/ExpressionSetWithComputation.Rd:24: file link 'eSet' in package 'Biobase' does not exist and so has been treated as a topic
Rd warning: C:/Users/biocbuild/bbs-3.9-bioc/tmpdir/Rtmp21wdp1/R.INSTALL1a9c67846cef/a4Base/man/ExpressionSetWithComputation.Rd:25: file link 'VersionedBiobase' in package 'Biobase' does not exist and so has been treated as a topic
Rd warning: C:/Users/biocbuild/bbs-3.9-bioc/tmpdir/Rtmp21wdp1/R.INSTALL1a9c67846cef/a4Base/man/ExpressionSetWithComputation.Rd:26: file link 'Versioned' in package 'Biobase' does not exist and so has been treated as a topic
Rd warning: C:/Users/biocbuild/bbs-3.9-bioc/tmpdir/Rtmp21wdp1/R.INSTALL1a9c67846cef/a4Base/man/ExpressionSetWithComputation.Rd:33: file link 'ExpressionSet' in package 'Biobase' does not exist and so has been treated as a topic
a4palette html
Rd warning: C:/Users/biocbuild/bbs-3.9-bioc/tmpdir/Rtmp21wdp1/R.INSTALL1a9c67846cef/a4Base/man/a4palette.Rd:27: file link 'rainbow' in package 'grDevices' does not exist and so has been treated as a topic
addQuantilesColors html
boxPlot html
combineTwoExpressionSet html
Rd warning: C:/Users/biocbuild/bbs-3.9-bioc/tmpdir/Rtmp21wdp1/R.INSTALL1a9c67846cef/a4Base/man/combineTwoExpressionSet.Rd:22: file link 'ExpressionSet' in package 'Biobase' does not exist and so has been treated as a topic
computeLogRatio html
createExpressionSet html
Rd warning: C:/Users/biocbuild/bbs-3.9-bioc/tmpdir/Rtmp21wdp1/R.INSTALL1a9c67846cef/a4Base/man/createExpressionSet.Rd:30: file link 'ExpressionSet' in package 'Biobase' does not exist and so has been treated as a topic
filterVarInt html
heatmap.expressionSet html
histPvalue html
histpvalueplotter html
lassoReg html
limmaTwoLevels html
logReg html
nlcvTT html
plot1gene html
plotComb2Samples html
plotCombMultSamples html
plotCombination2genes html
plotLogRatio html
probabilitiesPlot html
probe2gene html
profilesPlot html
propDEgenes-methods html
propDEgenes html
propdegenescalculation html
replicates html
spectralMap-methods html
spectralMap html
tTest html
Rd warning: C:/Users/biocbuild/bbs-3.9-bioc/tmpdir/Rtmp21wdp1/R.INSTALL1a9c67846cef/a4Base/man/tTest.Rd:40: file link 'rowttests' in package 'genefilter' does not exist and so has been treated as a topic
topTable-methods html
volcanoPlot-methods html
volcanoPlot html
volcanoplotter html
** building package indices
** testing if installed package can be loaded from temporary location
** testing if installed package can be loaded from final location
** testing if installed package keeps a record of temporary installation path
install for x64
* installing *source* package 'a4Base' ...
** testing if installed package can be loaded
* MD5 sums
packaged installation of 'a4Base' as a4Base_1.32.0.zip
* DONE (a4Base)