| Back to Multiple platform build/check report for BioC 3.9 | 
  | 
This page was generated on 2019-10-16 12:40:28 -0400 (Wed, 16 Oct 2019).
| Package 1687/1741 | Hostname | OS / Arch | INSTALL | BUILD | CHECK | BUILD BIN | ||||||
| TTMap 1.6.0 Rachel Jeitziner 
  | malbec2 | Linux (Ubuntu 18.04.2 LTS) / x86_64 | OK | OK | OK | |||||||
| tokay2 | Windows Server 2012 R2 Standard / x64 | [ OK ] | OK | OK | OK | |||||||
| celaya2 | OS X 10.11.6 El Capitan / x86_64 | OK | OK | WARNINGS | OK | 
| Package: TTMap | 
| Version: 1.6.0 | 
| Command: C:\cygwin\bin\curl.exe -O https://malbec2.bioconductor.org/BBS/3.9/bioc/src/contrib/TTMap_1.6.0.tar.gz && rm -rf TTMap.buildbin-libdir && mkdir TTMap.buildbin-libdir && C:\Users\biocbuild\bbs-3.9-bioc\R\bin\R.exe CMD INSTALL --merge-multiarch --build --library=TTMap.buildbin-libdir TTMap_1.6.0.tar.gz && C:\Users\biocbuild\bbs-3.9-bioc\R\bin\R.exe CMD INSTALL TTMap_1.6.0.zip && rm TTMap_1.6.0.tar.gz TTMap_1.6.0.zip | 
| StartedAt: 2019-10-15 20:17:28 -0400 (Tue, 15 Oct 2019) | 
| EndedAt: 2019-10-15 20:18:22 -0400 (Tue, 15 Oct 2019) | 
| EllapsedTime: 53.8 seconds | 
| RetCode: 0 | 
| Status: OK | 
##############################################################################
##############################################################################
###
### Running command:
###
###   C:\cygwin\bin\curl.exe -O https://malbec2.bioconductor.org/BBS/3.9/bioc/src/contrib/TTMap_1.6.0.tar.gz && rm -rf TTMap.buildbin-libdir && mkdir TTMap.buildbin-libdir && C:\Users\biocbuild\bbs-3.9-bioc\R\bin\R.exe CMD INSTALL --merge-multiarch --build --library=TTMap.buildbin-libdir TTMap_1.6.0.tar.gz && C:\Users\biocbuild\bbs-3.9-bioc\R\bin\R.exe CMD INSTALL TTMap_1.6.0.zip && rm TTMap_1.6.0.tar.gz TTMap_1.6.0.zip
###
##############################################################################
##############################################################################
  % Total    % Received % Xferd  Average Speed   Time    Time     Time  Current
                                 Dload  Upload   Total   Spent    Left  Speed
  0     0    0     0    0     0      0      0 --:--:-- --:--:-- --:--:--     0
100  361k  100  361k    0     0  5590k      0 --:--:-- --:--:-- --:--:-- 6235k
install for i386
* installing *source* package 'TTMap' ...
** using staged installation
** R
** byte-compile and prepare package for lazy loading
** help
*** installing help indices
  converting help for package 'TTMap'
    finding HTML links ... done
    TTMap-package                           html  
    calcul_e                                html  
    control_adjustment                      html  
    generate_correlation                    html  
    hyperrectangle_deviation_assessment     html  
    make_matrices-methods                   html  
    make_matrices                           html  
    finding level-2 HTML links ... done
    ttmap                                   html  
    ttmap_sgn_genes                         html  
    write_pcl                               html  
** building package indices
** installing vignettes
** testing if installed package can be loaded from temporary location
** testing if installed package can be loaded from final location
** testing if installed package keeps a record of temporary installation path
install for x64
* installing *source* package 'TTMap' ...
** testing if installed package can be loaded
* MD5 sums
packaged installation of 'TTMap' as TTMap_1.6.0.zip
* DONE (TTMap)
* installing to library 'C:/Users/biocbuild/bbs-3.9-bioc/R/library'
package 'TTMap' successfully unpacked and MD5 sums checked