Back to Multiple platform build/check report for BioC 3.9 |
|
This page was generated on 2019-10-16 13:05:04 -0400 (Wed, 16 Oct 2019).
Package 1662/1741 | Hostname | OS / Arch | INSTALL | BUILD | CHECK | BUILD BIN | ||||||
TPP2D 1.0.0 Nils Kurzawa
| malbec2 | Linux (Ubuntu 18.04.2 LTS) / x86_64 | OK | OK | OK | |||||||
tokay2 | Windows Server 2012 R2 Standard / x64 | OK | OK | OK | OK | |||||||
celaya2 | OS X 10.11.6 El Capitan / x86_64 | OK | OK | OK | [ OK ] |
Package: TPP2D |
Version: 1.0.0 |
Command: rm -rf TPP2D.buildbin-libdir && mkdir TPP2D.buildbin-libdir && /Users/biocbuild/BBS/utils/build-universal.sh TPP2D_1.0.0.tar.gz /Library/Frameworks/R.framework/Versions/Current/Resources/bin/R TPP2D.buildbin-libdir |
StartedAt: 2019-10-16 09:32:52 -0400 (Wed, 16 Oct 2019) |
EndedAt: 2019-10-16 09:33:15 -0400 (Wed, 16 Oct 2019) |
EllapsedTime: 22.8 seconds |
RetCode: 0 |
Status: OK |
PackageFile: TPP2D_1.0.0.tgz |
PackageFileSize: 1.676 MiB |
############################################################################## ############################################################################## ### ### Running command: ### ### rm -rf TPP2D.buildbin-libdir && mkdir TPP2D.buildbin-libdir && /Users/biocbuild/BBS/utils/build-universal.sh TPP2D_1.0.0.tar.gz /Library/Frameworks/R.framework/Versions/Current/Resources/bin/R TPP2D.buildbin-libdir ### ############################################################################## ############################################################################## >>>>>>> >>>>>>> INSTALLATION WITH 'R CMD INSTALL --preclean --no-multiarch --library=TPP2D.buildbin-libdir TPP2D_1.0.0.tar.gz' >>>>>>> * installing *source* package ‘TPP2D’ ... ** using staged installation ** R ** data ** inst ** byte-compile and prepare package for lazy loading ** help *** installing help indices ** building package indices ** installing vignettes ** testing if installed package can be loaded from temporary location ** testing if installed package can be loaded from final location ** testing if installed package keeps a record of temporary installation path * DONE (TPP2D)