| Back to Multiple platform build/check report for BioC 3.9 | 
 | 
This page was generated on 2019-10-16 13:02:17 -0400 (Wed, 16 Oct 2019).
| Package 1643/1741 | Hostname | OS / Arch | INSTALL | BUILD | CHECK | BUILD BIN | ||||||
| TFutils 1.4.0 Shweta Gopaulakrishnan 
 | malbec2 | Linux (Ubuntu 18.04.2 LTS) / x86_64 | OK | OK | WARNINGS |  | ||||||
| tokay2 | Windows Server 2012 R2 Standard / x64 | OK | OK | WARNINGS | OK |  | ||||||
| celaya2 | OS X 10.11.6 El Capitan / x86_64 | OK | OK | WARNINGS | [ OK ] |  | 
| Package: TFutils | 
| Version: 1.4.0 | 
| Command: rm -rf TFutils.buildbin-libdir && mkdir TFutils.buildbin-libdir && /Users/biocbuild/BBS/utils/build-universal.sh TFutils_1.4.0.tar.gz /Library/Frameworks/R.framework/Versions/Current/Resources/bin/R TFutils.buildbin-libdir | 
| StartedAt: 2019-10-16 09:31:58 -0400 (Wed, 16 Oct 2019) | 
| EndedAt: 2019-10-16 09:32:18 -0400 (Wed, 16 Oct 2019) | 
| EllapsedTime: 20.1 seconds | 
| RetCode: 0 | 
| Status: OK | 
| PackageFile: TFutils_1.4.0.tgz | 
| PackageFileSize: 3.149 MiB | 
############################################################################## ############################################################################## ### ### Running command: ### ### rm -rf TFutils.buildbin-libdir && mkdir TFutils.buildbin-libdir && /Users/biocbuild/BBS/utils/build-universal.sh TFutils_1.4.0.tar.gz /Library/Frameworks/R.framework/Versions/Current/Resources/bin/R TFutils.buildbin-libdir ### ############################################################################## ############################################################################## >>>>>>> >>>>>>> INSTALLATION WITH 'R CMD INSTALL --preclean --no-multiarch --library=TFutils.buildbin-libdir TFutils_1.4.0.tar.gz' >>>>>>> * installing *source* package ‘TFutils’ ... ** using staged installation ** R ** data *** moving datasets to lazyload DB ** inst ** byte-compile and prepare package for lazy loading Warning: in method for ‘importFIMO’ with signature ‘"TabixFile","GRanges"’: no definition for classes “TabixFile”, “GRanges” ** help *** installing help indices ** building package indices ** installing vignettes ** testing if installed package can be loaded from temporary location ** testing if installed package can be loaded from final location ** testing if installed package keeps a record of temporary installation path * DONE (TFutils)