| Back to Multiple platform build/check report for BioC 3.9 |
|
This page was generated on 2019-10-16 12:43:30 -0400 (Wed, 16 Oct 2019).
| Package 1563/1741 | Hostname | OS / Arch | INSTALL | BUILD | CHECK | BUILD BIN | ||||||
| SpectralTAD 1.0.0 Kellen Cresswell
| malbec2 | Linux (Ubuntu 18.04.2 LTS) / x86_64 | OK | OK | OK | |||||||
| tokay2 | Windows Server 2012 R2 Standard / x64 | OK | OK | OK | [ OK ] | |||||||
| celaya2 | OS X 10.11.6 El Capitan / x86_64 | OK | OK | OK | OK |
| Package: SpectralTAD |
| Version: 1.0.0 |
| Command: rm -rf SpectralTAD.buildbin-libdir && mkdir SpectralTAD.buildbin-libdir && C:\Users\biocbuild\bbs-3.9-bioc\R\bin\R.exe CMD INSTALL --merge-multiarch --build --library=SpectralTAD.buildbin-libdir SpectralTAD_1.0.0.tar.gz |
| StartedAt: 2019-10-16 10:16:20 -0400 (Wed, 16 Oct 2019) |
| EndedAt: 2019-10-16 10:16:52 -0400 (Wed, 16 Oct 2019) |
| EllapsedTime: 31.6 seconds |
| RetCode: 0 |
| Status: OK |
| PackageFile: SpectralTAD_1.0.0.zip |
| PackageFileSize: 1.479 MiB |
##############################################################################
##############################################################################
###
### Running command:
###
### rm -rf SpectralTAD.buildbin-libdir && mkdir SpectralTAD.buildbin-libdir && C:\Users\biocbuild\bbs-3.9-bioc\R\bin\R.exe CMD INSTALL --merge-multiarch --build --library=SpectralTAD.buildbin-libdir SpectralTAD_1.0.0.tar.gz
###
##############################################################################
##############################################################################
install for i386
* installing *source* package 'SpectralTAD' ...
** using staged installation
** R
** data
** inst
** byte-compile and prepare package for lazy loading
** help
*** installing help indices
converting help for package 'SpectralTAD'
finding HTML links ... done
SpectralTAD html
SpectralTAD_Par html
rao_chr20_25_rep html
** building package indices
** installing vignettes
** testing if installed package can be loaded from temporary location
** testing if installed package can be loaded from final location
** testing if installed package keeps a record of temporary installation path
install for x64
* installing *source* package 'SpectralTAD' ...
** testing if installed package can be loaded
* MD5 sums
packaged installation of 'SpectralTAD' as SpectralTAD_1.0.0.zip
* DONE (SpectralTAD)